BEGIN:VCALENDAR
VERSION:2.0
PRODID:-//Pittwater Motor Enthusiasts Association - ECPv6.15.15//NONSGML v1.0//EN
CALSCALE:GREGORIAN
METHOD:PUBLISH
X-WR-CALNAME:Pittwater Motor Enthusiasts Association
X-ORIGINAL-URL:https://www.pittwatermotorclub.org.au
X-WR-CALDESC:Events for Pittwater Motor Enthusiasts Association
REFRESH-INTERVAL;VALUE=DURATION:PT1H
X-Robots-Tag:noindex
X-PUBLISHED-TTL:PT1H
BEGIN:VTIMEZONE
TZID:Australia/Sydney
BEGIN:STANDARD
TZOFFSETFROM:+1100
TZOFFSETTO:+1000
TZNAME:AEST
DTSTART:20220402T160000
END:STANDARD
BEGIN:DAYLIGHT
TZOFFSETFROM:+1000
TZOFFSETTO:+1100
TZNAME:AEDT
DTSTART:20221001T160000
END:DAYLIGHT
BEGIN:STANDARD
TZOFFSETFROM:+1100
TZOFFSETTO:+1000
TZNAME:AEST
DTSTART:20230401T160000
END:STANDARD
BEGIN:DAYLIGHT
TZOFFSETFROM:+1000
TZOFFSETTO:+1100
TZNAME:AEDT
DTSTART:20230930T160000
END:DAYLIGHT
BEGIN:STANDARD
TZOFFSETFROM:+1100
TZOFFSETTO:+1000
TZNAME:AEST
DTSTART:20240406T160000
END:STANDARD
BEGIN:DAYLIGHT
TZOFFSETFROM:+1000
TZOFFSETTO:+1100
TZNAME:AEDT
DTSTART:20241005T160000
END:DAYLIGHT
END:VTIMEZONE
BEGIN:VEVENT
DTSTART;TZID=Australia/Sydney:20230917T083000
DTEND;TZID=Australia/Sydney:20230917T150000
DTSTAMP:20260420T060404
CREATED:20211215T040703Z
LAST-MODIFIED:20230615T074439Z
UID:9604-1694939400-1694962800@www.pittwatermotorclub.org.au
SUMMARY:All British Day 2023\, The Kings School\, North Parramatta
DESCRIPTION:PMEA will again participate in the annual All British Display Day for 2023. Held annually within the various fields of the The Kings School. \nLargest display of classic British Marque cars in NSW.   \nThe All British Day dates back to October 1981 when the newly formed Austin Motor Vehicle Club staged a display of British Cars on the top floor of the Top Ryde Shopping Centre.  \nUp to 500 vehicles usually attend.  This is a highlight MUST DO on most British marque club’s calendars every year. \nFood and coffee for purchase on grounds\, however with large queues\, it is advisable to bring your own picnic lunch.  \nAn event not to be missed. \nMeet /Start: (Entrants and spectators)-Meet Mona Vale Library carpark at 7.15 a.m.. Depart 7.30am sharp.  \nAdditional pick up: outside Bunnings Belrose on Mona Vale Rd\, before slip road to Narabang Way. Depart 7.45 am.  \nAlternatively\, make your own way directly to the event in your own time. \nDeparture: NOT before 2.30pm \nNote: Delays occur at gate entry point and traffic back up along Pennant Hills Rd  if you arrive later than 8.30am. \nBooking: Definitely. Pre-sale tickets $10 in advance-PMEA Members Only. Contact David Pryce-Jones. \n***EXISTING TICKET HOLDERS THAT PAID FOR 2021-PMEA WILL HOLD YOUR ENTRY TICKET FOR THIS EVENT AND HAND OUT AT A MEETING CLOSER TO THIS DATE**** \nCan I turn up on the day and display my car? \nThe organisers understand some people will turn up on the day and want to show their British car. To do this you must enter via Mason's Drive and be in before 9.30am.  \nTickets at the gate are $15.00
URL:https://www.pittwatermotorclub.org.au/event/all-british-day-the-kings-school-north-parramatta-2/
LOCATION:All British Display Day\, The Kings School\, North Parramatta\, 87-129 Pennant Hills Rd\, North Parramatta\, NSW\, 2151\, Australia
CATEGORIES:BBQ or Picnic,Display Day
END:VEVENT
END:VCALENDAR