BEGIN:VCALENDAR
VERSION:2.0
PRODID:-//Pittwater Motor Enthusiasts Association - ECPv6.15.15//NONSGML v1.0//EN
CALSCALE:GREGORIAN
METHOD:PUBLISH
X-WR-CALNAME:Pittwater Motor Enthusiasts Association
X-ORIGINAL-URL:https://www.pittwatermotorclub.org.au
X-WR-CALDESC:Events for Pittwater Motor Enthusiasts Association
REFRESH-INTERVAL;VALUE=DURATION:PT1H
X-Robots-Tag:noindex
X-PUBLISHED-TTL:PT1H
BEGIN:VTIMEZONE
TZID:Australia/Sydney
BEGIN:STANDARD
TZOFFSETFROM:+1100
TZOFFSETTO:+1000
TZNAME:AEST
DTSTART:20220402T160000
END:STANDARD
BEGIN:DAYLIGHT
TZOFFSETFROM:+1000
TZOFFSETTO:+1100
TZNAME:AEDT
DTSTART:20221001T160000
END:DAYLIGHT
BEGIN:STANDARD
TZOFFSETFROM:+1100
TZOFFSETTO:+1000
TZNAME:AEST
DTSTART:20230401T160000
END:STANDARD
BEGIN:DAYLIGHT
TZOFFSETFROM:+1000
TZOFFSETTO:+1100
TZNAME:AEDT
DTSTART:20230930T160000
END:DAYLIGHT
BEGIN:STANDARD
TZOFFSETFROM:+1100
TZOFFSETTO:+1000
TZNAME:AEST
DTSTART:20240406T160000
END:STANDARD
BEGIN:DAYLIGHT
TZOFFSETFROM:+1000
TZOFFSETTO:+1100
TZNAME:AEDT
DTSTART:20241005T160000
END:DAYLIGHT
END:VTIMEZONE
BEGIN:VEVENT
DTSTART;TZID=Australia/Sydney:20230423T080000
DTEND;TZID=Australia/Sydney:20230423T110000
DTSTAMP:20260421T072706
CREATED:20221228T043903Z
LAST-MODIFIED:20230422T040500Z
UID:16810-1682236800-1682247600@www.pittwatermotorclub.org.au
SUMMARY:American Vehicles - Big Day Out BBQ
DESCRIPTION:Join us as part of our regular club display BBQ’s\, this time feature American vehicles. \nThere is a 'People's Choice' Award and prizes available for 1st\, 2nd and 3rd place. \nThis is always well attended and very enjoyable. The club will supply all food and you only need to bring your own chairs\, plates\, mugs and utensils. \nThe club will have Raffle prizes available on the day for a small donation. \nBe sure also to put your name on the Michael Andrews Memorial Trophy attendance sheet. Extra points if you bring your classic car or bike! \nMeet /Start: Go directly to McCarr's Creek Reserve. \nDeparture: At your leisure \nCost: Voluntary $2 gold coin for Raffle tickets. \nNote: Plenty of free parking. \nBooking: ESSENTIAL for catering purposes PLEASE !!!!
URL:https://www.pittwatermotorclub.org.au/event/american-vehicles-big-day-out-bbq-2/
LOCATION:McCarrs Creek Reserve\, McCarrs Creek Reserve\, Church Point\, New South Wales\, Australia
CATEGORIES:BBQ or Picnic,Display Day
ORGANIZER;CN="President & Events - David Cawthorn":MAILTO:president2022pmea@gmail.com
END:VEVENT
END:VCALENDAR