BEGIN:VCALENDAR
VERSION:2.0
PRODID:-//Pittwater Motor Enthusiasts Association - ECPv6.15.15//NONSGML v1.0//EN
CALSCALE:GREGORIAN
METHOD:PUBLISH
X-WR-CALNAME:Pittwater Motor Enthusiasts Association
X-ORIGINAL-URL:https://www.pittwatermotorclub.org.au
X-WR-CALDESC:Events for Pittwater Motor Enthusiasts Association
REFRESH-INTERVAL;VALUE=DURATION:PT1H
X-Robots-Tag:noindex
X-PUBLISHED-TTL:PT1H
BEGIN:VTIMEZONE
TZID:Australia/Sydney
BEGIN:STANDARD
TZOFFSETFROM:+1100
TZOFFSETTO:+1000
TZNAME:AEST
DTSTART:20230401T160000
END:STANDARD
BEGIN:DAYLIGHT
TZOFFSETFROM:+1000
TZOFFSETTO:+1100
TZNAME:AEDT
DTSTART:20230930T160000
END:DAYLIGHT
BEGIN:STANDARD
TZOFFSETFROM:+1100
TZOFFSETTO:+1000
TZNAME:AEST
DTSTART:20240406T160000
END:STANDARD
BEGIN:DAYLIGHT
TZOFFSETFROM:+1000
TZOFFSETTO:+1100
TZNAME:AEDT
DTSTART:20241005T160000
END:DAYLIGHT
BEGIN:STANDARD
TZOFFSETFROM:+1100
TZOFFSETTO:+1000
TZNAME:AEST
DTSTART:20250405T160000
END:STANDARD
BEGIN:DAYLIGHT
TZOFFSETFROM:+1000
TZOFFSETTO:+1100
TZNAME:AEDT
DTSTART:20251004T160000
END:DAYLIGHT
END:VTIMEZONE
BEGIN:VEVENT
DTSTART;TZID=Australia/Sydney:20240421T080000
DTEND;TZID=Australia/Sydney:20240421T110000
DTSTAMP:20260420T230457
CREATED:20240206T022336Z
LAST-MODIFIED:20240418T010639Z
UID:23717-1713686400-1713697200@www.pittwatermotorclub.org.au
SUMMARY:American Vehicles - Big Day Out BBQ
DESCRIPTION:Join us as part of our regular club display BBQ’s\, this time feature American vehicles.  \nThere is a 'People's Choice' Award for 1st Place\, with a trophy and prize  available to the winner\, please make sure you vote for your favourite vehicle. \nThis is always well attended and very enjoyable. The club will supply all food and you only need to bring your own chairs\, plates\, mugs and utensils. \nThe club will make available Raffle prizes on the day. \n  \nMeet /Start: From 8.00 a.m. Go directly to McCarr's Creek Reserve. \nCost:  $5 per person. Please note: If you have not paid and signed on\, you will be ineligible for the raffle prize draw. \nPMEA Members and their invited guests ONLY.  \nNote: Plenty of free parking. \nBooking: ESSENTIAL for catering purposes PLEASE !!!! \nDeparture: At your leisure
URL:https://www.pittwatermotorclub.org.au/event/american-vehicles-big-day-out-bbq-3/
LOCATION:McCarrs Creek Reserve\, McCarrs Creek Reserve\, Church Point\, New South Wales\, Australia
CATEGORIES:BBQ or Picnic,Display Day
ATTACH;FMTTYPE=image/jpeg:https://www.pittwatermotorclub.org.au/wp-content/uploads/2021/08/THE-GOOD-OLD-DAYS.jpg
ORGANIZER;CN="President & Events - David Cawthorn":MAILTO:president2022pmea@gmail.com
END:VEVENT
END:VCALENDAR