BEGIN:VCALENDAR
VERSION:2.0
PRODID:-//Pittwater Motor Enthusiasts Association - ECPv6.15.15//NONSGML v1.0//EN
CALSCALE:GREGORIAN
METHOD:PUBLISH
X-WR-CALNAME:Pittwater Motor Enthusiasts Association
X-ORIGINAL-URL:https://www.pittwatermotorclub.org.au
X-WR-CALDESC:Events for Pittwater Motor Enthusiasts Association
REFRESH-INTERVAL;VALUE=DURATION:PT1H
X-Robots-Tag:noindex
X-PUBLISHED-TTL:PT1H
BEGIN:VTIMEZONE
TZID:Australia/Sydney
BEGIN:STANDARD
TZOFFSETFROM:+1100
TZOFFSETTO:+1000
TZNAME:AEST
DTSTART:20220402T160000
END:STANDARD
BEGIN:DAYLIGHT
TZOFFSETFROM:+1000
TZOFFSETTO:+1100
TZNAME:AEDT
DTSTART:20221001T160000
END:DAYLIGHT
BEGIN:STANDARD
TZOFFSETFROM:+1100
TZOFFSETTO:+1000
TZNAME:AEST
DTSTART:20230401T160000
END:STANDARD
BEGIN:DAYLIGHT
TZOFFSETFROM:+1000
TZOFFSETTO:+1100
TZNAME:AEDT
DTSTART:20230930T160000
END:DAYLIGHT
BEGIN:STANDARD
TZOFFSETFROM:+1100
TZOFFSETTO:+1000
TZNAME:AEST
DTSTART:20240406T160000
END:STANDARD
BEGIN:DAYLIGHT
TZOFFSETFROM:+1000
TZOFFSETTO:+1100
TZNAME:AEDT
DTSTART:20241005T160000
END:DAYLIGHT
END:VTIMEZONE
BEGIN:VEVENT
DTSTART;TZID=Australia/Sydney:20230711T190000
DTEND;TZID=Australia/Sydney:20230711T210000
DTSTAMP:20260422T143310
CREATED:20230407T060149Z
LAST-MODIFIED:20230629T073737Z
UID:17848-1689102000-1689109200@www.pittwatermotorclub.org.au
SUMMARY:Annual AGM & Awards Presentation\, General Meeting & Regalia - Pittwater RSL
DESCRIPTION:****THIS MEETING ONLY WILL START AT THE EARLIER TIME OF 7PM**** \nPlease come along to our annual AGM where PMEA will be presenting our Annual Awards: \n\nMember Of The Year Award\nAlastair Browne Life Member Award\nMichael Andrews Memorial Trophy (MAT) Winner\, plus runner up and 3rd place \nMultiple Appreciation Awards\n\nThere will also be election of the new PMEA Committee.  \nFollowing the AGM\, we will then hold our normal meeting\, which will also feature presentation of PMEA club regalia. \nPolo shirts\, T-shirts\, fleecy tops and zip up jackets\, sleeveless soft-shell vests and caps will be available and to order on the night. \nPlease then join us for complimentary canapés in the funky award winning Monkey Bun bar area after the meeting. PLEASE RSVP for catering purposes. \nMembers may also purchase beverages and coffee at the main bar at very reasonable club prices. \nThis meeting your club will also be offering extra raffle ticket prizes on the night. Cost of raffle tickets are $5.00 each and collected upon room entry. \n 
URL:https://www.pittwatermotorclub.org.au/event/annual-agm-awards-presentation-and-general-meeting-pittwater-rsl/
LOCATION:Pittwater RSL\, 82 Mona Vale Rd\, Mona Vale\, NSW\, 2103\, Australia
ORGANIZER;CN="PMEA - President - David Cawthorn":MAILTO:president2022pmea@gmail.com
END:VEVENT
END:VCALENDAR