BEGIN:VCALENDAR
VERSION:2.0
PRODID:-//Pittwater Motor Enthusiasts Association - ECPv6.15.15//NONSGML v1.0//EN
CALSCALE:GREGORIAN
METHOD:PUBLISH
X-WR-CALNAME:Pittwater Motor Enthusiasts Association
X-ORIGINAL-URL:https://www.pittwatermotorclub.org.au
X-WR-CALDESC:Events for Pittwater Motor Enthusiasts Association
REFRESH-INTERVAL;VALUE=DURATION:PT1H
X-Robots-Tag:noindex
X-PUBLISHED-TTL:PT1H
BEGIN:VTIMEZONE
TZID:Australia/Sydney
BEGIN:STANDARD
TZOFFSETFROM:+1100
TZOFFSETTO:+1000
TZNAME:AEST
DTSTART:20210403T160000
END:STANDARD
BEGIN:DAYLIGHT
TZOFFSETFROM:+1000
TZOFFSETTO:+1100
TZNAME:AEDT
DTSTART:20211002T160000
END:DAYLIGHT
BEGIN:STANDARD
TZOFFSETFROM:+1100
TZOFFSETTO:+1000
TZNAME:AEST
DTSTART:20220402T160000
END:STANDARD
BEGIN:DAYLIGHT
TZOFFSETFROM:+1000
TZOFFSETTO:+1100
TZNAME:AEDT
DTSTART:20221001T160000
END:DAYLIGHT
BEGIN:STANDARD
TZOFFSETFROM:+1100
TZOFFSETTO:+1000
TZNAME:AEST
DTSTART:20230401T160000
END:STANDARD
BEGIN:DAYLIGHT
TZOFFSETFROM:+1000
TZOFFSETTO:+1100
TZNAME:AEDT
DTSTART:20230930T160000
END:DAYLIGHT
END:VTIMEZONE
BEGIN:VEVENT
DTSTART;TZID=Australia/Sydney:20220605T080000
DTEND;TZID=Australia/Sydney:20220605T110000
DTSTAMP:20260424T060956
CREATED:20220223T052911Z
LAST-MODIFIED:20220311T010751Z
UID:13090-1654416000-1654426800@www.pittwatermotorclub.org.au
SUMMARY:Bella Vista Café\, North Head
DESCRIPTION:Formally North Fort Cafe\, this popular scenic cafe is now called Bella Vista. \nWonderful district views towards South Head and the harbour. Large undercover deck and seating outside with umbrellas. Small amount of inside tables as well. \nOnce you have arrived\, please select a table and order inside. There is no table service. \nMeet /Start: Meet 7.45am Mona Vale Library carpark. Depart 8.00am sharp. We travel via Wakehurst Parkway through Oxford Falls and Seaforth to destination. \n*Wakehurst Parkway: additional pick up point for those on the lower beaches\, Dreadnought Rd Oxford Falls (outside Oxford Falls Peace Park-the older Xmas party place). We will watch for the cars to go past and then catch up. Departure from here approximately 8.20am. \nDeparture: At your leisure \nCost: Individual payment at venue \nNote: Plenty of free parking in the carpark\, through the gates\, behind the cafe.  \nBooking: Essential
URL:https://www.pittwatermotorclub.org.au/event/bella-vista-cafe-north-head/
LOCATION:Wharf Cafe\, Q-Station\, Sydney Harbour National Park-North Head\, N Head Scenic Drive\, North Head\, NSW\, 2095\, Australia
CATEGORIES:Cafe or Restaurant
ATTACH;FMTTYPE=image/jpeg:https://www.pittwatermotorclub.org.au/wp-content/uploads/2022/02/Bella-Main.jpg
ORGANIZER;CN="President & Events - David Cawthorn":MAILTO:president2022pmea@gmail.com
END:VEVENT
END:VCALENDAR