BEGIN:VCALENDAR
VERSION:2.0
PRODID:-//Pittwater Motor Enthusiasts Association - ECPv6.15.15//NONSGML v1.0//EN
CALSCALE:GREGORIAN
METHOD:PUBLISH
X-WR-CALNAME:Pittwater Motor Enthusiasts Association
X-ORIGINAL-URL:https://www.pittwatermotorclub.org.au
X-WR-CALDESC:Events for Pittwater Motor Enthusiasts Association
REFRESH-INTERVAL;VALUE=DURATION:PT1H
X-Robots-Tag:noindex
X-PUBLISHED-TTL:PT1H
BEGIN:VTIMEZONE
TZID:Australia/Sydney
BEGIN:STANDARD
TZOFFSETFROM:+1100
TZOFFSETTO:+1000
TZNAME:AEST
DTSTART:20220402T160000
END:STANDARD
BEGIN:DAYLIGHT
TZOFFSETFROM:+1000
TZOFFSETTO:+1100
TZNAME:AEDT
DTSTART:20221001T160000
END:DAYLIGHT
BEGIN:STANDARD
TZOFFSETFROM:+1100
TZOFFSETTO:+1000
TZNAME:AEST
DTSTART:20230401T160000
END:STANDARD
BEGIN:DAYLIGHT
TZOFFSETFROM:+1000
TZOFFSETTO:+1100
TZNAME:AEDT
DTSTART:20230930T160000
END:DAYLIGHT
BEGIN:STANDARD
TZOFFSETFROM:+1100
TZOFFSETTO:+1000
TZNAME:AEST
DTSTART:20240406T160000
END:STANDARD
BEGIN:DAYLIGHT
TZOFFSETFROM:+1000
TZOFFSETTO:+1100
TZNAME:AEDT
DTSTART:20241005T160000
END:DAYLIGHT
END:VTIMEZONE
BEGIN:VEVENT
DTSTART;TZID=Australia/Sydney:20230209T080000
DTEND;TZID=Australia/Sydney:20230212T170000
DTSTAMP:20260420T135945
CREATED:20220722T073428Z
LAST-MODIFIED:20230201T060834Z
UID:15074-1675929600-1676221200@www.pittwatermotorclub.org.au
SUMMARY:Central West NSW Discovery Tour\, Featuring 'Gnoo Blas' Car Show
DESCRIPTION:****PLEASE NOTE: THIS TOUR IS NOW FULLY BOOKED AND CLOSED OFF. PARTICIPANTS WANTING TO DISPLAY IN THE GNOO BLAS CAR SHOW SHOULD HAVE ALREADY ENTERED. PARTICIPANTS WHO ARE ALSO ATTENDING THE GNOO BLAS DINNER SHOULD ALSO HAVE ALREADY PAID AND SUBMITTED THEIR ATTENDANCE. \nPLEASE CONTACT THE PRESIDENT DAVID CAWTHORN SHOULD YOU HAVE ANY QUERIES***** \nOur next PMEA regional trip\, this time to the Central West of NSW and the township of Orange\, where our members will partake in the Gnoo Blas Car Show. \nThe show is held on Saturday\, 11th February 2023 and has become one of the largest car shows on the annual calendar.  \nMembers are encouraged to attend in their classic vehicles.  \nOn Friday 10th February\, we will be driving along some wonderful scenic country rural roads visiting some nearby villages and towns such as Canowindra and Carcoar.  \nThe itinerary is now available. Please see full itinerary below: \nItinerary Orange:Central West 9-12FEB23-V4 \nParticipants: Please note that map details with route sections will be given out on the day of departure in the carpark of the meeting place. \nParticipants: Please print out the above itinerary and bring it with you!! \nMotel (apartment style) reservations have been made in advance. Apartments have kitchen facilities.  \nPMEA are holding 25 rooms for 3 nights\, In Thursday 9th February/Out Sunday 12th February at Summer East Serviced Apartments\, 399 Summer St Orange. Rate is $145 single/double per night. There is security off street parking and the complex is in a very quiet area\, within walking distance to CBD shops and restaurants. Please view the link below for more information.  \nSummer East Serviced Apartments \n**UPDATE 1st February 2023-  we now have 45 participants and 22 rooms taken. \n Please note: The property cancellation policy is at least 48 hours prior\, should you need to cancel your own booking. Cancellations are the responsibility of the participant. \nFor further information on Gnoo Blas 2023 Car Show and video\, please see below link: \nGnooblas.com \nFor those who plan to exhibit at the Gnoo Blas Car Show\, please see below link for the entry form and complete your registration. Entry fee $20. There will be approximately 30 trophys being offered across many display categories. \nPlease ensure when you complete your form to advise you will be displaying under "PMEA"\, so all of our club vehicles will be allocated space together. You can do this under 'vehicle 2' on the entry page. \nGnoo Blas Car Show Entry Form \nGnoo Blas Celebration Dinner\, Saturday 11th February\, will be held at the Waratah Sports Club in Orange from 6.30pm-11pm. Cost is $49.50 for main and desert.  You will need to pre-book and pay in advance\, hurry as space is limited! When booking\, make sure you mention PMEA as your car club\, so we will be allocated seating together.  \nGuest speakers include racing driver Sue Ransom and Grant Denyer.  \nPlease see below link to pre-book and pay for the dinner: \nGnoo Blas Presentation Dinner \nFor further information on Orange and nearby towns\, see Orange 360.com below link: \nOrange 360 \n  \n  \n 
URL:https://www.pittwatermotorclub.org.au/event/central-west-nsw-discovery-tour-featuring-gnoo-blas-car-show/
CATEGORIES:Display Day,Regional NSW PMEA Trip
ORGANIZER;CN="President and Events - David Cawthorn":MAILTO:president2022pmea@gmail.com
END:VEVENT
END:VCALENDAR