BEGIN:VCALENDAR
VERSION:2.0
PRODID:-//Pittwater Motor Enthusiasts Association - ECPv6.15.15//NONSGML v1.0//EN
CALSCALE:GREGORIAN
METHOD:PUBLISH
X-WR-CALNAME:Pittwater Motor Enthusiasts Association
X-ORIGINAL-URL:https://www.pittwatermotorclub.org.au
X-WR-CALDESC:Events for Pittwater Motor Enthusiasts Association
REFRESH-INTERVAL;VALUE=DURATION:PT1H
X-Robots-Tag:noindex
X-PUBLISHED-TTL:PT1H
BEGIN:VTIMEZONE
TZID:Australia/Sydney
BEGIN:STANDARD
TZOFFSETFROM:+1100
TZOFFSETTO:+1000
TZNAME:AEST
DTSTART:20230401T160000
END:STANDARD
BEGIN:DAYLIGHT
TZOFFSETFROM:+1000
TZOFFSETTO:+1100
TZNAME:AEDT
DTSTART:20230930T160000
END:DAYLIGHT
BEGIN:STANDARD
TZOFFSETFROM:+1100
TZOFFSETTO:+1000
TZNAME:AEST
DTSTART:20240406T160000
END:STANDARD
BEGIN:DAYLIGHT
TZOFFSETFROM:+1000
TZOFFSETTO:+1100
TZNAME:AEDT
DTSTART:20241005T160000
END:DAYLIGHT
BEGIN:STANDARD
TZOFFSETFROM:+1100
TZOFFSETTO:+1000
TZNAME:AEST
DTSTART:20250405T160000
END:STANDARD
BEGIN:DAYLIGHT
TZOFFSETFROM:+1000
TZOFFSETTO:+1100
TZNAME:AEDT
DTSTART:20251004T160000
END:DAYLIGHT
END:VTIMEZONE
BEGIN:VEVENT
DTSTART;TZID=Australia/Sydney:20240811T080000
DTEND;TZID=Australia/Sydney:20240811T110000
DTSTAMP:20260420T160238
CREATED:20240726T020113Z
LAST-MODIFIED:20240726T020502Z
UID:24853-1723363200-1723374000@www.pittwatermotorclub.org.au
SUMMARY:Corrugated Cafe\, Peats Ridge Village
DESCRIPTION:Relaxed longer drive to the village of Peats Ridge for our PMEA members wanting to get out of town and enjoy a rural drive.  \nCorrugated Cafe is a popular destination for car clubs and has plenty of tables both inside and outside. Car parking is plentiful and there is also an Ampol service station in the village if you need to top up with fuel. \nOnce off the M1\, Peats Ridge Rd has little traffic. Return journey can be via Calga and the Old Pacific Highway if you prefer a different route home. \nClick Here for Driving Route Map and further loction photos \nMeet /Start: Meet 7.45am Mona Vale Library carpark. Depart 8.00am sharp!!. We travel via Mona Vale Rd through St Ives\, Telegraph Rd Pymble through to Pacific Hwy\, then M1 to Calga/Peats Ridge turn off\, then Peats Ridge Rd to destination.  \nGoogle drive times: Approximately 1 hr 15min. Distance is approximately 75km.  \n*Additional pick up: outside Bunnings Belrose on Mona Vale Rd\, before slip road to Narabang Way. Depart 8.15 am sharp!! \nCafe Booking Time:  0930 a.m. for 25-30 persons. \nCost:  $5 per person. Please note: If you have not paid and signed on\, you will be ineligible for the raffle prize draw and MAT award points. \nPMEA Members and their invited guests ONLY.  \nIndividual payment at cafe for own consumption of food and beverages. \nBooking: Please RSVP as soon as possible! \nDeparture: At your leisure
URL:https://www.pittwatermotorclub.org.au/event/corrugated-cafe-peats-ridge-village/
LOCATION:47 Oaks Cafe\, Peats Ridge Village\, 780 Peats Ridge Rd\, Peats Ridge\, NSW\, 2250\, Australia
CATEGORIES:Cafe or Restaurant
ORGANIZER;CN="President and Events - David Cawthorn":MAILTO:president2022pmea@gmail.com
END:VEVENT
END:VCALENDAR