BEGIN:VCALENDAR
VERSION:2.0
PRODID:-//Pittwater Motor Enthusiasts Association - ECPv6.15.15//NONSGML v1.0//EN
CALSCALE:GREGORIAN
METHOD:PUBLISH
X-WR-CALNAME:Pittwater Motor Enthusiasts Association
X-ORIGINAL-URL:https://www.pittwatermotorclub.org.au
X-WR-CALDESC:Events for Pittwater Motor Enthusiasts Association
REFRESH-INTERVAL;VALUE=DURATION:PT1H
X-Robots-Tag:noindex
X-PUBLISHED-TTL:PT1H
BEGIN:VTIMEZONE
TZID:Australia/Sydney
BEGIN:STANDARD
TZOFFSETFROM:+1100
TZOFFSETTO:+1000
TZNAME:AEST
DTSTART:20210403T160000
END:STANDARD
BEGIN:DAYLIGHT
TZOFFSETFROM:+1000
TZOFFSETTO:+1100
TZNAME:AEDT
DTSTART:20211002T160000
END:DAYLIGHT
BEGIN:STANDARD
TZOFFSETFROM:+1100
TZOFFSETTO:+1000
TZNAME:AEST
DTSTART:20220402T160000
END:STANDARD
BEGIN:DAYLIGHT
TZOFFSETFROM:+1000
TZOFFSETTO:+1100
TZNAME:AEDT
DTSTART:20221001T160000
END:DAYLIGHT
BEGIN:STANDARD
TZOFFSETFROM:+1100
TZOFFSETTO:+1000
TZNAME:AEST
DTSTART:20230401T160000
END:STANDARD
BEGIN:DAYLIGHT
TZOFFSETFROM:+1000
TZOFFSETTO:+1100
TZNAME:AEDT
DTSTART:20230930T160000
END:DAYLIGHT
END:VTIMEZONE
BEGIN:VEVENT
DTSTART;TZID=Australia/Sydney:20220508T080000
DTEND;TZID=Australia/Sydney:20220508T110000
DTSTAMP:20260426T111814
CREATED:20211227T230808Z
LAST-MODIFIED:20220423T074557Z
UID:11663-1651996800-1652007600@www.pittwatermotorclub.org.au
SUMMARY:European & Japanese Vehicles Big Day Out BBQ
DESCRIPTION:Join us as part of our regular club display BBQ’s\, this time feature European and Japanese cars and bikes. \nThis is always well attended and very enjoyable. The club will supply all food and you only need to bring your own chairs\, plates and utensils. \nThe club will have Raffle prizes available on the day. \nBe sure also to put your name on the Michael Andrews Memorial Trophy attendance sheet. \nMeet /Start: Go directly to McCarr's Creek Reserve. \nDeparture: At your leisure \nCost: Voluntary $2 gold coin for Raffle tickets. \nNote: Plenty of free parking. \nBooking: ESSENTIAL for catering purposes
URL:https://www.pittwatermotorclub.org.au/event/european-vehicles-big-day-out-bbq-2/
LOCATION:McCarrs Creek Reserve\, McCarrs Creek Reserve\, Church Point\, New South Wales\, Australia
CATEGORIES:BBQ or Picnic,Display Day
END:VEVENT
END:VCALENDAR