BEGIN:VCALENDAR
VERSION:2.0
PRODID:-//Pittwater Motor Enthusiasts Association - ECPv6.15.15//NONSGML v1.0//EN
CALSCALE:GREGORIAN
METHOD:PUBLISH
X-WR-CALNAME:Pittwater Motor Enthusiasts Association
X-ORIGINAL-URL:https://www.pittwatermotorclub.org.au
X-WR-CALDESC:Events for Pittwater Motor Enthusiasts Association
REFRESH-INTERVAL;VALUE=DURATION:PT1H
X-Robots-Tag:noindex
X-PUBLISHED-TTL:PT1H
BEGIN:VTIMEZONE
TZID:Australia/Sydney
BEGIN:STANDARD
TZOFFSETFROM:+1100
TZOFFSETTO:+1000
TZNAME:AEST
DTSTART:20220402T160000
END:STANDARD
BEGIN:DAYLIGHT
TZOFFSETFROM:+1000
TZOFFSETTO:+1100
TZNAME:AEDT
DTSTART:20221001T160000
END:DAYLIGHT
BEGIN:STANDARD
TZOFFSETFROM:+1100
TZOFFSETTO:+1000
TZNAME:AEST
DTSTART:20230401T160000
END:STANDARD
BEGIN:DAYLIGHT
TZOFFSETFROM:+1000
TZOFFSETTO:+1100
TZNAME:AEDT
DTSTART:20230930T160000
END:DAYLIGHT
BEGIN:STANDARD
TZOFFSETFROM:+1100
TZOFFSETTO:+1000
TZNAME:AEST
DTSTART:20240406T160000
END:STANDARD
BEGIN:DAYLIGHT
TZOFFSETFROM:+1000
TZOFFSETTO:+1100
TZNAME:AEDT
DTSTART:20241005T160000
END:DAYLIGHT
END:VTIMEZONE
BEGIN:VEVENT
DTSTART;TZID=Australia/Sydney:20230530T193000
DTEND;TZID=Australia/Sydney:20230530T210000
DTSTAMP:20260421T111732
CREATED:20230407T052853Z
LAST-MODIFIED:20230524T033512Z
UID:17880-1685475000-1685480400@www.pittwatermotorclub.org.au
SUMMARY:Special General Meeting - The Smash Repair Industry -Pittwater RSL
DESCRIPTION:Tonight we will have a slightly extended meeting as we are having a special discussion on ‘The Smash Repair Industry’. \nAll members are invited to join in the discussion.  \nGeneral Meetings are held every fortnight on Tuesday evenings\, commencing at 7.30pm and run for approximately 1 hour to 1 hour 15mins. \nNew members and visitors welcome. Free parking is available in the general car park. \nJoin us for complimentary canapés in the funky award winning Monkey Bun bar area after the meeting.  \nMembers may also purchase beverages at the main bar at very reasonable club prices.
URL:https://www.pittwatermotorclub.org.au/event/general-meeting-pittwater-rsl-2/
LOCATION:Pittwater RSL\, 82 Mona Vale Rd\, Mona Vale\, NSW\, 2103\, Australia
ATTACH;FMTTYPE=image/jpeg:https://www.pittwatermotorclub.org.au/wp-content/uploads/2023/04/Pittwater-RSL-Aerial.jpeg
ORGANIZER;CN="President and Events - David Cawthorn":MAILTO:president2022pmea@gmail.com
END:VEVENT
END:VCALENDAR