BEGIN:VCALENDAR
VERSION:2.0
PRODID:-//Pittwater Motor Enthusiasts Association - ECPv6.15.15//NONSGML v1.0//EN
CALSCALE:GREGORIAN
METHOD:PUBLISH
X-WR-CALNAME:Pittwater Motor Enthusiasts Association
X-ORIGINAL-URL:https://www.pittwatermotorclub.org.au
X-WR-CALDESC:Events for Pittwater Motor Enthusiasts Association
REFRESH-INTERVAL;VALUE=DURATION:PT1H
X-Robots-Tag:noindex
X-PUBLISHED-TTL:PT1H
BEGIN:VTIMEZONE
TZID:Australia/Sydney
BEGIN:STANDARD
TZOFFSETFROM:+1100
TZOFFSETTO:+1000
TZNAME:AEST
DTSTART:20230401T160000
END:STANDARD
BEGIN:DAYLIGHT
TZOFFSETFROM:+1000
TZOFFSETTO:+1100
TZNAME:AEDT
DTSTART:20230930T160000
END:DAYLIGHT
BEGIN:STANDARD
TZOFFSETFROM:+1100
TZOFFSETTO:+1000
TZNAME:AEST
DTSTART:20240406T160000
END:STANDARD
BEGIN:DAYLIGHT
TZOFFSETFROM:+1000
TZOFFSETTO:+1100
TZNAME:AEDT
DTSTART:20241005T160000
END:DAYLIGHT
BEGIN:STANDARD
TZOFFSETFROM:+1100
TZOFFSETTO:+1000
TZNAME:AEST
DTSTART:20250405T160000
END:STANDARD
BEGIN:DAYLIGHT
TZOFFSETFROM:+1000
TZOFFSETTO:+1100
TZNAME:AEDT
DTSTART:20251004T160000
END:DAYLIGHT
END:VTIMEZONE
BEGIN:VEVENT
DTSTART;TZID=Australia/Sydney:20240903T193000
DTEND;TZID=Australia/Sydney:20240903T210000
DTSTAMP:20260420T032219
CREATED:20240313T045349Z
LAST-MODIFIED:20240822T070113Z
UID:23935-1725391800-1725397200@www.pittwatermotorclub.org.au
SUMMARY:General Meeting \, Regalia & **Special Member Interview**- Pittwater RSL
DESCRIPTION:This meeting we will be entertained by member Ray Henman who will take you on a historic tour of the first garage in Palm Beach\,  along with photo’s and car stories of the peninsula of the past. He joined the BBC in 1965 and for 10 years in the UK worked with David Attenborough for 5 years and filmed Queen Elizabeth's Xmas Message for 7 years. Interview conducted by member David Rundle. \nThis meeting will also feature presentation of PMEA club regalia.  \nPolo shirts\, T-shirts\, fleecy tops and zip up jackets\, sleeveless soft-shell vests and caps will be available to order on the night.  \nGeneral Meetings are held every fortnight on Tuesday evenings\, commencing at 7.30pm and run for approximately 1 hour to 1 hour 15mins. \nNew members and visitors welcome. Free parking is available in the general car park. \nJoin us for social drinks in the funky 'Bocado' bar area after the meeting.  \nMembers may purchase beverages at the main bar at very reasonable club prices. \n 
URL:https://www.pittwatermotorclub.org.au/event/general-meeting-regalia-pittwater-rsl-2/
LOCATION:Pittwater RSL\, 82 Mona Vale Rd\, Mona Vale\, NSW\, 2103\, Australia
CATEGORIES:Interview
ATTACH;FMTTYPE=image/jpeg:https://www.pittwatermotorclub.org.au/wp-content/uploads/2023/04/Pittwater-RSL-Aerial.jpeg
ORGANIZER;CN="President and Events - David Cawthorn":MAILTO:president2022pmea@gmail.com
END:VEVENT
END:VCALENDAR