BEGIN:VCALENDAR
VERSION:2.0
PRODID:-//Pittwater Motor Enthusiasts Association - ECPv6.15.15//NONSGML v1.0//EN
CALSCALE:GREGORIAN
METHOD:PUBLISH
X-WR-CALNAME:Pittwater Motor Enthusiasts Association
X-ORIGINAL-URL:https://www.pittwatermotorclub.org.au
X-WR-CALDESC:Events for Pittwater Motor Enthusiasts Association
REFRESH-INTERVAL;VALUE=DURATION:PT1H
X-Robots-Tag:noindex
X-PUBLISHED-TTL:PT1H
BEGIN:VTIMEZONE
TZID:Australia/Sydney
BEGIN:STANDARD
TZOFFSETFROM:+1100
TZOFFSETTO:+1000
TZNAME:AEST
DTSTART:20210403T160000
END:STANDARD
BEGIN:DAYLIGHT
TZOFFSETFROM:+1000
TZOFFSETTO:+1100
TZNAME:AEDT
DTSTART:20211002T160000
END:DAYLIGHT
BEGIN:STANDARD
TZOFFSETFROM:+1100
TZOFFSETTO:+1000
TZNAME:AEST
DTSTART:20220402T160000
END:STANDARD
BEGIN:DAYLIGHT
TZOFFSETFROM:+1000
TZOFFSETTO:+1100
TZNAME:AEDT
DTSTART:20221001T160000
END:DAYLIGHT
BEGIN:STANDARD
TZOFFSETFROM:+1100
TZOFFSETTO:+1000
TZNAME:AEST
DTSTART:20230401T160000
END:STANDARD
BEGIN:DAYLIGHT
TZOFFSETFROM:+1000
TZOFFSETTO:+1100
TZNAME:AEDT
DTSTART:20230930T160000
END:DAYLIGHT
END:VTIMEZONE
BEGIN:VEVENT
DTSTART;TZID=Australia/Sydney:20220713T190000
DTEND;TZID=Australia/Sydney:20220713T210000
DTSTAMP:20260424T130639
CREATED:20211129T233607Z
LAST-MODIFIED:20220613T075441Z
UID:11263-1657738800-1657746000@www.pittwatermotorclub.org.au
SUMMARY:Annual AGM & Awards Presentation
DESCRIPTION:****THIS MEETING ONLY WILL START AT THE EARLIER TIME OF 7PM**** \nPlease come along to our annual AGM where PMEA will be presenting our Annual Awards: \n\nMember Of The Year\nLife Member\nMichael Andrews Memorial Trophy (MAT) Winner\, plus runner up and 3rd place \nMultiple Appreciation Awards\n\nThere will also be election of the new PMEA Committee. \nAfterwards\, we will have complimentary refreshments and coffee/tea in the downstairs bar after the meeting. \nThis meeting your club will also be offering extra raffle ticket prizes on the night. Cost of raffle tickets are $5.00 each and in the event of your ticket being drawn it goes back into the bucket again\, so multiple chances to win win win!!!! \n 
URL:https://www.pittwatermotorclub.org.au/event/general-meeting-rmyc-29/
LOCATION:Royal Motor Yacht Club (RMYC)\, 46 Prince Alfred Parade\, Newport\, New South Wales\, Australia
ORGANIZER;CN="PMEA - President - David Cawthorn":MAILTO:president2022pmea@gmail.com
END:VEVENT
END:VCALENDAR