BEGIN:VCALENDAR
VERSION:2.0
PRODID:-//Pittwater Motor Enthusiasts Association - ECPv6.15.15//NONSGML v1.0//EN
CALSCALE:GREGORIAN
METHOD:PUBLISH
X-WR-CALNAME:Pittwater Motor Enthusiasts Association
X-ORIGINAL-URL:https://www.pittwatermotorclub.org.au
X-WR-CALDESC:Events for Pittwater Motor Enthusiasts Association
REFRESH-INTERVAL;VALUE=DURATION:PT1H
X-Robots-Tag:noindex
X-PUBLISHED-TTL:PT1H
BEGIN:VTIMEZONE
TZID:Australia/Sydney
BEGIN:STANDARD
TZOFFSETFROM:+1100
TZOFFSETTO:+1000
TZNAME:AEST
DTSTART:20210403T160000
END:STANDARD
BEGIN:DAYLIGHT
TZOFFSETFROM:+1000
TZOFFSETTO:+1100
TZNAME:AEDT
DTSTART:20211002T160000
END:DAYLIGHT
BEGIN:STANDARD
TZOFFSETFROM:+1100
TZOFFSETTO:+1000
TZNAME:AEST
DTSTART:20220402T160000
END:STANDARD
BEGIN:DAYLIGHT
TZOFFSETFROM:+1000
TZOFFSETTO:+1100
TZNAME:AEDT
DTSTART:20221001T160000
END:DAYLIGHT
BEGIN:STANDARD
TZOFFSETFROM:+1100
TZOFFSETTO:+1000
TZNAME:AEST
DTSTART:20230401T160000
END:STANDARD
BEGIN:DAYLIGHT
TZOFFSETFROM:+1000
TZOFFSETTO:+1100
TZNAME:AEDT
DTSTART:20230930T160000
END:DAYLIGHT
END:VTIMEZONE
BEGIN:VEVENT
DTSTART;TZID=Australia/Sydney:20221115T193000
DTEND;TZID=Australia/Sydney:20221115T210000
DTSTAMP:20260425T061303
CREATED:20220525T075536Z
LAST-MODIFIED:20221020T034256Z
UID:14372-1668540600-1668546000@www.pittwatermotorclub.org.au
SUMMARY:General Meeting - RMYC
DESCRIPTION:**Discussions about carpooling to attend the private car collection in South West Sydney will be discussed at this meeting. Should you be attending on Sunday 20th November and reluctant to drive yourself\, please come along to the meeting and approach a member who will be driving there in either their classic or modern vehicle*** \nGeneral Meetings are held every two weeks and run for approximately 1 hour. \nNew members and visitors welcome. Free parking is available in the general car park. \nJoin us for a drink in the downstairs bar after the meeting. \n 
URL:https://www.pittwatermotorclub.org.au/event/general-meeting-rmyc-36/
LOCATION:Royal Motor Yacht Club (RMYC)\, 46 Prince Alfred Parade\, Newport\, New South Wales\, Australia
END:VEVENT
END:VCALENDAR