BEGIN:VCALENDAR
VERSION:2.0
PRODID:-//Pittwater Motor Enthusiasts Association - ECPv6.15.15//NONSGML v1.0//EN
CALSCALE:GREGORIAN
METHOD:PUBLISH
X-WR-CALNAME:Pittwater Motor Enthusiasts Association
X-ORIGINAL-URL:https://www.pittwatermotorclub.org.au
X-WR-CALDESC:Events for Pittwater Motor Enthusiasts Association
REFRESH-INTERVAL;VALUE=DURATION:PT1H
X-Robots-Tag:noindex
X-PUBLISHED-TTL:PT1H
BEGIN:VTIMEZONE
TZID:Australia/Sydney
BEGIN:STANDARD
TZOFFSETFROM:+1100
TZOFFSETTO:+1000
TZNAME:AEST
DTSTART:20220402T160000
END:STANDARD
BEGIN:DAYLIGHT
TZOFFSETFROM:+1000
TZOFFSETTO:+1100
TZNAME:AEDT
DTSTART:20221001T160000
END:DAYLIGHT
BEGIN:STANDARD
TZOFFSETFROM:+1100
TZOFFSETTO:+1000
TZNAME:AEST
DTSTART:20230401T160000
END:STANDARD
BEGIN:DAYLIGHT
TZOFFSETFROM:+1000
TZOFFSETTO:+1100
TZNAME:AEDT
DTSTART:20230930T160000
END:DAYLIGHT
BEGIN:STANDARD
TZOFFSETFROM:+1100
TZOFFSETTO:+1000
TZNAME:AEST
DTSTART:20240406T160000
END:STANDARD
BEGIN:DAYLIGHT
TZOFFSETFROM:+1000
TZOFFSETTO:+1100
TZNAME:AEDT
DTSTART:20241005T160000
END:DAYLIGHT
END:VTIMEZONE
BEGIN:VEVENT
DTSTART;TZID=Australia/Sydney:20230321T193000
DTEND;TZID=Australia/Sydney:20230321T210000
DTSTAMP:20260421T054221
CREATED:20220908T080114Z
LAST-MODIFIED:20230120T035002Z
UID:15584-1679427000-1679432400@www.pittwatermotorclub.org.au
SUMMARY:General Meeting with Special Guest Speaker-Peter from Men's Kitchen
DESCRIPTION:Tonight's General Meeting will feature our special Guest Speaker Peter Watson from Men's Kitchen Association Forestville. \nPeter is the President of the Men’s Kitchen Association which is a role he took on after retiring from more than 50 years in the IT industry.  Peter decided to support his wife in the kitchen in 2012 and has been developing his cooking skills ever since. You might say he’s a slow learner! \nPlease come along to listen\, learn and ask questions about this very important support service for older men to learn and improve on their cooking skills in the kitchen. \nPeter will chat to our members and take questions afterwards from the floor. \nMen's Kitchen Website Link \nBy developing kitchen skills (New Tricks) older men (Old Dogs) are better able to support themselves and their family. Members also learn important food safety lessons\, so the quality of food you prepare will be safe to eat\, nutritious and delicious. \nIf you are an older man and are looking to increase your confidence in the kitchen or have had to take over the role of preparing meals\, and most importantly\, would like to join a group of men who enjoy each other's company while preparing a meal\, the Men's Kitchen is for you. \nNew members and visitors welcome. Free parking is available in the general car park. \nJoin us for a drink and finger food in the downstairs bar after the meeting. \n 
URL:https://www.pittwatermotorclub.org.au/event/general-meeting-rmyc-42/
LOCATION:Royal Motor Yacht Club (RMYC)\, 46 Prince Alfred Parade\, Newport\, New South Wales\, Australia
ORGANIZER;CN="President and Events - David Cawthorn":MAILTO:president2022pmea@gmail.com
END:VEVENT
END:VCALENDAR