BEGIN:VCALENDAR
VERSION:2.0
PRODID:-//Pittwater Motor Enthusiasts Association - ECPv6.15.15//NONSGML v1.0//EN
CALSCALE:GREGORIAN
METHOD:PUBLISH
X-WR-CALNAME:Pittwater Motor Enthusiasts Association
X-ORIGINAL-URL:https://www.pittwatermotorclub.org.au
X-WR-CALDESC:Events for Pittwater Motor Enthusiasts Association
REFRESH-INTERVAL;VALUE=DURATION:PT1H
X-Robots-Tag:noindex
X-PUBLISHED-TTL:PT1H
BEGIN:VTIMEZONE
TZID:Australia/Sydney
BEGIN:STANDARD
TZOFFSETFROM:+1100
TZOFFSETTO:+1000
TZNAME:AEST
DTSTART:20200404T160000
END:STANDARD
BEGIN:DAYLIGHT
TZOFFSETFROM:+1000
TZOFFSETTO:+1100
TZNAME:AEDT
DTSTART:20201003T160000
END:DAYLIGHT
BEGIN:STANDARD
TZOFFSETFROM:+1100
TZOFFSETTO:+1000
TZNAME:AEST
DTSTART:20210403T160000
END:STANDARD
BEGIN:DAYLIGHT
TZOFFSETFROM:+1000
TZOFFSETTO:+1100
TZNAME:AEDT
DTSTART:20211002T160000
END:DAYLIGHT
BEGIN:STANDARD
TZOFFSETFROM:+1100
TZOFFSETTO:+1000
TZNAME:AEST
DTSTART:20220402T160000
END:STANDARD
BEGIN:DAYLIGHT
TZOFFSETFROM:+1000
TZOFFSETTO:+1100
TZNAME:AEDT
DTSTART:20221001T160000
END:DAYLIGHT
END:VTIMEZONE
BEGIN:VEVENT
DTSTART;TZID=Australia/Sydney:20211117T100000
DTEND;TZID=Australia/Sydney:20211117T140000
DTSTAMP:20260424T230251
CREATED:20210304T153143Z
LAST-MODIFIED:20211113T050152Z
UID:259-1637143200-1637157600@www.pittwatermotorclub.org.au
SUMMARY:Monthly Brunch Run-Geranium Cottage & Nursery Dural
DESCRIPTION:The cafe has been built with recycled timbers\, the main supports being an old Queensland road bridge complete with barnacle holes and sea shells. The original timber cottage is circa 1858. \nThe tea gardens is a popular spot as it is set amongst our geraniums. Best of all is our wide Australian style veranda overlooking the local rural landscape. \nAfter brunch why not visit Bob's Barn\, where you can brows amongst the restored garden tools\, select an antique from a bygone era\, and visit the jam shop featuring a selection of jams\, honey and marmalade mostly made on the premises. \n***You will need to be fully double vaccinated to attend this Event*** \nMeet /Start: Kitchener Park car park Mona Vale (southern end). Meet from 9.45 am. We depart 10.am sharp. \nFurther pick-up outside Bunnings Belrose on Mona Vale Rd\, before slip road to Narabang Way (10.15 am).  We will be travelling via Hornsby\, Galston Gorge and Dural to destination. \nDeparture: 10.00am \nCost: Individual payment at venue \nBooking: Essential
URL:https://www.pittwatermotorclub.org.au/event/geranium-cottage-nursery-dural/
LOCATION:Geranium Cottage & Nursery\, 828 Old Northern Rd\, Dural\, New South Wales\, Australia
CATEGORIES:Cafe or Restaurant
ORGANIZER;CN="President & Events - David Cawthorn":MAILTO:president2022pmea@gmail.com
END:VEVENT
END:VCALENDAR