BEGIN:VCALENDAR
VERSION:2.0
PRODID:-//Pittwater Motor Enthusiasts Association - ECPv6.15.15//NONSGML v1.0//EN
CALSCALE:GREGORIAN
METHOD:PUBLISH
X-WR-CALNAME:Pittwater Motor Enthusiasts Association
X-ORIGINAL-URL:https://www.pittwatermotorclub.org.au
X-WR-CALDESC:Events for Pittwater Motor Enthusiasts Association
REFRESH-INTERVAL;VALUE=DURATION:PT1H
X-Robots-Tag:noindex
X-PUBLISHED-TTL:PT1H
BEGIN:VTIMEZONE
TZID:Australia/Sydney
BEGIN:STANDARD
TZOFFSETFROM:+1100
TZOFFSETTO:+1000
TZNAME:AEST
DTSTART:20210403T160000
END:STANDARD
BEGIN:DAYLIGHT
TZOFFSETFROM:+1000
TZOFFSETTO:+1100
TZNAME:AEDT
DTSTART:20211002T160000
END:DAYLIGHT
BEGIN:STANDARD
TZOFFSETFROM:+1100
TZOFFSETTO:+1000
TZNAME:AEST
DTSTART:20220402T160000
END:STANDARD
BEGIN:DAYLIGHT
TZOFFSETFROM:+1000
TZOFFSETTO:+1100
TZNAME:AEDT
DTSTART:20221001T160000
END:DAYLIGHT
BEGIN:STANDARD
TZOFFSETFROM:+1100
TZOFFSETTO:+1000
TZNAME:AEST
DTSTART:20230401T160000
END:STANDARD
BEGIN:DAYLIGHT
TZOFFSETFROM:+1000
TZOFFSETTO:+1100
TZNAME:AEDT
DTSTART:20230930T160000
END:DAYLIGHT
END:VTIMEZONE
BEGIN:VEVENT
DTSTART;TZID=Australia/Sydney:20220522T080000
DTEND;TZID=Australia/Sydney:20220522T110000
DTSTAMP:20260425T225049
CREATED:20220518T024140Z
LAST-MODIFIED:20220518T024140Z
UID:14258-1653206400-1653217200@www.pittwatermotorclub.org.au
SUMMARY:Hit Cafe\, Narrabeen Beach
DESCRIPTION:This cafe is situated adjacent to the North Narrabeen Surf Club\, right on the beachfront. \nIt has both indoor dining and outdoor dining on the terrace. Lots of space to spread out. \nOnce you have arrived\, please select a table and place your order. There is no table service. \n***This will be our DEFAULT CAFE in the event of weather for future rain affected Sunday runs*** \nBooking for approximately 20 persons from 8.30am \nMeet /Start: Meet 7.45am Mona Vale Library carpark. Depart 8.00am sharp.  \nAlternatively\, go direct to the venue. \nDeparture: At your leisure \nCost: Individual payment at venue \nNote: There is plenty of parking in nearby streets and carparks. Pay and display parking or free with Northern Beaches Council sticker. \nBooking: Please RSVP as usual
URL:https://www.pittwatermotorclub.org.au/event/hit-cafe-narrabeen-beach/
LOCATION:Hit Cafe\, Narrabeen\, 2 Malcolm St\, Narrabeen\, NSW\, 2101\, Australia
CATEGORIES:Cafe or Restaurant
ORGANIZER;CN="President & Events - David Cawthorn":MAILTO:president2022pmea@gmail.com
END:VEVENT
END:VCALENDAR