BEGIN:VCALENDAR
VERSION:2.0
PRODID:-//Pittwater Motor Enthusiasts Association - ECPv6.15.15//NONSGML v1.0//EN
CALSCALE:GREGORIAN
METHOD:PUBLISH
X-WR-CALNAME:Pittwater Motor Enthusiasts Association
X-ORIGINAL-URL:https://www.pittwatermotorclub.org.au
X-WR-CALDESC:Events for Pittwater Motor Enthusiasts Association
REFRESH-INTERVAL;VALUE=DURATION:PT1H
X-Robots-Tag:noindex
X-PUBLISHED-TTL:PT1H
BEGIN:VTIMEZONE
TZID:Australia/Sydney
BEGIN:STANDARD
TZOFFSETFROM:+1100
TZOFFSETTO:+1000
TZNAME:AEST
DTSTART:20200404T160000
END:STANDARD
BEGIN:DAYLIGHT
TZOFFSETFROM:+1000
TZOFFSETTO:+1100
TZNAME:AEDT
DTSTART:20201003T160000
END:DAYLIGHT
BEGIN:STANDARD
TZOFFSETFROM:+1100
TZOFFSETTO:+1000
TZNAME:AEST
DTSTART:20210403T160000
END:STANDARD
BEGIN:DAYLIGHT
TZOFFSETFROM:+1000
TZOFFSETTO:+1100
TZNAME:AEDT
DTSTART:20211002T160000
END:DAYLIGHT
BEGIN:STANDARD
TZOFFSETFROM:+1100
TZOFFSETTO:+1000
TZNAME:AEST
DTSTART:20220402T160000
END:STANDARD
BEGIN:DAYLIGHT
TZOFFSETFROM:+1000
TZOFFSETTO:+1100
TZNAME:AEDT
DTSTART:20221001T160000
END:DAYLIGHT
END:VTIMEZONE
BEGIN:VEVENT
DTSTART;TZID=Australia/Sydney:20211114T080000
DTEND;TZID=Australia/Sydney:20211114T110000
DTSTAMP:20260424T215458
CREATED:20210505T011221Z
LAST-MODIFIED:20211031T222148Z
UID:7862-1636876800-1636887600@www.pittwatermotorclub.org.au
SUMMARY:Kokoda Café\, Rhodes Park\, Killoola St Concord
DESCRIPTION:Cafe set in peaceful leafy surrounds situated in Brays Bay Reserve\, alongside the Kokoda Track Memborial Walkway. Brays Bay forms part of the Parramatta River.  \nThe Kokoda Track Memorial Walkway is a living memorial and a principal site of commemoration honouring all those who fought for Australia during World War II. The Walkway covers more than 800 metres from Rhodes Station to Concord Hospital in Sydney’s inner-west\, and runs along the mangrove-studded shores of Brays Bay on the Parramatta River. \nAt the centrepiece are magnificent granite walls bearing photographic images of the Kokoda campaign. There are 22 audio-visual stations along the Walkway\, each describing a significant place or military engagement. The Walkway has been planted with lush tropical vegetation simulating the conditions of The Kokoda Track. \nMeet /Start: Meet 7.45am Mona Vale Library carpark. Depart 8.00am sharp. We travel via Mona Vale Rd through St Ives\, Lane Cove Rd\, Top Ryde\, then Ryde Bridge to Concord Rd\, left into Hospital Rd\, left into Fremont St\, right into Killoola St. \n*Additional pick up: outside Bunnings Belrose on Mona Vale Rd\, before slip road to Narabang Way. Depart 8.15 am.  \nDeparture: At your leisure \nCost: Individual payment at venue \nNote: Plenty of free parking in carpark (2hr limit) and surrounding streets. ***You will need to be fully double vaccinated to attend this Event*** \nBooking: ESSENTIAL!
URL:https://www.pittwatermotorclub.org.au/event/kokoda-cafe-rhodes-park-killoola-st-concord/
LOCATION:Kokoda Café\, Rhodes Park\, Killoola St Concord\, Killoola St\, Concord\, NSW\, 2138\, Australia
CATEGORIES:Cafe or Restaurant
ORGANIZER;CN="President & Events - David Cawthorn":MAILTO:president2022pmea@gmail.com
END:VEVENT
END:VCALENDAR