BEGIN:VCALENDAR
VERSION:2.0
PRODID:-//Pittwater Motor Enthusiasts Association - ECPv6.15.15//NONSGML v1.0//EN
CALSCALE:GREGORIAN
METHOD:PUBLISH
X-WR-CALNAME:Pittwater Motor Enthusiasts Association
X-ORIGINAL-URL:https://www.pittwatermotorclub.org.au
X-WR-CALDESC:Events for Pittwater Motor Enthusiasts Association
REFRESH-INTERVAL;VALUE=DURATION:PT1H
X-Robots-Tag:noindex
X-PUBLISHED-TTL:PT1H
BEGIN:VTIMEZONE
TZID:Australia/Sydney
BEGIN:STANDARD
TZOFFSETFROM:+1100
TZOFFSETTO:+1000
TZNAME:AEST
DTSTART:20230401T160000
END:STANDARD
BEGIN:DAYLIGHT
TZOFFSETFROM:+1000
TZOFFSETTO:+1100
TZNAME:AEDT
DTSTART:20230930T160000
END:DAYLIGHT
BEGIN:STANDARD
TZOFFSETFROM:+1100
TZOFFSETTO:+1000
TZNAME:AEST
DTSTART:20240406T160000
END:STANDARD
BEGIN:DAYLIGHT
TZOFFSETFROM:+1000
TZOFFSETTO:+1100
TZNAME:AEDT
DTSTART:20241005T160000
END:DAYLIGHT
BEGIN:STANDARD
TZOFFSETFROM:+1100
TZOFFSETTO:+1000
TZNAME:AEST
DTSTART:20250405T160000
END:STANDARD
BEGIN:DAYLIGHT
TZOFFSETFROM:+1000
TZOFFSETTO:+1100
TZNAME:AEDT
DTSTART:20251004T160000
END:DAYLIGHT
END:VTIMEZONE
BEGIN:VEVENT
DTSTART;TZID=Australia/Sydney:20240922T080000
DTEND;TZID=Australia/Sydney:20240922T110000
DTSTAMP:20260420T173835
CREATED:20240903T034639Z
LAST-MODIFIED:20240903T034639Z
UID:14668-1726992000-1727002800@www.pittwatermotorclub.org.au
SUMMARY:Limani Bar & Mezze Cafe\, Narrabeen Lakes
DESCRIPTION:This cafe\, formally The Boat Shed\, is situated right on Narrabeen Lake with excellent views. Limani Restaurant is directly above\, with the cafe on the 1st level. \nBooking has been made for PMEA for 30 persons from 8.30am. \nMeet /Start: Meet from 7.30 am Mona Vale Library carpark. Depart 8.00am sharp. \nParking: There is limited parking on site. There is plenty of parking in surrounding streets. \nCost: Individual payment at venue. Please see cafe menu by clicking on the link below: \nLimani Cafe Breakfast Menu \nBooking: Please RSVP as soon as possible.  \nDeparture: At your leisure.
URL:https://www.pittwatermotorclub.org.au/event/limani-bar-mezze-cafe-narrabeen-lakes/
CATEGORIES:Cafe or Restaurant
ORGANIZER;CN="President and Events - David Cawthorn":MAILTO:president2022pmea@gmail.com
END:VEVENT
END:VCALENDAR