BEGIN:VCALENDAR
VERSION:2.0
PRODID:-//Pittwater Motor Enthusiasts Association - ECPv6.15.15//NONSGML v1.0//EN
CALSCALE:GREGORIAN
METHOD:PUBLISH
X-WR-CALNAME:Pittwater Motor Enthusiasts Association
X-ORIGINAL-URL:https://www.pittwatermotorclub.org.au
X-WR-CALDESC:Events for Pittwater Motor Enthusiasts Association
REFRESH-INTERVAL;VALUE=DURATION:PT1H
X-Robots-Tag:noindex
X-PUBLISHED-TTL:PT1H
BEGIN:VTIMEZONE
TZID:Australia/Sydney
BEGIN:STANDARD
TZOFFSETFROM:+1100
TZOFFSETTO:+1000
TZNAME:AEST
DTSTART:20230401T160000
END:STANDARD
BEGIN:DAYLIGHT
TZOFFSETFROM:+1000
TZOFFSETTO:+1100
TZNAME:AEDT
DTSTART:20230930T160000
END:DAYLIGHT
BEGIN:STANDARD
TZOFFSETFROM:+1100
TZOFFSETTO:+1000
TZNAME:AEST
DTSTART:20240406T160000
END:STANDARD
BEGIN:DAYLIGHT
TZOFFSETFROM:+1000
TZOFFSETTO:+1100
TZNAME:AEDT
DTSTART:20241005T160000
END:DAYLIGHT
BEGIN:STANDARD
TZOFFSETFROM:+1100
TZOFFSETTO:+1000
TZNAME:AEST
DTSTART:20250405T160000
END:STANDARD
BEGIN:DAYLIGHT
TZOFFSETFROM:+1000
TZOFFSETTO:+1100
TZNAME:AEDT
DTSTART:20251004T160000
END:DAYLIGHT
END:VTIMEZONE
BEGIN:VEVENT
DTSTART;TZID=Australia/Sydney:20240501T093000
DTEND;TZID=Australia/Sydney:20240501T140000
DTSTAMP:20260420T090115
CREATED:20240319T230120Z
LAST-MODIFIED:20240430T032348Z
UID:23993-1714555800-1714572000@www.pittwatermotorclub.org.au
SUMMARY:Mid-Week *LONG* Run - Pie In The Sky Cafe\, Cowan **CANCELLED DUE WET WEATHER**
DESCRIPTION:Please join us on our monthly longer mid-week run\, this time to the popular Pie In The Sky Cafe at Cowan.  \nMotorbikes and cars\, all welcome.  \nMeet /Start: Apex Park car park Mona Vale Beach\, off Darley St East. Arrive from 9.15 a.m. \nWe then depart 9.30 a.m sharp\, with a leisurely 15 minute drive to McCarrs Creek Reserve\, Church Point\, which is our 2nd meeting point for this run (no lingering\, just drive in/drive out and pickup additional cars and bikes). \nLeave McCarrs Creek approximately 9.45 a.m. to our last pick up point\, outside Bunnings Belrose on Mona Vale Rd (before slip road to Narabang Way)\, where we then immediately depart at approximately 10.00 a.m. \nDriving time approximately 1hr 15 mins from Mona Vale to Cowan\, with estimated arrival 10.45-11.00 a.m.  \nCost: Individual payment at venue \nNote: Contact Nigel in the event of wet weather \nBooking: RSVP preferred and please stipulate your joining place\, so that we know who to look out for and where. 
URL:https://www.pittwatermotorclub.org.au/event/mid-week-long-run-pie-in-the-sky-cafe-cowan/
LOCATION:Pie In The Sky\, Cowan\, 1296 Pacific Hwy\, Cowan\, NSW\, 2081\, Australia
CATEGORIES:Monthly Long Run
ATTACH;FMTTYPE=image/jpeg:https://www.pittwatermotorclub.org.au/wp-content/uploads/2024/04/Cowan-Meeting-Place.jpg
END:VEVENT
END:VCALENDAR