BEGIN:VCALENDAR
VERSION:2.0
PRODID:-//Pittwater Motor Enthusiasts Association - ECPv6.15.15//NONSGML v1.0//EN
CALSCALE:GREGORIAN
METHOD:PUBLISH
X-WR-CALNAME:Pittwater Motor Enthusiasts Association
X-ORIGINAL-URL:https://www.pittwatermotorclub.org.au
X-WR-CALDESC:Events for Pittwater Motor Enthusiasts Association
REFRESH-INTERVAL;VALUE=DURATION:PT1H
X-Robots-Tag:noindex
X-PUBLISHED-TTL:PT1H
BEGIN:VTIMEZONE
TZID:Australia/Sydney
BEGIN:STANDARD
TZOFFSETFROM:+1100
TZOFFSETTO:+1000
TZNAME:AEST
DTSTART:20210403T160000
END:STANDARD
BEGIN:DAYLIGHT
TZOFFSETFROM:+1000
TZOFFSETTO:+1100
TZNAME:AEDT
DTSTART:20211002T160000
END:DAYLIGHT
BEGIN:STANDARD
TZOFFSETFROM:+1100
TZOFFSETTO:+1000
TZNAME:AEST
DTSTART:20220402T160000
END:STANDARD
BEGIN:DAYLIGHT
TZOFFSETFROM:+1000
TZOFFSETTO:+1100
TZNAME:AEDT
DTSTART:20221001T160000
END:DAYLIGHT
BEGIN:STANDARD
TZOFFSETFROM:+1100
TZOFFSETTO:+1000
TZNAME:AEST
DTSTART:20230401T160000
END:STANDARD
BEGIN:DAYLIGHT
TZOFFSETFROM:+1000
TZOFFSETTO:+1100
TZNAME:AEDT
DTSTART:20230930T160000
END:DAYLIGHT
END:VTIMEZONE
BEGIN:VEVENT
DTSTART;TZID=Australia/Sydney:20220615T100000
DTEND;TZID=Australia/Sydney:20220615T130000
DTSTAMP:20260425T222758
CREATED:20220102T044558Z
LAST-MODIFIED:20220102T044558Z
UID:11818-1655287200-1655298000@www.pittwatermotorclub.org.au
SUMMARY:Monthly Brunch Run-Sandy Bear Café at Clontarf Marina
DESCRIPTION:Fantastic café on watefront with great atmosphere. Terrific views. Plenty of outdoor tables with shaded umbrellas. Situated adjacent to Clontarf Reserve. \nMeet /Start: Kitchener Park car park Mona Vale (southern end). Meet from 9.45 am. We depart 10.am sharp. We travel via Wakehurst Parkway * Oxford Falls and Seaforth through to destination.  \n*Wakehurst Parkway: additional pick up point for those on the lower beaches\, Dreadnought Rd Oxford Falls\, outside the Peace Park Hall. We will watch for the cars to go past and then catch up. Departure time 10.15 from location. \nDeparture: At your leisure \nCost: Individual payment at venue \nNote: Free parking in Holmes Ave\, limited free (about 10 cars) end of Sandy Bay Rd\, or $10 per hr within Clontarf Reserve (or free if Northern Beaches Council sticker) \nBooking: Essential for cafe bookings
URL:https://www.pittwatermotorclub.org.au/event/monthly-brunch-run-sandy-bear-cafe-at-clontarf-marina/
LOCATION:Sandy Bar Café\, Sandy Bay Rd\, Clontarf\, New South Wales\, Australia
CATEGORIES:Cafe or Restaurant
ORGANIZER;CN="President & Events - David Cawthorn":MAILTO:president2022pmea@gmail.com
END:VEVENT
END:VCALENDAR