BEGIN:VCALENDAR
VERSION:2.0
PRODID:-//Pittwater Motor Enthusiasts Association - ECPv6.15.15//NONSGML v1.0//EN
CALSCALE:GREGORIAN
METHOD:PUBLISH
X-WR-CALNAME:Pittwater Motor Enthusiasts Association
X-ORIGINAL-URL:https://www.pittwatermotorclub.org.au
X-WR-CALDESC:Events for Pittwater Motor Enthusiasts Association
REFRESH-INTERVAL;VALUE=DURATION:PT1H
X-Robots-Tag:noindex
X-PUBLISHED-TTL:PT1H
BEGIN:VTIMEZONE
TZID:Australia/Sydney
BEGIN:STANDARD
TZOFFSETFROM:+1100
TZOFFSETTO:+1000
TZNAME:AEST
DTSTART:20220402T160000
END:STANDARD
BEGIN:DAYLIGHT
TZOFFSETFROM:+1000
TZOFFSETTO:+1100
TZNAME:AEDT
DTSTART:20221001T160000
END:DAYLIGHT
BEGIN:STANDARD
TZOFFSETFROM:+1100
TZOFFSETTO:+1000
TZNAME:AEST
DTSTART:20230401T160000
END:STANDARD
BEGIN:DAYLIGHT
TZOFFSETFROM:+1000
TZOFFSETTO:+1100
TZNAME:AEDT
DTSTART:20230930T160000
END:DAYLIGHT
BEGIN:STANDARD
TZOFFSETFROM:+1100
TZOFFSETTO:+1000
TZNAME:AEST
DTSTART:20240406T160000
END:STANDARD
BEGIN:DAYLIGHT
TZOFFSETFROM:+1000
TZOFFSETTO:+1100
TZNAME:AEDT
DTSTART:20241005T160000
END:DAYLIGHT
END:VTIMEZONE
BEGIN:VEVENT
DTSTART;TZID=Australia/Sydney:20230226T080000
DTEND;TZID=Australia/Sydney:20230226T110000
DTSTAMP:20260420T093710
CREATED:20221228T033713Z
LAST-MODIFIED:20230221T043500Z
UID:16748-1677398400-1677409200@www.pittwatermotorclub.org.au
SUMMARY:Mosman Rowers Club\, Mosman
DESCRIPTION:A place full of history and heritage\, and one of Sydney’s oldest sports clubs and harbour destinations\, Mosman Rowers reopened in March 2019\, following the generous support of loyal members and the local community. The much-loved local institution since 1911 welcomes wet bums\, sandy feet and paws to our special place in Mosman - a community hub for water-based activities such as paddling and kayaking as well as social events & more. \nPartnering with the Bird & Bear Group\, the Club offers a unique dining experience. \n PMEA has secured private and intimate space in the upstairs members' Gallery room with terrific bay views. Capacity is limited and we have pre-booked for up to 50 persons.  \nPlease ensure you hurry and secure your space and RSVP ASAP! \nThe combination of a stunning location in Mosman Bay\, rich character and heritage of the clubhouse\, and warm and friendly culture make Mosman Rowers a great destination for our PMEA Sunday run and breakfast. \nMeet /Start: Meet 7.45am Mona Vale Library carpark. Depart 8.00am sharp. We travel via Wakehurst Parkway to destination. Or go direct if you wish. \nDeparture: At your leisure \nDetails & Cost: Food menu by prior arrangement of two offerings: \n\nFree range eggs scrambled with sourdough & streaky bacon \nBacon and egg roll kewpie mayo & hot BBQ sauce \nPRE-PAYMENT required in advance of $15 per person. Please make your food payment ASAP to PMEA online. Payments can also be made at the next meeting.\n\nCoffee and tea will be available to order\, table by table. Beverage orders taken by Mosman Rowers staff.   \nNote: Plenty of free parking in surrounding carparks and nearby streets \nBooking: Essential!!
URL:https://www.pittwatermotorclub.org.au/event/mosman-rowers-club-mosman/
LOCATION:Mosman Rowers Club\, 3 Century Drive\, Mosman\, NSW\, 2088\, Australia
CATEGORIES:Cafe or Restaurant
ORGANIZER;CN="President & Events - David Cawthorn":MAILTO:president2022pmea@gmail.com
END:VEVENT
END:VCALENDAR