BEGIN:VCALENDAR
VERSION:2.0
PRODID:-//Pittwater Motor Enthusiasts Association - ECPv6.15.15//NONSGML v1.0//EN
CALSCALE:GREGORIAN
METHOD:PUBLISH
X-WR-CALNAME:Pittwater Motor Enthusiasts Association
X-ORIGINAL-URL:https://www.pittwatermotorclub.org.au
X-WR-CALDESC:Events for Pittwater Motor Enthusiasts Association
REFRESH-INTERVAL;VALUE=DURATION:PT1H
X-Robots-Tag:noindex
X-PUBLISHED-TTL:PT1H
BEGIN:VTIMEZONE
TZID:Australia/Sydney
BEGIN:STANDARD
TZOFFSETFROM:+1100
TZOFFSETTO:+1000
TZNAME:AEST
DTSTART:20200404T160000
END:STANDARD
BEGIN:DAYLIGHT
TZOFFSETFROM:+1000
TZOFFSETTO:+1100
TZNAME:AEDT
DTSTART:20201003T160000
END:DAYLIGHT
BEGIN:STANDARD
TZOFFSETFROM:+1100
TZOFFSETTO:+1000
TZNAME:AEST
DTSTART:20210403T160000
END:STANDARD
BEGIN:DAYLIGHT
TZOFFSETFROM:+1000
TZOFFSETTO:+1100
TZNAME:AEDT
DTSTART:20211002T160000
END:DAYLIGHT
BEGIN:STANDARD
TZOFFSETFROM:+1100
TZOFFSETTO:+1000
TZNAME:AEST
DTSTART:20220402T160000
END:STANDARD
BEGIN:DAYLIGHT
TZOFFSETFROM:+1000
TZOFFSETTO:+1100
TZNAME:AEDT
DTSTART:20221001T160000
END:DAYLIGHT
END:VTIMEZONE
BEGIN:VEVENT
DTSTART;TZID=Australia/Sydney:20211212T110000
DTEND;TZID=Australia/Sydney:20211212T160000
DTSTAMP:20260425T051622
CREATED:20210422T032345Z
LAST-MODIFIED:20211202T232657Z
UID:3163-1639306800-1639324800@www.pittwatermotorclub.org.au
SUMMARY:PMEA Annual Xmas Party - RPAYC Newport
DESCRIPTION:Please join us for our annual PMEA Xmas party at the wonderful Royal Prince Alfred Yacht Club Newport. Always very well attended\, with lots of laughs and entertainment. \nWe have a private room reserved with wonderful views.  \n***Note: Bookings have now closed for this Event. If you would like to go onto a 'waitlist'\, please contact Kerry Benson ASAP*** \nPlease also note\, this is an adults only PMEA Event. \nStart:  Arrival from 11.00am\, lunch served from 12.00 noon.   \nDeparture: At your leisure \nCost: $35 p.p. for a 2-course set menu (main and desert). Free drink available on arrival (one per person). \nNote: ***You will need to be double vaccinated to attend this Event*** \nDO NOT book direct with venue!!!! \nClub Display: Parking \, pre booked only with Committee approval\, for approximately 15 cars / motorcycles on RPAYC front lawn (if wet\, this will not be possible). Cars must be parked in place by 11.30am. \n  \n  \n 
URL:https://www.pittwatermotorclub.org.au/event/pmea-annual-xmas-party-rpayc-newport/
LOCATION:Royal Prince Alfred Yacht Club (RPAYC)\, 16 Mitala Street\, Newport\, NSW\, 2106\, Australia
CATEGORIES:Cafe or Restaurant,Display Day
ORGANIZER;CN="PMEA - President - David Cawthorn":MAILTO:president2022pmea@gmail.com
END:VEVENT
END:VCALENDAR