BEGIN:VCALENDAR
VERSION:2.0
PRODID:-//Pittwater Motor Enthusiasts Association - ECPv6.15.15//NONSGML v1.0//EN
CALSCALE:GREGORIAN
METHOD:PUBLISH
X-WR-CALNAME:Pittwater Motor Enthusiasts Association
X-ORIGINAL-URL:https://www.pittwatermotorclub.org.au
X-WR-CALDESC:Events for Pittwater Motor Enthusiasts Association
REFRESH-INTERVAL;VALUE=DURATION:PT1H
X-Robots-Tag:noindex
X-PUBLISHED-TTL:PT1H
BEGIN:VTIMEZONE
TZID:Australia/Sydney
BEGIN:STANDARD
TZOFFSETFROM:+1100
TZOFFSETTO:+1000
TZNAME:AEST
DTSTART:20210403T160000
END:STANDARD
BEGIN:DAYLIGHT
TZOFFSETFROM:+1000
TZOFFSETTO:+1100
TZNAME:AEDT
DTSTART:20211002T160000
END:DAYLIGHT
BEGIN:STANDARD
TZOFFSETFROM:+1100
TZOFFSETTO:+1000
TZNAME:AEST
DTSTART:20220402T160000
END:STANDARD
BEGIN:DAYLIGHT
TZOFFSETFROM:+1000
TZOFFSETTO:+1100
TZNAME:AEDT
DTSTART:20221001T160000
END:DAYLIGHT
BEGIN:STANDARD
TZOFFSETFROM:+1100
TZOFFSETTO:+1000
TZNAME:AEST
DTSTART:20230401T160000
END:STANDARD
BEGIN:DAYLIGHT
TZOFFSETFROM:+1000
TZOFFSETTO:+1100
TZNAME:AEDT
DTSTART:20230930T160000
END:DAYLIGHT
END:VTIMEZONE
BEGIN:VEVENT
DTSTART;TZID=Australia/Sydney:20220806T100000
DTEND;TZID=Australia/Sydney:20220806T130000
DTSTAMP:20260426T085114
CREATED:20220609T080331Z
LAST-MODIFIED:20220718T073444Z
UID:14487-1659780000-1659790800@www.pittwatermotorclub.org.au
SUMMARY:PPC Restoration Car Products Factory Visit\, Warriewood
DESCRIPTION:Hosted by manager Rob Harrington-Johnson\, we will visit the factory of PPC  (Permanent Paint Coatings)\, 'The Rust Restoration' Specialists and all of their products. \nPPC have been operating for over 20 years\, with marketing through 70 distributors around Australia. They have become experts in rust repair\, corrosion and general restoration in the motor\, marine and industrial areas. \nThe range of products is extensive\, from the well-known Bill Hirsch (USA) Miracle Rust Paints and Engine enamels\, Eastwood (USA) restoration paints and tools\, to Bilt - Hamber's (UK) range of rust removers\, waxes\, and auto clay. \nPPC Co also imports and distributes a full range of Leatherique (USA) products. PPC Co can match existing dyes for a complete restoration. Also suitable for most leather products including household lounges. \nGet an insight into all their products\, with a factory tour and an opportunity to purchase products direct from the manufacturer. \nThis visit is by invitation only to PMEA members and direct guests only. NO general public entry will be permitted. \nMorning tea and light refreshments will be provided on arrival. \nMeet /Start: Meet directly at venue at 9.45 a.m. \nDeparture: At your leisure \nCost: NIL \nNote: Plenty of parking in the vicinity. \nBooking: PLEASE RSVP for catering purposes.
URL:https://www.pittwatermotorclub.org.au/event/ppc-restoration-car-products-factory-visit-warriewood/
CATEGORIES:Factory Workshop Visit
ORGANIZER;CN="President and Events - David Cawthorn":MAILTO:president2022pmea@gmail.com
END:VEVENT
END:VCALENDAR