BEGIN:VCALENDAR
VERSION:2.0
PRODID:-//Pittwater Motor Enthusiasts Association - ECPv6.15.15//NONSGML v1.0//EN
CALSCALE:GREGORIAN
METHOD:PUBLISH
X-WR-CALNAME:Pittwater Motor Enthusiasts Association
X-ORIGINAL-URL:https://www.pittwatermotorclub.org.au
X-WR-CALDESC:Events for Pittwater Motor Enthusiasts Association
REFRESH-INTERVAL;VALUE=DURATION:PT1H
X-Robots-Tag:noindex
X-PUBLISHED-TTL:PT1H
BEGIN:VTIMEZONE
TZID:Australia/Sydney
BEGIN:STANDARD
TZOFFSETFROM:+1100
TZOFFSETTO:+1000
TZNAME:AEST
DTSTART:20200404T160000
END:STANDARD
BEGIN:DAYLIGHT
TZOFFSETFROM:+1000
TZOFFSETTO:+1100
TZNAME:AEDT
DTSTART:20201003T160000
END:DAYLIGHT
BEGIN:STANDARD
TZOFFSETFROM:+1100
TZOFFSETTO:+1000
TZNAME:AEST
DTSTART:20210403T160000
END:STANDARD
BEGIN:DAYLIGHT
TZOFFSETFROM:+1000
TZOFFSETTO:+1100
TZNAME:AEDT
DTSTART:20211002T160000
END:DAYLIGHT
BEGIN:STANDARD
TZOFFSETFROM:+1100
TZOFFSETTO:+1000
TZNAME:AEST
DTSTART:20220402T160000
END:STANDARD
BEGIN:DAYLIGHT
TZOFFSETFROM:+1000
TZOFFSETTO:+1100
TZNAME:AEDT
DTSTART:20221001T160000
END:DAYLIGHT
END:VTIMEZONE
BEGIN:VEVENT
DTSTART;TZID=Australia/Sydney:20211031T080000
DTEND;TZID=Australia/Sydney:20211031T110000
DTSTAMP:20260423T225442
CREATED:20211010T064603Z
LAST-MODIFIED:20211029T042915Z
UID:10056-1635667200-1635678000@www.pittwatermotorclub.org.au
SUMMARY:Private Visit To Italian Car Collection\, Mortlake
DESCRIPTION:NOT TO BE MISSED! Private pre-arranged exclusive visit for PMEA to see this amazing collection of Alfa Romeo and Ferrari brand cars. Your host will be Tony\, the curator of this amazing collection. \n***You will need to be fully double vaccinated to attend this Event AND you must bring and wear a mask indoors while viewing the collection***  \nMeet /Start: Meet 7.45am Mona Vale Library carpark. Depart 8.00am sharp. \nAdditional pick up: outside Bunnings Belrose on Mona Vale Rd\, before slip road to Narabang Way. Depart 8.15 am sharp. \nRoute via Lane Cove Rd\, Ryde Rd\, Ryde Bridge\, Concord Rd to destination. Breakfast Point is a bit tricky to get to\, so good idea to enable your GPS.  \nLocation: Enter as group only. Parking in Emily St or Village Drive (unrestricted) Breakfast Point. Village Drive is a circle road so park anywhere you can. We will meet as a group outside covered sheltered picnic tabled structure in Village Drive for special short BRIEFING prior to walking together to the location. DO NOT ATTEMPT TO FIND AND WALK INTO THE PREMISES ON YOUR OWN.  I will have an umbrella so follow me (like a tour guide in Venice)!!! \nEntry: ONLY in your designated group. PLEASE familiarise yourself with your group number prior to arrival (it will be on your email confirmation). There will be three groups of maximum 20 per group allowed through at a time (due to COVID restrictions). GROUP ONE is first\, GROUP TWO is second and GROUP THREE is 3rd to enter. Please by patient with the organisers.  \nFOOD: Dom Panino Breakfast coffee van on site. Food and & coffee for purchase upon arrival. Please order ASAP on arrival to facilitate flow of attendees. \nhttps://www.dompanino.com.au/ \nDeparture: At your leisure. Why not take the 'novelty' way back\, if you have time on your hands\, and take a ride on the nearby Mortlake Car Ferry\, operating from Mortlake to Putney (free). It's been running from 1925 and operates on weekends on demand from 10.30am until 5.30pm.  It can take up to 18 cars at a time. \nhttps://roads-waterways.transport.nsw.gov.au/roads/using-roads/vehicular-ferries/index.html \nCost: $2 raffle ticket voluntary donation. Prizes to be given afterwards  in Breakfast Point Village Green.  \nInclement Weather: As the vehicles are housed in two warehouses\, this will be an ALL WEATHER Event\, so it will definitely go ahead. \nBooking: ESSENTIAL!!
URL:https://www.pittwatermotorclub.org.au/event/private-visit-to-italian-car-collection-mortlake-3/
LOCATION:Private Italian Car Collection\, Village Drive\, Breakfast Point\, NSW\, 2137\, Australia
ORGANIZER;CN="President & Events - David Cawthorn":MAILTO:president2022pmea@gmail.com
END:VEVENT
END:VCALENDAR