BEGIN:VCALENDAR
VERSION:2.0
PRODID:-//Pittwater Motor Enthusiasts Association - ECPv6.15.15//NONSGML v1.0//EN
CALSCALE:GREGORIAN
METHOD:PUBLISH
X-WR-CALNAME:Pittwater Motor Enthusiasts Association
X-ORIGINAL-URL:https://www.pittwatermotorclub.org.au
X-WR-CALDESC:Events for Pittwater Motor Enthusiasts Association
REFRESH-INTERVAL;VALUE=DURATION:PT1H
X-Robots-Tag:noindex
X-PUBLISHED-TTL:PT1H
BEGIN:VTIMEZONE
TZID:Australia/Sydney
BEGIN:STANDARD
TZOFFSETFROM:+1100
TZOFFSETTO:+1000
TZNAME:AEST
DTSTART:20210403T160000
END:STANDARD
BEGIN:DAYLIGHT
TZOFFSETFROM:+1000
TZOFFSETTO:+1100
TZNAME:AEDT
DTSTART:20211002T160000
END:DAYLIGHT
BEGIN:STANDARD
TZOFFSETFROM:+1100
TZOFFSETTO:+1000
TZNAME:AEST
DTSTART:20220402T160000
END:STANDARD
BEGIN:DAYLIGHT
TZOFFSETFROM:+1000
TZOFFSETTO:+1100
TZNAME:AEDT
DTSTART:20221001T160000
END:DAYLIGHT
BEGIN:STANDARD
TZOFFSETFROM:+1100
TZOFFSETTO:+1000
TZNAME:AEST
DTSTART:20230401T160000
END:STANDARD
BEGIN:DAYLIGHT
TZOFFSETFROM:+1000
TZOFFSETTO:+1100
TZNAME:AEDT
DTSTART:20230930T160000
END:DAYLIGHT
END:VTIMEZONE
BEGIN:VEVENT
DTSTART;TZID=Australia/Sydney:20221120T080000
DTEND;TZID=Australia/Sydney:20221120T150000
DTSTAMP:20260420T202147
CREATED:20220919T065339Z
LAST-MODIFIED:20221106T053925Z
UID:15701-1668931200-1668956400@www.pittwatermotorclub.org.au
SUMMARY:Private Visit To Large Car Collection with BBQ\, South West Sydney
DESCRIPTION:DAY TRIP NOT TO BE MISSED! THIS WILL NOT BE REPEATED!!! \nPrivate pre-arranged exclusive visit for PMEA MEMBERS (and guests) ONLY  to see this amazing collection of  approximately 100 vehicles\, with the predominant marque being Mercedes-Benz.  \nAll MEMBERS bringing any guest MUST RSVP with not only their name but the full name of the guest as well. \nSTRICTLY NO PHOTOS or LOCATION DETAILS to be uploaded to social media. \nYour host will supply drinks. Please bring your own food for the BBQ\, plus plates and utensils and your own fold up chairs. \nMeet /Start: Meet 7.45am Mona Vale Library carpark. Depart 8.00am sharp. \nAdditional pick up: outside Bunnings Belrose on Mona Vale Rd\, before slip road to Narabang Way. Depart approx 8.15 am.  \nPlease make your way (either via M2/M7  (TOLLS) or A3/A2/M5 (NO TOLLS) - both about same time 1hr 15min-1hr 30min-your choice) to meeting place - Partridge VC Rest Area\, M31 (off Hume Freeway) at Menangle. \nWe will then convene and depart together to destination in convoy. We'll depart NO LATER than 10.00 am (or before if everyone is there). \nApproximately 15 minutes drive from rest area to destination. \nShould you wish to car pool with another member\, please contact the Event organiser. \nCost: NIL \nNote: **Enter as group only** Please bring your own food for the BBQ\, plus plates and utensils and your own fold up chairs. \nVehicle viewing on arrival\, followed by BBQ lunch. \nBooking: YOU MUST RSVP below for catering purposes. \nDeparture: No later than 2.30pm
URL:https://www.pittwatermotorclub.org.au/event/private-visit-to-large-car-collection-with-bbq-south-west-sydney/
LOCATION:Patridge VC Rest Area M31\, Partridge VC Rest Area\, Menangle\, NSW\, 2568\, Australia
CATEGORIES:BBQ or Picnic,Day Trip,Special Event
ORGANIZER;CN="President and Events - David Cawthorn":MAILTO:president2022pmea@gmail.com
END:VEVENT
END:VCALENDAR