BEGIN:VCALENDAR
VERSION:2.0
PRODID:-//Pittwater Motor Enthusiasts Association - ECPv6.15.15//NONSGML v1.0//EN
CALSCALE:GREGORIAN
METHOD:PUBLISH
X-WR-CALNAME:Pittwater Motor Enthusiasts Association
X-ORIGINAL-URL:https://www.pittwatermotorclub.org.au
X-WR-CALDESC:Events for Pittwater Motor Enthusiasts Association
REFRESH-INTERVAL;VALUE=DURATION:PT1H
X-Robots-Tag:noindex
X-PUBLISHED-TTL:PT1H
BEGIN:VTIMEZONE
TZID:Australia/Sydney
BEGIN:STANDARD
TZOFFSETFROM:+1100
TZOFFSETTO:+1000
TZNAME:AEST
DTSTART:20220402T160000
END:STANDARD
BEGIN:DAYLIGHT
TZOFFSETFROM:+1000
TZOFFSETTO:+1100
TZNAME:AEDT
DTSTART:20221001T160000
END:DAYLIGHT
BEGIN:STANDARD
TZOFFSETFROM:+1100
TZOFFSETTO:+1000
TZNAME:AEST
DTSTART:20230401T160000
END:STANDARD
BEGIN:DAYLIGHT
TZOFFSETFROM:+1000
TZOFFSETTO:+1100
TZNAME:AEDT
DTSTART:20230930T160000
END:DAYLIGHT
BEGIN:STANDARD
TZOFFSETFROM:+1100
TZOFFSETTO:+1000
TZNAME:AEST
DTSTART:20240406T160000
END:STANDARD
BEGIN:DAYLIGHT
TZOFFSETFROM:+1000
TZOFFSETTO:+1100
TZNAME:AEDT
DTSTART:20241005T160000
END:DAYLIGHT
END:VTIMEZONE
BEGIN:VEVENT
DTSTART;TZID=Australia/Sydney:20230910T080000
DTEND;TZID=Australia/Sydney:20230910T110000
DTSTAMP:20260420T021906
CREATED:20230721T014403Z
LAST-MODIFIED:20230721T014404Z
UID:20497-1694332800-1694343600@www.pittwatermotorclub.org.au
SUMMARY:Rosebud Cafe\, Castle Cove
DESCRIPTION:PMEA will have reserved seating outdoors for numerous tables. If the weather is inclement\, there are plenty of tables inside. \nParking available outside and in surrounding streets. Easy access\, Castle Cove is tucked away just off Eastern Valley Way\, East Chatswood area. \nMeet /Start: Meet 7.45am Mona Vale Library carpark. Depart 8.00am sharp. We travel via Wakehurst Parkway* and Roseville Bridge to destination. \n**Wakehurst Parkway: additional pick up point for those on the lower beaches\, Dreadnought Rd Oxford Falls (outside Oxford Falls Peace Park-the older Xmas party place). We will watch for the cars to go past and then catch up** \nPre-Booking: Essential as limited tables reserved for maximum 26 persons at 8.45 a.m. \nCost: Individual payment at venue. \nNote: Make sure you RSVP and if you can't attend\, please let the organiser know by the 'can't go' button. \nDeparture: At your leisure \nNote: Free street parking \nBooking: Essential
URL:https://www.pittwatermotorclub.org.au/event/rosebud-cafe-castle-cove/
LOCATION:Rosebud Cafe\, 10 Deepwater Rd\, Castle Cove\, NSW\, 2069\, Australia
CATEGORIES:Cafe or Restaurant
ORGANIZER;CN="President & Events - David Cawthorn":MAILTO:president2022pmea@gmail.com
END:VEVENT
END:VCALENDAR