BEGIN:VCALENDAR
VERSION:2.0
PRODID:-//Pittwater Motor Enthusiasts Association - ECPv6.15.15//NONSGML v1.0//EN
CALSCALE:GREGORIAN
METHOD:PUBLISH
X-WR-CALNAME:Pittwater Motor Enthusiasts Association
X-ORIGINAL-URL:https://www.pittwatermotorclub.org.au
X-WR-CALDESC:Events for Pittwater Motor Enthusiasts Association
REFRESH-INTERVAL;VALUE=DURATION:PT1H
X-Robots-Tag:noindex
X-PUBLISHED-TTL:PT1H
BEGIN:VTIMEZONE
TZID:Australia/Sydney
BEGIN:STANDARD
TZOFFSETFROM:+1100
TZOFFSETTO:+1000
TZNAME:AEST
DTSTART:20220402T160000
END:STANDARD
BEGIN:DAYLIGHT
TZOFFSETFROM:+1000
TZOFFSETTO:+1100
TZNAME:AEDT
DTSTART:20221001T160000
END:DAYLIGHT
BEGIN:STANDARD
TZOFFSETFROM:+1100
TZOFFSETTO:+1000
TZNAME:AEST
DTSTART:20230401T160000
END:STANDARD
BEGIN:DAYLIGHT
TZOFFSETFROM:+1000
TZOFFSETTO:+1100
TZNAME:AEDT
DTSTART:20230930T160000
END:DAYLIGHT
BEGIN:STANDARD
TZOFFSETFROM:+1100
TZOFFSETTO:+1000
TZNAME:AEST
DTSTART:20240406T160000
END:STANDARD
BEGIN:DAYLIGHT
TZOFFSETFROM:+1000
TZOFFSETTO:+1100
TZNAME:AEDT
DTSTART:20241005T160000
END:DAYLIGHT
END:VTIMEZONE
BEGIN:VEVENT
DTSTART;TZID=Australia/Sydney:20230820T083000
DTEND;TZID=Australia/Sydney:20230820T150000
DTSTAMP:20260420T063758
CREATED:20221208T054053Z
LAST-MODIFIED:20230615T074037Z
UID:16646-1692520200-1692543600@www.pittwatermotorclub.org.au
SUMMARY:Shannon’s Motoring Display Day 2023\, Sydney Motor Sport Park\, Eastern Creek
DESCRIPTION:PMEA will again participate in the annual Shannon’s Display Day. \nLargest display of classic cars in NSW. Up to 2\,000 vehicles attend. You also get a chance to drive around the circuit as a group. This is a highlight on most club’s calendars every year. \nLots of stall holders with motoring books\, brick-a-brac available to purchase. An event not to be missed. \nMeet /Start: Meet Mona Vale Library carpark. Depart 7.15am sharp. \nAdditional pick up: outside Bunnings Belrose on Mona Vale Rd\, before slip road to Narabang Way. Depart 7.30 am.  \nRoute via Mona Vale Rd\, Ryde Bridge\, Concord Rd\, Homebush Bay Drive\, M4 to destination. \nAlternatively\, make your own way directly to the event in your own time. \nDeparture: NOT before 2.30pm \nCost: $25.00 per entry (this covers ALL passengers too in your vehicle) \nPMEA MEMBERS ONLY - with number of club vehicles restricted to 15 participants. BE QUICK...ONCE TICKETS ARE GONE\, THERE ARE NO MORE!!! \nNote: Delays occur at gate entry point if you arrive later than 8.30am. You will need to also RSVP so that the number of  remaining tickets available are accurately showing. \nBooking: Essential via PMEA.  \nPlease indicate your interest by using the RSVP button. The organiser will be advised of your attendance. Please then immediately pay by EFT transfer to PMEA at BSB 062-205\, Account 1046 7182 with your SURNAME and SHANNONS as reference.  Tickets will be provided at a future General Meeting. \nConcours Entry Forms-  Participants wanting to enter in the Concours must complete a separate form and make payment directly with CMC (the controlling body of the Shannons Event). \nPlease contact by email PMEA President David Cawthorn for Concours Forms (PMEA Members only). \nNote: Only one Concours entry per vehicle decade per participating club. Entries must be sanctioned by each individual club before submitting entry form. \nConcours entries close Friday 21st July 2023.
URL:https://www.pittwatermotorclub.org.au/event/shannons-motoring-display-day-2023-sydney-motor-sport-park-eastern-creek/
LOCATION:Sydney Motorsport Park\, Ferrers Rd\, Eastern Creek\, New South Wales\, Australia
CATEGORIES:Display Day
ATTACH;FMTTYPE=image/jpeg:https://www.pittwatermotorclub.org.au/wp-content/uploads/2022/12/IMG_8146.jpg
ORGANIZER;CN="PMEA Treasurer - Graeme Smith":MAILTO:treasurerpmea@bigpond.com
END:VEVENT
END:VCALENDAR