BEGIN:VCALENDAR
VERSION:2.0
PRODID:-//Pittwater Motor Enthusiasts Association - ECPv6.15.15//NONSGML v1.0//EN
CALSCALE:GREGORIAN
METHOD:PUBLISH
X-WR-CALNAME:Pittwater Motor Enthusiasts Association
X-ORIGINAL-URL:https://www.pittwatermotorclub.org.au
X-WR-CALDESC:Events for Pittwater Motor Enthusiasts Association
REFRESH-INTERVAL;VALUE=DURATION:PT1H
X-Robots-Tag:noindex
X-PUBLISHED-TTL:PT1H
BEGIN:VTIMEZONE
TZID:Australia/Sydney
BEGIN:STANDARD
TZOFFSETFROM:+1100
TZOFFSETTO:+1000
TZNAME:AEST
DTSTART:20200404T160000
END:STANDARD
BEGIN:DAYLIGHT
TZOFFSETFROM:+1000
TZOFFSETTO:+1100
TZNAME:AEDT
DTSTART:20201003T160000
END:DAYLIGHT
BEGIN:STANDARD
TZOFFSETFROM:+1100
TZOFFSETTO:+1000
TZNAME:AEST
DTSTART:20210403T160000
END:STANDARD
BEGIN:DAYLIGHT
TZOFFSETFROM:+1000
TZOFFSETTO:+1100
TZNAME:AEDT
DTSTART:20211002T160000
END:DAYLIGHT
BEGIN:STANDARD
TZOFFSETFROM:+1100
TZOFFSETTO:+1000
TZNAME:AEST
DTSTART:20220402T160000
END:STANDARD
BEGIN:DAYLIGHT
TZOFFSETFROM:+1000
TZOFFSETTO:+1100
TZNAME:AEDT
DTSTART:20221001T160000
END:DAYLIGHT
END:VTIMEZONE
BEGIN:VEVENT
DTSTART;TZID=Australia/Sydney:20210815T083000
DTEND;TZID=Australia/Sydney:20210815T150000
DTSTAMP:20260426T065252
CREATED:20210319T091933Z
LAST-MODIFIED:20210728T015602Z
UID:2023-1629016200-1629039600@www.pittwatermotorclub.org.au
SUMMARY:Shannon’s Motoring Display Day\, Eastern Creek- ***POSTPONED DUE NSW GOVT HEALTH LOCKDOWN***
DESCRIPTION:PMEA will again participate in the annual Shannon’s Display Day. \nLargest display of classic cars in NSW. Up to 2\,000 vehicles attend. You also get a chance to drive around the circuit as a group. This is a highlight on most club’s calendars every year. \nLots of stall holders with motoring books\, brick-a-brac available to purchase. \nAn event not to be missed. \nMeet /Start: Meet Mona Vale Library carpark. Depart 7.15am sharp. \nAdditional pick up: outside Bunnings Belrose on Mona Vale Rd\, before slip road to Narabang Way. Depart 7.30 am.  \nRoute TBA. \nAlternatively\, make your own way directly to the event in your own time. \nDeparture: NOT before 2.30pm \nCost: $25.00 per entry \nNote: Delays occur at gate entry point if you arrive later than 8.30am. \nBooking: Essential via PMEA. ONLY 25 tickets available \nPlease indicate your interest by using the BOOK button. The organiser will be advised of your attendance. Please then immediately pay by EFT transfer to PMEA at BSB 062-205\, Account 1046 7182 with your SURNAME and SHANNONS as reference.  Tickets will be provided at a future General Meeting. \nCLICK HERE for instructions on the day. \nCLICK HERE for Concours Entry Form
URL:https://www.pittwatermotorclub.org.au/event/shannons-motoring-display-day-sydney-motorsport-park-eastern-creek/
LOCATION:Sydney Motorsport Park\, Ferrers Rd\, Eastern Creek\, New South Wales\, Australia
END:VEVENT
END:VCALENDAR