BEGIN:VCALENDAR
VERSION:2.0
PRODID:-//Pittwater Motor Enthusiasts Association - ECPv6.15.15//NONSGML v1.0//EN
CALSCALE:GREGORIAN
METHOD:PUBLISH
X-WR-CALNAME:Pittwater Motor Enthusiasts Association
X-ORIGINAL-URL:https://www.pittwatermotorclub.org.au
X-WR-CALDESC:Events for Pittwater Motor Enthusiasts Association
REFRESH-INTERVAL;VALUE=DURATION:PT1H
X-Robots-Tag:noindex
X-PUBLISHED-TTL:PT1H
BEGIN:VTIMEZONE
TZID:Australia/Sydney
BEGIN:STANDARD
TZOFFSETFROM:+1100
TZOFFSETTO:+1000
TZNAME:AEST
DTSTART:20210403T160000
END:STANDARD
BEGIN:DAYLIGHT
TZOFFSETFROM:+1000
TZOFFSETTO:+1100
TZNAME:AEDT
DTSTART:20211002T160000
END:DAYLIGHT
BEGIN:STANDARD
TZOFFSETFROM:+1100
TZOFFSETTO:+1000
TZNAME:AEST
DTSTART:20220402T160000
END:STANDARD
BEGIN:DAYLIGHT
TZOFFSETFROM:+1000
TZOFFSETTO:+1100
TZNAME:AEDT
DTSTART:20221001T160000
END:DAYLIGHT
BEGIN:STANDARD
TZOFFSETFROM:+1100
TZOFFSETTO:+1000
TZNAME:AEST
DTSTART:20230401T160000
END:STANDARD
BEGIN:DAYLIGHT
TZOFFSETFROM:+1000
TZOFFSETTO:+1100
TZNAME:AEDT
DTSTART:20230930T160000
END:DAYLIGHT
END:VTIMEZONE
BEGIN:VEVENT
DTSTART;TZID=Australia/Sydney:20220828T080000
DTEND;TZID=Australia/Sydney:20220828T110000
DTSTAMP:20260423T221828
CREATED:20220202T065004Z
LAST-MODIFIED:20220724T075829Z
UID:12809-1661673600-1661684400@www.pittwatermotorclub.org.au
SUMMARY:MG Run & BYO Picnic\, Sous Le Soleil at Roseville Park
DESCRIPTION:We are trying something new with our first PMEA BYO picnic featuring MG cars in Roseville Park\, surrounding the historic 'The Firs" cottage. \nPMEA have heaps of MGB's\, and of course MGA's\, Sprites and others\, so get your driving gloves out\, hat on \, roof down and enjoy the drive with your fellow MG'ers!! \nHopefully the sun will be shining. In the event of rain\, it will be postponed. \nOf course as always\, every other brand is welcome too\, just don't get in the way of the MGB parade on the way!! \nIn the last quarter of the 19th century\, Richard Archbold Jnr built a two-roomed wooden cottage that became known as “The Firs”\, appropriately named after the large number of fir trees planted around the house. Today it is home of a very popular French Restaurant\, "Sous Le Soleil".  \n'The Kiosk' at the side of this restaurant serves takeaway coffee and meals during the mornings. So BYO picnic supplies\, if you don't want to bring your own coffee\, you can purchase at the kiosk. \nRoseville Park has plenty of free parking for our classic vehicles and there are plenty of trees to provide shade. The grounds are very extensive\, so plenty of space to spread out if required. \nToilet facilities within the grounds.  \nBring those PMEA windscreen banners and flags! \nMeet /Start: Meet 7.45am Mona Vale Library carpark. Depart 8.00am sharp.  \n *Wakehurst Parkway: additional pick up point for those on the lower beaches\, Dreadnought Rd Oxford Falls (western side of Wakehurst Parkway). We will watch for the cars to go past and then catch up. Departure time 8.20am from this location. \nWe travel via Wakehurst Parkway and Roseville Bridge to destination. \nDeparture: At your leisure \nCost: FREE !! \nNote: Plenty of parking\, but caution with sharing parking with tennis court players. Parking in street available also.   \nBooking: RSVP preferred but also just turn up if you wish. \n 
URL:https://www.pittwatermotorclub.org.au/event/sous-le-soleil-byo-picnic-at-roseville-park/
CATEGORIES:BBQ or Picnic
ATTACH;FMTTYPE=image/jpeg:https://www.pittwatermotorclub.org.au/wp-content/uploads/2021/03/heritage-day1.jpg
ORGANIZER;CN="President and Events - David Cawthorn":MAILTO:president2022pmea@gmail.com
END:VEVENT
END:VCALENDAR