BEGIN:VCALENDAR
VERSION:2.0
PRODID:-//Pittwater Motor Enthusiasts Association - ECPv6.15.15//NONSGML v1.0//EN
CALSCALE:GREGORIAN
METHOD:PUBLISH
X-WR-CALNAME:Pittwater Motor Enthusiasts Association
X-ORIGINAL-URL:https://www.pittwatermotorclub.org.au
X-WR-CALDESC:Events for Pittwater Motor Enthusiasts Association
REFRESH-INTERVAL;VALUE=DURATION:PT1H
X-Robots-Tag:noindex
X-PUBLISHED-TTL:PT1H
BEGIN:VTIMEZONE
TZID:Australia/Sydney
BEGIN:STANDARD
TZOFFSETFROM:+1100
TZOFFSETTO:+1000
TZNAME:AEST
DTSTART:20210403T160000
END:STANDARD
BEGIN:DAYLIGHT
TZOFFSETFROM:+1000
TZOFFSETTO:+1100
TZNAME:AEDT
DTSTART:20211002T160000
END:DAYLIGHT
BEGIN:STANDARD
TZOFFSETFROM:+1100
TZOFFSETTO:+1000
TZNAME:AEST
DTSTART:20220402T160000
END:STANDARD
BEGIN:DAYLIGHT
TZOFFSETFROM:+1000
TZOFFSETTO:+1100
TZNAME:AEDT
DTSTART:20221001T160000
END:DAYLIGHT
BEGIN:STANDARD
TZOFFSETFROM:+1100
TZOFFSETTO:+1000
TZNAME:AEST
DTSTART:20230401T160000
END:STANDARD
BEGIN:DAYLIGHT
TZOFFSETFROM:+1000
TZOFFSETTO:+1100
TZNAME:AEDT
DTSTART:20230930T160000
END:DAYLIGHT
END:VTIMEZONE
BEGIN:VEVENT
DTSTART;TZID=Australia/Sydney:20221023T080000
DTEND;TZID=Australia/Sydney:20221023T110000
DTSTAMP:20260425T025028
CREATED:20221019T233702Z
LAST-MODIFIED:20221020T011408Z
UID:15927-1666512000-1666522800@www.pittwatermotorclub.org.au
SUMMARY:Wakehurst Golf Club Café\, Seaforth
DESCRIPTION:**Wet weather default replacement for this Sunday's McCarrs Creek BBQ*** \nAlways a perennial PMEA favourite\, the café has wonderful district views overlooking the golf course. Large undercover deck with seating outside\, as well as inside. \nThe food is excellent and the prices very reasonable. We have reservations booked for 40-50 persons until 11 a.m.\, both outside and inside tables.  \nMeet /Start: Meet 7.45am Mona Vale Library carpark. Depart 8.00am sharp. We travel via Wakehurst Parkway to destination. \nDeparture: At your leisure \nCost: Individual payment at venue \nNote: Plenty of free parking in the club carpark \nBooking: Essential
URL:https://www.pittwatermotorclub.org.au/event/wakehurst-golf-club-cafe-seaforth-3/
LOCATION:Wakehurst Golf Club Café\, Upper Clontarf St\, Seaforth\, New South Wales\, Australia
CATEGORIES:Cafe or Restaurant
ATTACH;FMTTYPE=image/jpeg:https://www.pittwatermotorclub.org.au/wp-content/uploads/2022/01/flavour-buds-wakehurst-golf-course-wakehurst-golf-31.jpeg
ORGANIZER;CN="President & Events - David Cawthorn":MAILTO:president2022pmea@gmail.com
END:VEVENT
END:VCALENDAR