BEGIN:VCALENDAR
VERSION:2.0
PRODID:-//Pittwater Motor Enthusiasts Association - ECPv6.15.15//NONSGML v1.0//EN
CALSCALE:GREGORIAN
METHOD:PUBLISH
X-WR-CALNAME:Pittwater Motor Enthusiasts Association
X-ORIGINAL-URL:https://www.pittwatermotorclub.org.au
X-WR-CALDESC:Events for Pittwater Motor Enthusiasts Association
REFRESH-INTERVAL;VALUE=DURATION:PT1H
X-Robots-Tag:noindex
X-PUBLISHED-TTL:PT1H
BEGIN:VTIMEZONE
TZID:Australia/Sydney
BEGIN:STANDARD
TZOFFSETFROM:+1100
TZOFFSETTO:+1000
TZNAME:AEST
DTSTART:20200404T160000
END:STANDARD
BEGIN:DAYLIGHT
TZOFFSETFROM:+1000
TZOFFSETTO:+1100
TZNAME:AEDT
DTSTART:20201003T160000
END:DAYLIGHT
BEGIN:STANDARD
TZOFFSETFROM:+1100
TZOFFSETTO:+1000
TZNAME:AEST
DTSTART:20210403T160000
END:STANDARD
BEGIN:DAYLIGHT
TZOFFSETFROM:+1000
TZOFFSETTO:+1100
TZNAME:AEDT
DTSTART:20211002T160000
END:DAYLIGHT
BEGIN:STANDARD
TZOFFSETFROM:+1100
TZOFFSETTO:+1000
TZNAME:AEST
DTSTART:20220402T160000
END:STANDARD
BEGIN:DAYLIGHT
TZOFFSETFROM:+1000
TZOFFSETTO:+1100
TZNAME:AEDT
DTSTART:20221001T160000
END:DAYLIGHT
BEGIN:STANDARD
TZOFFSETFROM:+1100
TZOFFSETTO:+1000
TZNAME:AEST
DTSTART:20230401T160000
END:STANDARD
BEGIN:DAYLIGHT
TZOFFSETFROM:+1000
TZOFFSETTO:+1100
TZNAME:AEDT
DTSTART:20230930T160000
END:DAYLIGHT
BEGIN:STANDARD
TZOFFSETFROM:+1100
TZOFFSETTO:+1000
TZNAME:AEST
DTSTART:20240406T160000
END:STANDARD
BEGIN:DAYLIGHT
TZOFFSETFROM:+1000
TZOFFSETTO:+1100
TZNAME:AEDT
DTSTART:20241005T160000
END:DAYLIGHT
END:VTIMEZONE
BEGIN:VEVENT
DTSTART;TZID=Australia/Sydney:20230205T070000
DTEND;TZID=Australia/Sydney:20230205T110000
DTSTAMP:20260422T092947
CREATED:20221116T054441Z
LAST-MODIFIED:20221116T054929Z
UID:16246-1675580400-1675594800@www.pittwatermotorclub.org.au
SUMMARY:AutoBrunch\, St Ives Showground
DESCRIPTION:AutoBrunch St Ives is a monthly coming together of enthusiasts with a myriad of eclectic vehicles. These range from exotic supercars through to veteran/vintage cars and British\, American and European classics. \nFrom 1920's to present day\, there is always something different to feast your eyes on. This is a large monthly event\, free of charge to enter and display. \nPMEA Club members are invited to display their vehicles. The event is organised by the North Shore Sporting Car Club.  \nUsually 200+ vehicles on show from veteran to modern. It’s a nice location with lots of space\, shade and toilets. You will need to get in early if you want a good spot to park and display. \nThe Lions Club offers egg and bacon rolls and selling soft drinks to raise funds. Several coffee vans onsite. \nView link below for more information. \nCollecting Cars Auto Brunch \n  \nMeet /Start: Go direct to location. \nDeparture: At your leisure \nCost: NIL \nNote: Held on the 1st Sunday of each month\, weather permitting.  \nBooking: Please RSVP 
URL:https://www.pittwatermotorclub.org.au/event/autobrunch-st-ives-showground/
LOCATION:AutoBrunch\, St Ives Showground\, 450 Mona Vale Rd\, St Ives\, NSW\, 2075\, Australia
CATEGORIES:BBQ or Picnic,Display Day
ATTACH;FMTTYPE=image/jpeg:https://www.pittwatermotorclub.org.au/wp-content/uploads/2022/11/IMG_6572.jpg
ORGANIZER;CN="President and Events - David Cawthorn":MAILTO:president2022pmea@gmail.com
END:VEVENT
BEGIN:VEVENT
DTSTART;TZID=Australia/Sydney:20230126T100000
DTEND;TZID=Australia/Sydney:20230126T150000
DTSTAMP:20260422T092947
CREATED:20221101T223908Z
LAST-MODIFIED:20230106T001802Z
UID:16077-1674727200-1674745200@www.pittwatermotorclub.org.au
SUMMARY:Fagan Park\, Galston-Australia Day Open Day\, Picnic and Car Display
DESCRIPTION:AutoBrunch St Ives is a monthly coming together of enthusiasts with a myriad of eclectic vehicles. These range from exotic supercars through to veteran/vintage cars and British\, American and European classics. \nFrom 1920's to present day\, there is always something different to feast your eyes on. This is a large monthly event\, free of charge to enter and display. \nPMEA Club members are invited to display their vehicles. The event is organised by the North Shore Sporting Car Club.  \nUsually 200+ vehicles on show from veteran to modern. It’s a nice location with lots of space\, shade and toilets. You will need to get in early if you want a good spot to park and display. \nThe Lions Club offers egg and bacon rolls and selling soft drinks to raise funds. Several coffee vans onsite. \nView link below for more information. \nCollecting Cars Auto Brunch \n  \nMeet /Start: Go direct to location. \nDeparture: At your leisure \nCost: NIL \nNote: Held on the 1st Sunday of each month\, weather permitting.  \nBooking: Please RSVP 
URL:https://www.pittwatermotorclub.org.au/event/fagan-park-galston-australia-day-open-day-picnic-and-car-display-2/
LOCATION:Fagan Park\, 38-48 Arcadia Rd\, Galston\, NSW\, 2159\, Australia
CATEGORIES:BBQ or Picnic,Display Day
ORGANIZER;CN="President & Events - David Cawthorn":MAILTO:president2022pmea@gmail.com
END:VEVENT
BEGIN:VEVENT
DTSTART;TZID=Australia/Sydney:20230115T080000
DTEND;TZID=Australia/Sydney:20230115T110000
DTSTAMP:20260422T092947
CREATED:20221101T053059Z
LAST-MODIFIED:20221218T025824Z
UID:16033-1673769600-1673780400@www.pittwatermotorclub.org.au
SUMMARY:European\, Japanese and Motorbikes -Big Day Out BBQ
DESCRIPTION:AutoBrunch St Ives is a monthly coming together of enthusiasts with a myriad of eclectic vehicles. These range from exotic supercars through to veteran/vintage cars and British\, American and European classics. \nFrom 1920's to present day\, there is always something different to feast your eyes on. This is a large monthly event\, free of charge to enter and display. \nPMEA Club members are invited to display their vehicles. The event is organised by the North Shore Sporting Car Club.  \nUsually 200+ vehicles on show from veteran to modern. It’s a nice location with lots of space\, shade and toilets. You will need to get in early if you want a good spot to park and display. \nThe Lions Club offers egg and bacon rolls and selling soft drinks to raise funds. Several coffee vans onsite. \nView link below for more information. \nCollecting Cars Auto Brunch \n  \nMeet /Start: Go direct to location. \nDeparture: At your leisure \nCost: NIL \nNote: Held on the 1st Sunday of each month\, weather permitting.  \nBooking: Please RSVP 
URL:https://www.pittwatermotorclub.org.au/event/european-japanese-vehicles-big-day-out-bbq/
LOCATION:McCarrs Creek Reserve\, McCarrs Creek Reserve\, Church Point\, New South Wales\, Australia
CATEGORIES:BBQ or Picnic,Display Day
ORGANIZER;CN="President & Events - David Cawthorn":MAILTO:president2022pmea@gmail.com
END:VEVENT
BEGIN:VEVENT
DTSTART;TZID=Australia/Sydney:20221204T080000
DTEND;TZID=Australia/Sydney:20221204T110000
DTSTAMP:20260422T092947
CREATED:20220420T062430Z
LAST-MODIFIED:20221120T072014Z
UID:13686-1670140800-1670151600@www.pittwatermotorclub.org.au
SUMMARY:British Vehicles Big Day Out BBQ
DESCRIPTION:AutoBrunch St Ives is a monthly coming together of enthusiasts with a myriad of eclectic vehicles. These range from exotic supercars through to veteran/vintage cars and British\, American and European classics. \nFrom 1920's to present day\, there is always something different to feast your eyes on. This is a large monthly event\, free of charge to enter and display. \nPMEA Club members are invited to display their vehicles. The event is organised by the North Shore Sporting Car Club.  \nUsually 200+ vehicles on show from veteran to modern. It’s a nice location with lots of space\, shade and toilets. You will need to get in early if you want a good spot to park and display. \nThe Lions Club offers egg and bacon rolls and selling soft drinks to raise funds. Several coffee vans onsite. \nView link below for more information. \nCollecting Cars Auto Brunch \n  \nMeet /Start: Go direct to location. \nDeparture: At your leisure \nCost: NIL \nNote: Held on the 1st Sunday of each month\, weather permitting.  \nBooking: Please RSVP 
URL:https://www.pittwatermotorclub.org.au/event/british-vehicles-big-day-out-bbq-2/
LOCATION:McCarrs Creek Reserve\, McCarrs Creek Reserve\, Church Point\, New South Wales\, Australia
CATEGORIES:BBQ or Picnic
ATTACH;FMTTYPE=image/jpeg:https://www.pittwatermotorclub.org.au/wp-content/uploads/2022/09/IMG_4596.jpg
ORGANIZER;CN="President and Events - David Cawthorn":MAILTO:president2022pmea@gmail.com
END:VEVENT
BEGIN:VEVENT
DTSTART;TZID=Australia/Sydney:20221120T080000
DTEND;TZID=Australia/Sydney:20221120T150000
DTSTAMP:20260422T092947
CREATED:20220919T065339Z
LAST-MODIFIED:20221106T053925Z
UID:15701-1668931200-1668956400@www.pittwatermotorclub.org.au
SUMMARY:Private Visit To Large Car Collection with BBQ\, South West Sydney
DESCRIPTION:AutoBrunch St Ives is a monthly coming together of enthusiasts with a myriad of eclectic vehicles. These range from exotic supercars through to veteran/vintage cars and British\, American and European classics. \nFrom 1920's to present day\, there is always something different to feast your eyes on. This is a large monthly event\, free of charge to enter and display. \nPMEA Club members are invited to display their vehicles. The event is organised by the North Shore Sporting Car Club.  \nUsually 200+ vehicles on show from veteran to modern. It’s a nice location with lots of space\, shade and toilets. You will need to get in early if you want a good spot to park and display. \nThe Lions Club offers egg and bacon rolls and selling soft drinks to raise funds. Several coffee vans onsite. \nView link below for more information. \nCollecting Cars Auto Brunch \n  \nMeet /Start: Go direct to location. \nDeparture: At your leisure \nCost: NIL \nNote: Held on the 1st Sunday of each month\, weather permitting.  \nBooking: Please RSVP 
URL:https://www.pittwatermotorclub.org.au/event/private-visit-to-large-car-collection-with-bbq-south-west-sydney/
LOCATION:Patridge VC Rest Area M31\, Partridge VC Rest Area\, Menangle\, NSW\, 2568\, Australia
CATEGORIES:BBQ or Picnic,Day Trip,Special Event
ORGANIZER;CN="President and Events - David Cawthorn":MAILTO:president2022pmea@gmail.com
END:VEVENT
BEGIN:VEVENT
DTSTART;TZID=Australia/Sydney:20220828T080000
DTEND;TZID=Australia/Sydney:20220828T110000
DTSTAMP:20260422T092947
CREATED:20220202T065004Z
LAST-MODIFIED:20220724T075829Z
UID:12809-1661673600-1661684400@www.pittwatermotorclub.org.au
SUMMARY:MG Run & BYO Picnic\, Sous Le Soleil at Roseville Park
DESCRIPTION:AutoBrunch St Ives is a monthly coming together of enthusiasts with a myriad of eclectic vehicles. These range from exotic supercars through to veteran/vintage cars and British\, American and European classics. \nFrom 1920's to present day\, there is always something different to feast your eyes on. This is a large monthly event\, free of charge to enter and display. \nPMEA Club members are invited to display their vehicles. The event is organised by the North Shore Sporting Car Club.  \nUsually 200+ vehicles on show from veteran to modern. It’s a nice location with lots of space\, shade and toilets. You will need to get in early if you want a good spot to park and display. \nThe Lions Club offers egg and bacon rolls and selling soft drinks to raise funds. Several coffee vans onsite. \nView link below for more information. \nCollecting Cars Auto Brunch \n  \nMeet /Start: Go direct to location. \nDeparture: At your leisure \nCost: NIL \nNote: Held on the 1st Sunday of each month\, weather permitting.  \nBooking: Please RSVP 
URL:https://www.pittwatermotorclub.org.au/event/sous-le-soleil-byo-picnic-at-roseville-park/
LOCATION:NSW
CATEGORIES:BBQ or Picnic
ATTACH;FMTTYPE=image/jpeg:https://www.pittwatermotorclub.org.au/wp-content/uploads/2021/03/heritage-day1.jpg
ORGANIZER;CN="President and Events - David Cawthorn":MAILTO:president2022pmea@gmail.com
END:VEVENT
BEGIN:VEVENT
DTSTART;TZID=Australia/Sydney:20220814T083000
DTEND;TZID=Australia/Sydney:20220814T150000
DTSTAMP:20260422T092947
CREATED:20211226T064158Z
LAST-MODIFIED:20220718T073848Z
UID:9755-1660465800-1660489200@www.pittwatermotorclub.org.au
SUMMARY:Shannon’s Motoring Display Day 2022\, Sydney Motor Sport Park\, Eastern Creek
DESCRIPTION:AutoBrunch St Ives is a monthly coming together of enthusiasts with a myriad of eclectic vehicles. These range from exotic supercars through to veteran/vintage cars and British\, American and European classics. \nFrom 1920's to present day\, there is always something different to feast your eyes on. This is a large monthly event\, free of charge to enter and display. \nPMEA Club members are invited to display their vehicles. The event is organised by the North Shore Sporting Car Club.  \nUsually 200+ vehicles on show from veteran to modern. It’s a nice location with lots of space\, shade and toilets. You will need to get in early if you want a good spot to park and display. \nThe Lions Club offers egg and bacon rolls and selling soft drinks to raise funds. Several coffee vans onsite. \nView link below for more information. \nCollecting Cars Auto Brunch \n  \nMeet /Start: Go direct to location. \nDeparture: At your leisure \nCost: NIL \nNote: Held on the 1st Sunday of each month\, weather permitting.  \nBooking: Please RSVP 
URL:https://www.pittwatermotorclub.org.au/event/shannons-motoring-display-day-2022-sydney-motor-sport-park-eastern-creek/
LOCATION:Sydney Motorsport Park\, Ferrers Rd\, Eastern Creek\, New South Wales\, Australia
CATEGORIES:BBQ or Picnic,Display Day
ORGANIZER;CN="PMEA Treasurer - Graeme Smith":MAILTO:treasurerpmea@bigpond.com
END:VEVENT
BEGIN:VEVENT
DTSTART;TZID=Australia/Sydney:20220508T080000
DTEND;TZID=Australia/Sydney:20220508T110000
DTSTAMP:20260422T092947
CREATED:20211227T230808Z
LAST-MODIFIED:20220423T074557Z
UID:11663-1651996800-1652007600@www.pittwatermotorclub.org.au
SUMMARY:European & Japanese Vehicles Big Day Out BBQ
DESCRIPTION:AutoBrunch St Ives is a monthly coming together of enthusiasts with a myriad of eclectic vehicles. These range from exotic supercars through to veteran/vintage cars and British\, American and European classics. \nFrom 1920's to present day\, there is always something different to feast your eyes on. This is a large monthly event\, free of charge to enter and display. \nPMEA Club members are invited to display their vehicles. The event is organised by the North Shore Sporting Car Club.  \nUsually 200+ vehicles on show from veteran to modern. It’s a nice location with lots of space\, shade and toilets. You will need to get in early if you want a good spot to park and display. \nThe Lions Club offers egg and bacon rolls and selling soft drinks to raise funds. Several coffee vans onsite. \nView link below for more information. \nCollecting Cars Auto Brunch \n  \nMeet /Start: Go direct to location. \nDeparture: At your leisure \nCost: NIL \nNote: Held on the 1st Sunday of each month\, weather permitting.  \nBooking: Please RSVP 
URL:https://www.pittwatermotorclub.org.au/event/european-vehicles-big-day-out-bbq-2/
LOCATION:McCarrs Creek Reserve\, McCarrs Creek Reserve\, Church Point\, New South Wales\, Australia
CATEGORIES:BBQ or Picnic,Display Day
END:VEVENT
BEGIN:VEVENT
DTSTART;TZID=Australia/Sydney:20220126T100000
DTEND;TZID=Australia/Sydney:20220126T150000
DTSTAMP:20260422T092947
CREATED:20211216T022333Z
LAST-MODIFIED:20220123T041537Z
UID:11404-1643191200-1643209200@www.pittwatermotorclub.org.au
SUMMARY:Fagan Park\, Galston-Australia Day Open Day\, Picnic and Car Display
DESCRIPTION:AutoBrunch St Ives is a monthly coming together of enthusiasts with a myriad of eclectic vehicles. These range from exotic supercars through to veteran/vintage cars and British\, American and European classics. \nFrom 1920's to present day\, there is always something different to feast your eyes on. This is a large monthly event\, free of charge to enter and display. \nPMEA Club members are invited to display their vehicles. The event is organised by the North Shore Sporting Car Club.  \nUsually 200+ vehicles on show from veteran to modern. It’s a nice location with lots of space\, shade and toilets. You will need to get in early if you want a good spot to park and display. \nThe Lions Club offers egg and bacon rolls and selling soft drinks to raise funds. Several coffee vans onsite. \nView link below for more information. \nCollecting Cars Auto Brunch \n  \nMeet /Start: Go direct to location. \nDeparture: At your leisure \nCost: NIL \nNote: Held on the 1st Sunday of each month\, weather permitting.  \nBooking: Please RSVP 
URL:https://www.pittwatermotorclub.org.au/event/fagan-park-galston-australia-day-open-day-picnic-and-car-display/
LOCATION:Fagan Park\, 38-48 Arcadia Rd\, Galston\, NSW\, 2159\, Australia
CATEGORIES:BBQ or Picnic,Display Day
ORGANIZER;CN="President & Events - David Cawthorn":MAILTO:president2022pmea@gmail.com
END:VEVENT
BEGIN:VEVENT
DTSTART;TZID=Australia/Sydney:20220116T080000
DTEND;TZID=Australia/Sydney:20220116T110000
DTSTAMP:20260422T092947
CREATED:20210504T033852Z
LAST-MODIFIED:20220114T210432Z
UID:7619-1642320000-1642330800@www.pittwatermotorclub.org.au
SUMMARY:American Vehicles & Motorbikes Big Day Out BBQ
DESCRIPTION:AutoBrunch St Ives is a monthly coming together of enthusiasts with a myriad of eclectic vehicles. These range from exotic supercars through to veteran/vintage cars and British\, American and European classics. \nFrom 1920's to present day\, there is always something different to feast your eyes on. This is a large monthly event\, free of charge to enter and display. \nPMEA Club members are invited to display their vehicles. The event is organised by the North Shore Sporting Car Club.  \nUsually 200+ vehicles on show from veteran to modern. It’s a nice location with lots of space\, shade and toilets. You will need to get in early if you want a good spot to park and display. \nThe Lions Club offers egg and bacon rolls and selling soft drinks to raise funds. Several coffee vans onsite. \nView link below for more information. \nCollecting Cars Auto Brunch \n  \nMeet /Start: Go direct to location. \nDeparture: At your leisure \nCost: NIL \nNote: Held on the 1st Sunday of each month\, weather permitting.  \nBooking: Please RSVP 
URL:https://www.pittwatermotorclub.org.au/event/american-vehicles-big-day-out-bbq/
LOCATION:McCarrs Creek Reserve\, McCarrs Creek Reserve\, Church Point\, New South Wales\, Australia
CATEGORIES:BBQ or Picnic,Display Day
ATTACH;FMTTYPE=image/jpeg:https://www.pittwatermotorclub.org.au/wp-content/uploads/2021/05/IMG_4341-scaled.jpg
ORGANIZER;CN="President & Events - David Cawthorn":MAILTO:president2022pmea@gmail.com
END:VEVENT
BEGIN:VEVENT
DTSTART;TZID=Australia/Sydney:20211017T080000
DTEND;TZID=Australia/Sydney:20211017T110000
DTSTAMP:20260422T092947
CREATED:20210504T030850Z
LAST-MODIFIED:20211007T044411Z
UID:7591-1634457600-1634468400@www.pittwatermotorclub.org.au
SUMMARY:British Vehicles Big Day Out BBQ
DESCRIPTION:AutoBrunch St Ives is a monthly coming together of enthusiasts with a myriad of eclectic vehicles. These range from exotic supercars through to veteran/vintage cars and British\, American and European classics. \nFrom 1920's to present day\, there is always something different to feast your eyes on. This is a large monthly event\, free of charge to enter and display. \nPMEA Club members are invited to display their vehicles. The event is organised by the North Shore Sporting Car Club.  \nUsually 200+ vehicles on show from veteran to modern. It’s a nice location with lots of space\, shade and toilets. You will need to get in early if you want a good spot to park and display. \nThe Lions Club offers egg and bacon rolls and selling soft drinks to raise funds. Several coffee vans onsite. \nView link below for more information. \nCollecting Cars Auto Brunch \n  \nMeet /Start: Go direct to location. \nDeparture: At your leisure \nCost: NIL \nNote: Held on the 1st Sunday of each month\, weather permitting.  \nBooking: Please RSVP 
URL:https://www.pittwatermotorclub.org.au/event/british-vehicles-big-day-out-bbq/
LOCATION:McCarrs Creek Reserve\, McCarrs Creek Reserve\, Church Point\, New South Wales\, Australia
CATEGORIES:BBQ or Picnic
ATTACH;FMTTYPE=image/jpeg:https://www.pittwatermotorclub.org.au/wp-content/uploads/2021/05/IMG_3756.jpg
ORGANIZER;CN="President & Events - David Cawthorn":MAILTO:president2022pmea@gmail.com
END:VEVENT
END:VCALENDAR