BEGIN:VCALENDAR
VERSION:2.0
PRODID:-//Pittwater Motor Enthusiasts Association - ECPv6.15.15//NONSGML v1.0//EN
CALSCALE:GREGORIAN
METHOD:PUBLISH
X-WR-CALNAME:Pittwater Motor Enthusiasts Association
X-ORIGINAL-URL:https://www.pittwatermotorclub.org.au
X-WR-CALDESC:Events for Pittwater Motor Enthusiasts Association
REFRESH-INTERVAL;VALUE=DURATION:PT1H
X-Robots-Tag:noindex
X-PUBLISHED-TTL:PT1H
BEGIN:VTIMEZONE
TZID:Australia/Sydney
BEGIN:STANDARD
TZOFFSETFROM:+1100
TZOFFSETTO:+1000
TZNAME:AEST
DTSTART:20250405T160000
END:STANDARD
BEGIN:DAYLIGHT
TZOFFSETFROM:+1000
TZOFFSETTO:+1100
TZNAME:AEDT
DTSTART:20251004T160000
END:DAYLIGHT
BEGIN:STANDARD
TZOFFSETFROM:+1100
TZOFFSETTO:+1000
TZNAME:AEST
DTSTART:20260404T160000
END:STANDARD
BEGIN:DAYLIGHT
TZOFFSETFROM:+1000
TZOFFSETTO:+1100
TZNAME:AEDT
DTSTART:20261003T160000
END:DAYLIGHT
BEGIN:STANDARD
TZOFFSETFROM:+1100
TZOFFSETTO:+1000
TZNAME:AEST
DTSTART:20270403T160000
END:STANDARD
BEGIN:DAYLIGHT
TZOFFSETFROM:+1000
TZOFFSETTO:+1100
TZNAME:AEDT
DTSTART:20271002T160000
END:DAYLIGHT
END:VTIMEZONE
BEGIN:VEVENT
DTSTART;TZID=Australia/Sydney:20260805T100000
DTEND;TZID=Australia/Sydney:20260805T140000
DTSTAMP:20260421T220428
CREATED:20251229T065801Z
LAST-MODIFIED:20251229T065803Z
UID:30207-1785924000-1785938400@www.pittwatermotorclub.org.au
SUMMARY:Mid-Week *LONG* Run - Pie In The Sky Cafe\, Cowan
DESCRIPTION:Please join us on our monthly longer mid-week run\, this time to the popular Pie In The Sky Cafe at Cowan.  \nMotorbikes and cars\, all welcome.  \nMeet /Start: Apex Park car park Mona Vale Beach\, off Darley St East. Arrive from 9.45 a.m. \nWe then depart 10.00 a.m via Mona Vale Rd to our additional meeting point\, outside Bunnings Belrose on Mona Vale Rd (before slip road to Narabang Way)\, where we then depart at 10.30 a.m. \nDriving time approximately 1hr 15 mins from Mona Vale to Cowan\, with estimated arrival 11.30-11.45 a.m. at Cowan. \nCost: Individual payment at venue \nNote: Contact Nigel in the event of wet weather!!! \nBooking: RSVP preferred and please stipulate your joining place\, so that we know who to look out for and where. Do this by typing the place next to your name\, e.g. Joe Bloggs (MV Beach) or Bunnings\, when you RSVP.
URL:https://www.pittwatermotorclub.org.au/event/mid-week-long-run-pie-in-the-sky-cafe-cowan-15/
LOCATION:Pie In The Sky\, Cowan\, 1296 Pacific Hwy\, Cowan\, NSW\, 2081\, Australia
CATEGORIES:Cafe or Restaurant,Monthly Long Run
ATTACH;FMTTYPE=image/jpeg:https://www.pittwatermotorclub.org.au/wp-content/uploads/2024/09/IMG_9184.jpg
END:VEVENT
BEGIN:VEVENT
DTSTART;TZID=Australia/Sydney:20260902T100000
DTEND;TZID=Australia/Sydney:20260902T140000
DTSTAMP:20260421T220428
CREATED:20251229T070115Z
LAST-MODIFIED:20251229T070115Z
UID:30216-1788343200-1788357600@www.pittwatermotorclub.org.au
SUMMARY:Mid-Week *LONG* Run - The Old Road Cafe\, Mount White
DESCRIPTION:Please join us on our monthly longer mid-week run\, this time to the popular Pie In The Sky Cafe at Cowan.  \nMotorbikes and cars\, all welcome.  \nMeet /Start: Apex Park car park Mona Vale Beach\, off Darley St East. Arrive from 9.45 a.m. \nWe then depart 10.00 a.m via Mona Vale Rd to our additional meeting point\, outside Bunnings Belrose on Mona Vale Rd (before slip road to Narabang Way)\, where we then depart at 10.30 a.m. \nDriving time approximately 1hr 15 mins from Mona Vale to Cowan\, with estimated arrival 11.30-11.45 a.m. at Cowan. \nCost: Individual payment at venue \nNote: Contact Nigel in the event of wet weather!!! \nBooking: RSVP preferred and please stipulate your joining place\, so that we know who to look out for and where. Do this by typing the place next to your name\, e.g. Joe Bloggs (MV Beach) or Bunnings\, when you RSVP.
URL:https://www.pittwatermotorclub.org.au/event/mid-week-long-run-the-old-road-cafe-mount-white-4/
LOCATION:The Old Road Cafe\, Mount White\, 170 Pacific Highway\, Mount White\, NSW\, 2250\, Australia
CATEGORIES:Cafe or Restaurant,Monthly Long Run
ATTACH;FMTTYPE=image/jpeg:https://www.pittwatermotorclub.org.au/wp-content/uploads/2025/12/IMG_7319.jpeg
END:VEVENT
BEGIN:VEVENT
DTSTART;TZID=Australia/Sydney:20261007T100000
DTEND;TZID=Australia/Sydney:20261007T140000
DTSTAMP:20260421T220428
CREATED:20251229T065848Z
LAST-MODIFIED:20251229T065850Z
UID:30210-1791367200-1791381600@www.pittwatermotorclub.org.au
SUMMARY:Mid-Week *LONG* Run - Pie In The Sky Cafe\, Cowan
DESCRIPTION:Please join us on our monthly longer mid-week run\, this time to the popular Pie In The Sky Cafe at Cowan.  \nMotorbikes and cars\, all welcome.  \nMeet /Start: Apex Park car park Mona Vale Beach\, off Darley St East. Arrive from 9.45 a.m. \nWe then depart 10.00 a.m via Mona Vale Rd to our additional meeting point\, outside Bunnings Belrose on Mona Vale Rd (before slip road to Narabang Way)\, where we then depart at 10.30 a.m. \nDriving time approximately 1hr 15 mins from Mona Vale to Cowan\, with estimated arrival 11.30-11.45 a.m. at Cowan. \nCost: Individual payment at venue \nNote: Contact Nigel in the event of wet weather!!! \nBooking: RSVP preferred and please stipulate your joining place\, so that we know who to look out for and where. Do this by typing the place next to your name\, e.g. Joe Bloggs (MV Beach) or Bunnings\, when you RSVP.
URL:https://www.pittwatermotorclub.org.au/event/mid-week-long-run-pie-in-the-sky-cafe-cowan-16/
LOCATION:Pie In The Sky\, Cowan\, 1296 Pacific Hwy\, Cowan\, NSW\, 2081\, Australia
CATEGORIES:Cafe or Restaurant,Monthly Long Run
ATTACH;FMTTYPE=image/jpeg:https://www.pittwatermotorclub.org.au/wp-content/uploads/2024/09/IMG_9184.jpg
END:VEVENT
BEGIN:VEVENT
DTSTART;TZID=Australia/Sydney:20261104T100000
DTEND;TZID=Australia/Sydney:20261104T140000
DTSTAMP:20260421T220428
CREATED:20251229T070152Z
LAST-MODIFIED:20251229T070153Z
UID:30219-1793786400-1793800800@www.pittwatermotorclub.org.au
SUMMARY:Mid-Week *LONG* Run - The Old Road Cafe\, Mount White
DESCRIPTION:Please join us on our monthly longer mid-week run\, this time to the popular Pie In The Sky Cafe at Cowan.  \nMotorbikes and cars\, all welcome.  \nMeet /Start: Apex Park car park Mona Vale Beach\, off Darley St East. Arrive from 9.45 a.m. \nWe then depart 10.00 a.m via Mona Vale Rd to our additional meeting point\, outside Bunnings Belrose on Mona Vale Rd (before slip road to Narabang Way)\, where we then depart at 10.30 a.m. \nDriving time approximately 1hr 15 mins from Mona Vale to Cowan\, with estimated arrival 11.30-11.45 a.m. at Cowan. \nCost: Individual payment at venue \nNote: Contact Nigel in the event of wet weather!!! \nBooking: RSVP preferred and please stipulate your joining place\, so that we know who to look out for and where. Do this by typing the place next to your name\, e.g. Joe Bloggs (MV Beach) or Bunnings\, when you RSVP.
URL:https://www.pittwatermotorclub.org.au/event/mid-week-long-run-the-old-road-cafe-mount-white-5/
LOCATION:The Old Road Cafe\, Mount White\, 170 Pacific Highway\, Mount White\, NSW\, 2250\, Australia
CATEGORIES:Cafe or Restaurant,Monthly Long Run
ATTACH;FMTTYPE=image/jpeg:https://www.pittwatermotorclub.org.au/wp-content/uploads/2025/12/IMG_7319.jpeg
END:VEVENT
BEGIN:VEVENT
DTSTART;TZID=Australia/Sydney:20261202T100000
DTEND;TZID=Australia/Sydney:20261202T140000
DTSTAMP:20260421T220428
CREATED:20251229T065935Z
LAST-MODIFIED:20251229T065935Z
UID:30213-1796205600-1796220000@www.pittwatermotorclub.org.au
SUMMARY:Mid-Week *LONG* Run - Pie In The Sky Cafe\, Cowan
DESCRIPTION:Please join us on our monthly longer mid-week run\, this time to the popular Pie In The Sky Cafe at Cowan.  \nMotorbikes and cars\, all welcome.  \nMeet /Start: Apex Park car park Mona Vale Beach\, off Darley St East. Arrive from 9.45 a.m. \nWe then depart 10.00 a.m via Mona Vale Rd to our additional meeting point\, outside Bunnings Belrose on Mona Vale Rd (before slip road to Narabang Way)\, where we then depart at 10.30 a.m. \nDriving time approximately 1hr 15 mins from Mona Vale to Cowan\, with estimated arrival 11.30-11.45 a.m. at Cowan. \nCost: Individual payment at venue \nNote: Contact Nigel in the event of wet weather!!! \nBooking: RSVP preferred and please stipulate your joining place\, so that we know who to look out for and where. Do this by typing the place next to your name\, e.g. Joe Bloggs (MV Beach) or Bunnings\, when you RSVP.
URL:https://www.pittwatermotorclub.org.au/event/mid-week-long-run-pie-in-the-sky-cafe-cowan-17/
LOCATION:Pie In The Sky\, Cowan\, 1296 Pacific Hwy\, Cowan\, NSW\, 2081\, Australia
CATEGORIES:Cafe or Restaurant,Monthly Long Run
ATTACH;FMTTYPE=image/jpeg:https://www.pittwatermotorclub.org.au/wp-content/uploads/2024/09/IMG_9184.jpg
END:VEVENT
END:VCALENDAR