BEGIN:VCALENDAR
VERSION:2.0
PRODID:-//Pittwater Motor Enthusiasts Association - ECPv6.15.15//NONSGML v1.0//EN
CALSCALE:GREGORIAN
METHOD:PUBLISH
X-WR-CALNAME:Pittwater Motor Enthusiasts Association
X-ORIGINAL-URL:https://www.pittwatermotorclub.org.au
X-WR-CALDESC:Events for Pittwater Motor Enthusiasts Association
REFRESH-INTERVAL;VALUE=DURATION:PT1H
X-Robots-Tag:noindex
X-PUBLISHED-TTL:PT1H
BEGIN:VTIMEZONE
TZID:Australia/Sydney
BEGIN:STANDARD
TZOFFSETFROM:+1100
TZOFFSETTO:+1000
TZNAME:AEST
DTSTART:20200404T160000
END:STANDARD
BEGIN:DAYLIGHT
TZOFFSETFROM:+1000
TZOFFSETTO:+1100
TZNAME:AEDT
DTSTART:20201003T160000
END:DAYLIGHT
BEGIN:STANDARD
TZOFFSETFROM:+1100
TZOFFSETTO:+1000
TZNAME:AEST
DTSTART:20210403T160000
END:STANDARD
BEGIN:DAYLIGHT
TZOFFSETFROM:+1000
TZOFFSETTO:+1100
TZNAME:AEDT
DTSTART:20211002T160000
END:DAYLIGHT
BEGIN:STANDARD
TZOFFSETFROM:+1100
TZOFFSETTO:+1000
TZNAME:AEST
DTSTART:20220402T160000
END:STANDARD
BEGIN:DAYLIGHT
TZOFFSETFROM:+1000
TZOFFSETTO:+1100
TZNAME:AEDT
DTSTART:20221001T160000
END:DAYLIGHT
END:VTIMEZONE
BEGIN:VEVENT
DTSTART;TZID=Australia/Sydney:20210512T130000
DTEND;TZID=Australia/Sydney:20210512T150000
DTSTAMP:20260425T233441
CREATED:20210417T081412Z
LAST-MODIFIED:20210507T092442Z
UID:2746-1620824400-1620831600@www.pittwatermotorclub.org.au
SUMMARY:Mid-Week Run to Club Belrose or Terrey Hills Tavern
DESCRIPTION:General Meetings are held every fortnight on Tuesday evenings\, commencing at 7.30pm and run for approximately 1 hour to 1 hour 15mins. \nNew members and visitors welcome. Free parking is available in the general car park. \nJoin us for complimentary canapés and sandwiches in the funky award winning Monkey Bun bar area after the meeting.  \nMembers may also purchase coffee and beverages at the main bar at very reasonable club prices.
URL:https://www.pittwatermotorclub.org.au/event/mid-week-run-to-club-belrose-or-terry-hills-tavern-3/
LOCATION:Club Belrose\, 146 Forest Way\, Belrose\, New South Wales\, Australia
ATTACH;FMTTYPE=image/jpeg:https://www.pittwatermotorclub.org.au/wp-content/uploads/2021/03/belrose2-1.jpg
END:VEVENT
BEGIN:VEVENT
DTSTART;TZID=Australia/Sydney:20210512T100000
DTEND;TZID=Australia/Sydney:20210512T140000
DTSTAMP:20260425T233441
CREATED:20210228T214239Z
LAST-MODIFIED:20210511T215422Z
UID:61-1620813600-1620828000@www.pittwatermotorclub.org.au
SUMMARY:Monthly Brunch Run - Davistown RSL\, Brisbane Waters
DESCRIPTION:General Meetings are held every fortnight on Tuesday evenings\, commencing at 7.30pm and run for approximately 1 hour to 1 hour 15mins. \nNew members and visitors welcome. Free parking is available in the general car park. \nJoin us for complimentary canapés and sandwiches in the funky award winning Monkey Bun bar area after the meeting.  \nMembers may also purchase coffee and beverages at the main bar at very reasonable club prices.
URL:https://www.pittwatermotorclub.org.au/event/monthly-brunch-run-davistown-rsl-brisbane-waters/
LOCATION:The Broadwater Restaurant\, 19 Murna Rd\, Davistown\, New South Wales\, Australia
ORGANIZER;CN="President & Events - David Cawthorn":MAILTO:president2022pmea@gmail.com
END:VEVENT
BEGIN:VEVENT
DTSTART;TZID=Australia/Sydney:20210511T193000
DTEND;TZID=Australia/Sydney:20210511T210000
DTSTAMP:20260425T233441
CREATED:20210416T012016Z
LAST-MODIFIED:20210416T012016Z
UID:2635-1620761400-1620766800@www.pittwatermotorclub.org.au
SUMMARY:General Meeting - RMYC
DESCRIPTION:General Meetings are held every fortnight on Tuesday evenings\, commencing at 7.30pm and run for approximately 1 hour to 1 hour 15mins. \nNew members and visitors welcome. Free parking is available in the general car park. \nJoin us for complimentary canapés and sandwiches in the funky award winning Monkey Bun bar area after the meeting.  \nMembers may also purchase coffee and beverages at the main bar at very reasonable club prices.
URL:https://www.pittwatermotorclub.org.au/event/general-meeting-rmyc-2/
LOCATION:Royal Motor Yacht Club (RMYC)\, 46 Prince Alfred Parade\, Newport\, New South Wales\, Australia
ORGANIZER;CN="PMEA - President - David Cawthorn":MAILTO:president2022pmea@gmail.com
END:VEVENT
BEGIN:VEVENT
DTSTART;TZID=Australia/Sydney:20210508T153000
DTEND;TZID=Australia/Sydney:20210508T210000
DTSTAMP:20260425T233441
CREATED:20210228T230221Z
LAST-MODIFIED:20210422T060738Z
UID:111-1620487800-1620507600@www.pittwatermotorclub.org.au
SUMMARY:Blacktown Drive-In Movie And Dinner
DESCRIPTION:General Meetings are held every fortnight on Tuesday evenings\, commencing at 7.30pm and run for approximately 1 hour to 1 hour 15mins. \nNew members and visitors welcome. Free parking is available in the general car park. \nJoin us for complimentary canapés and sandwiches in the funky award winning Monkey Bun bar area after the meeting.  \nMembers may also purchase coffee and beverages at the main bar at very reasonable club prices.
URL:https://www.pittwatermotorclub.org.au/event/blacktown-drive-in-movie-and-dinner/
LOCATION:Skyline Blacktown Drive-In\, Cricketers Arms Rd\, Blacktown\, New South Wales\, Australia
END:VEVENT
BEGIN:VEVENT
DTSTART;TZID=Australia/Sydney:20210505T130000
DTEND;TZID=Australia/Sydney:20210505T150000
DTSTAMP:20260425T233441
CREATED:20210417T081221Z
LAST-MODIFIED:20210507T092514Z
UID:2741-1620219600-1620226800@www.pittwatermotorclub.org.au
SUMMARY:Mid-Week Run to Club Belrose or Terrey Hills Tavern
DESCRIPTION:General Meetings are held every fortnight on Tuesday evenings\, commencing at 7.30pm and run for approximately 1 hour to 1 hour 15mins. \nNew members and visitors welcome. Free parking is available in the general car park. \nJoin us for complimentary canapés and sandwiches in the funky award winning Monkey Bun bar area after the meeting.  \nMembers may also purchase coffee and beverages at the main bar at very reasonable club prices.
URL:https://www.pittwatermotorclub.org.au/event/mid-week-run-to-club-belrose-or-terry-hills-tavern-2/
LOCATION:Club Belrose\, 146 Forest Way\, Belrose\, New South Wales\, Australia
ATTACH;FMTTYPE=image/jpeg:https://www.pittwatermotorclub.org.au/wp-content/uploads/2021/03/belrose2-1.jpg
END:VEVENT
BEGIN:VEVENT
DTSTART;TZID=Australia/Sydney:20210502T080000
DTEND;TZID=Australia/Sydney:20210502T110000
DTSTAMP:20260425T233441
CREATED:20210304T103221Z
LAST-MODIFIED:20210426T060928Z
UID:233-1619942400-1619953200@www.pittwatermotorclub.org.au
SUMMARY:European Vehicles Big Day Out BBQ
DESCRIPTION:General Meetings are held every fortnight on Tuesday evenings\, commencing at 7.30pm and run for approximately 1 hour to 1 hour 15mins. \nNew members and visitors welcome. Free parking is available in the general car park. \nJoin us for complimentary canapés and sandwiches in the funky award winning Monkey Bun bar area after the meeting.  \nMembers may also purchase coffee and beverages at the main bar at very reasonable club prices.
URL:https://www.pittwatermotorclub.org.au/event/european-vehicles-big-day-out-bbq/
LOCATION:McCarrs Creek Reserve\, McCarrs Creek Reserve\, Church Point\, New South Wales\, Australia
ATTACH;FMTTYPE=image/jpeg:https://www.pittwatermotorclub.org.au/wp-content/uploads/2021/03/IMG_0732-scaled.jpg
ORGANIZER;CN="President & Events - David Cawthorn":MAILTO:president2022pmea@gmail.com
END:VEVENT
BEGIN:VEVENT
DTSTART;TZID=Australia/Sydney:20210428T130000
DTEND;TZID=Australia/Sydney:20210428T150000
DTSTAMP:20260425T233441
CREATED:20210417T081007Z
LAST-MODIFIED:20210507T092540Z
UID:2731-1619614800-1619622000@www.pittwatermotorclub.org.au
SUMMARY:Mid-Week Run to Club Belrose or Terrey Hills Tavern
DESCRIPTION:General Meetings are held every fortnight on Tuesday evenings\, commencing at 7.30pm and run for approximately 1 hour to 1 hour 15mins. \nNew members and visitors welcome. Free parking is available in the general car park. \nJoin us for complimentary canapés and sandwiches in the funky award winning Monkey Bun bar area after the meeting.  \nMembers may also purchase coffee and beverages at the main bar at very reasonable club prices.
URL:https://www.pittwatermotorclub.org.au/event/mid-week-run-to-club-belrose-or-terry-hills-tavern/
LOCATION:Club Belrose\, 146 Forest Way\, Belrose\, New South Wales\, Australia
ATTACH;FMTTYPE=image/jpeg:https://www.pittwatermotorclub.org.au/wp-content/uploads/2021/03/belrose2-1.jpg
END:VEVENT
BEGIN:VEVENT
DTSTART;TZID=Australia/Sydney:20210427T193000
DTEND;TZID=Australia/Sydney:20210427T210000
DTSTAMP:20260425T233441
CREATED:20210416T011802Z
LAST-MODIFIED:20210416T011802Z
UID:2624-1619551800-1619557200@www.pittwatermotorclub.org.au
SUMMARY:General Meeting - RMYC
DESCRIPTION:General Meetings are held every fortnight on Tuesday evenings\, commencing at 7.30pm and run for approximately 1 hour to 1 hour 15mins. \nNew members and visitors welcome. Free parking is available in the general car park. \nJoin us for complimentary canapés and sandwiches in the funky award winning Monkey Bun bar area after the meeting.  \nMembers may also purchase coffee and beverages at the main bar at very reasonable club prices.
URL:https://www.pittwatermotorclub.org.au/event/general-meeting-rmyc/
LOCATION:Royal Motor Yacht Club (RMYC)\, 46 Prince Alfred Parade\, Newport\, New South Wales\, Australia
ORGANIZER;CN="PMEA - President - David Cawthorn":MAILTO:president2022pmea@gmail.com
END:VEVENT
BEGIN:VEVENT
DTSTART;TZID=Australia/Sydney:20210421T130000
DTEND;TZID=Australia/Sydney:20210421T150000
DTSTAMP:20260425T233441
CREATED:20210416T080756Z
LAST-MODIFIED:20210507T092607Z
UID:2680-1619010000-1619017200@www.pittwatermotorclub.org.au
SUMMARY:Mid-Week Run to Club Belrose or Terrey Hills Tavern
DESCRIPTION:General Meetings are held every fortnight on Tuesday evenings\, commencing at 7.30pm and run for approximately 1 hour to 1 hour 15mins. \nNew members and visitors welcome. Free parking is available in the general car park. \nJoin us for complimentary canapés and sandwiches in the funky award winning Monkey Bun bar area after the meeting.  \nMembers may also purchase coffee and beverages at the main bar at very reasonable club prices.
URL:https://www.pittwatermotorclub.org.au/event/mid-week-run-to-terrey-hills-tavern-or-club-belrose-2/
LOCATION:Club Belrose\, 146 Forest Way\, Belrose\, New South Wales\, Australia
ATTACH;FMTTYPE=image/jpeg:https://www.pittwatermotorclub.org.au/wp-content/uploads/2021/03/belrose2-1.jpg
END:VEVENT
BEGIN:VEVENT
DTSTART;TZID=Australia/Sydney:20210418T080000
DTEND;TZID=Australia/Sydney:20210418T110000
DTSTAMP:20260425T233441
CREATED:20210304T100824Z
LAST-MODIFIED:20210416T072409Z
UID:218-1618732800-1618743600@www.pittwatermotorclub.org.au
SUMMARY:Montage Piazza\, Le Montage Complex Lilyfield
DESCRIPTION:General Meetings are held every fortnight on Tuesday evenings\, commencing at 7.30pm and run for approximately 1 hour to 1 hour 15mins. \nNew members and visitors welcome. Free parking is available in the general car park. \nJoin us for complimentary canapés and sandwiches in the funky award winning Monkey Bun bar area after the meeting.  \nMembers may also purchase coffee and beverages at the main bar at very reasonable club prices.
URL:https://www.pittwatermotorclub.org.au/event/https-www-google-com-au-maps-place-montagepiazza-33-8704857151-15037917z-data3m14b14m53m41s0x6b12affcac9a22d30xe35e84eafe08e2fe8m23d-33-87048574d151-1525677hlen/
LOCATION:Montage Piazza\, Le Montage Complex Lilyfield\, 38 Fraser St\, Lilyfield\, New South Wales\, Australia
ATTACH;FMTTYPE=image/jpeg:https://www.pittwatermotorclub.org.au/wp-content/uploads/2021/03/lemontage3.jpg
END:VEVENT
BEGIN:VEVENT
DTSTART;TZID=Australia/Sydney:20210414T100000
DTEND;TZID=Australia/Sydney:20210414T170000
DTSTAMP:20260425T233441
CREATED:20210304T095403Z
LAST-MODIFIED:20210311T004326Z
UID:210-1618394400-1618419600@www.pittwatermotorclub.org.au
SUMMARY:Monthly Brunch Run - Captain Cook Botany Bay Park
DESCRIPTION:General Meetings are held every fortnight on Tuesday evenings\, commencing at 7.30pm and run for approximately 1 hour to 1 hour 15mins. \nNew members and visitors welcome. Free parking is available in the general car park. \nJoin us for complimentary canapés and sandwiches in the funky award winning Monkey Bun bar area after the meeting.  \nMembers may also purchase coffee and beverages at the main bar at very reasonable club prices.
URL:https://www.pittwatermotorclub.org.au/event/monthly-brunch-run-captain-cook-botany-bay-park/
LOCATION:Botany Bay National Park\, 21 Cape Salander Drive\, Kurnell\, New South Wales\, Australia
ORGANIZER;CN="President & Events - David Cawthorn":MAILTO:president2022pmea@gmail.com
END:VEVENT
BEGIN:VEVENT
DTSTART;TZID=Australia/Sydney:20210407T130000
DTEND;TZID=Australia/Sydney:20210407T150000
DTSTAMP:20260425T233441
CREATED:20210305T035018Z
LAST-MODIFIED:20210311T004350Z
UID:297-1617800400-1617807600@www.pittwatermotorclub.org.au
SUMMARY:Mid-Week Run to Terrey Hills Tavern or Club Belrose
DESCRIPTION:General Meetings are held every fortnight on Tuesday evenings\, commencing at 7.30pm and run for approximately 1 hour to 1 hour 15mins. \nNew members and visitors welcome. Free parking is available in the general car park. \nJoin us for complimentary canapés and sandwiches in the funky award winning Monkey Bun bar area after the meeting.  \nMembers may also purchase coffee and beverages at the main bar at very reasonable club prices.
URL:https://www.pittwatermotorclub.org.au/event/mid-week-run-to-terrey-hills-tavern-or-club-belrose/
LOCATION:Club Belrose\, 146 Forest Way\, Belrose\, New South Wales\, Australia
ATTACH;FMTTYPE=image/jpeg:https://www.pittwatermotorclub.org.au/wp-content/uploads/2021/03/belrose2-1.jpg
ORGANIZER;CN="President & Events - David Cawthorn":MAILTO:president2022pmea@gmail.com
END:VEVENT
BEGIN:VEVENT
DTSTART;TZID=Australia/Sydney:20210316T073000
DTEND;TZID=Australia/Sydney:20210316T210000
DTSTAMP:20260425T233441
CREATED:20210308T111044Z
LAST-MODIFIED:20210311T004448Z
UID:462-1615879800-1615928400@www.pittwatermotorclub.org.au
SUMMARY:Fortnightly General Meeting
DESCRIPTION:General Meetings are held every fortnight on Tuesday evenings\, commencing at 7.30pm and run for approximately 1 hour to 1 hour 15mins. \nNew members and visitors welcome. Free parking is available in the general car park. \nJoin us for complimentary canapés and sandwiches in the funky award winning Monkey Bun bar area after the meeting.  \nMembers may also purchase coffee and beverages at the main bar at very reasonable club prices.
URL:https://www.pittwatermotorclub.org.au/event/fortnightly-general-meeting/
LOCATION:Royal Motor Yacht Club (RMYC)\, 46 Prince Alfred Parade\, Newport\, New South Wales\, Australia
ORGANIZER;CN="President & Events - David Cawthorn":MAILTO:president2022pmea@gmail.com
END:VEVENT
BEGIN:VEVENT
DTSTART;TZID=Australia/Sydney:20210307T230000
DTEND;TZID=Australia/Sydney:20210307T230000
DTSTAMP:20260425T233441
CREATED:20210228T230029Z
LAST-MODIFIED:20210304T091455Z
UID:107-1615158000-1615158000@www.pittwatermotorclub.org.au
SUMMARY:Saddles Eatery / Nursery
DESCRIPTION:General Meetings are held every fortnight on Tuesday evenings\, commencing at 7.30pm and run for approximately 1 hour to 1 hour 15mins. \nNew members and visitors welcome. Free parking is available in the general car park. \nJoin us for complimentary canapés and sandwiches in the funky award winning Monkey Bun bar area after the meeting.  \nMembers may also purchase coffee and beverages at the main bar at very reasonable club prices.
URL:https://www.pittwatermotorclub.org.au/event/saddles-eatery-nursery/
LOCATION:Saddles\, 20 Ashbrookes Road\, Mount White\, New South Wales\, Australia
ATTACH;FMTTYPE=image/jpeg:https://www.pittwatermotorclub.org.au/wp-content/uploads/2021/03/saddles2.jpg
ORGANIZER;CN="President & Events - David Cawthorn":MAILTO:president2022pmea@gmail.com
END:VEVENT
END:VCALENDAR