BEGIN:VCALENDAR
VERSION:2.0
PRODID:-//Pittwater Motor Enthusiasts Association - ECPv6.15.15//NONSGML v1.0//EN
CALSCALE:GREGORIAN
METHOD:PUBLISH
X-WR-CALNAME:Pittwater Motor Enthusiasts Association
X-ORIGINAL-URL:https://www.pittwatermotorclub.org.au
X-WR-CALDESC:Events for Pittwater Motor Enthusiasts Association
REFRESH-INTERVAL;VALUE=DURATION:PT1H
X-Robots-Tag:noindex
X-PUBLISHED-TTL:PT1H
BEGIN:VTIMEZONE
TZID:Australia/Sydney
BEGIN:STANDARD
TZOFFSETFROM:+1100
TZOFFSETTO:+1000
TZNAME:AEST
DTSTART:20230401T160000
END:STANDARD
BEGIN:DAYLIGHT
TZOFFSETFROM:+1000
TZOFFSETTO:+1100
TZNAME:AEDT
DTSTART:20230930T160000
END:DAYLIGHT
BEGIN:STANDARD
TZOFFSETFROM:+1100
TZOFFSETTO:+1000
TZNAME:AEST
DTSTART:20240406T160000
END:STANDARD
BEGIN:DAYLIGHT
TZOFFSETFROM:+1000
TZOFFSETTO:+1100
TZNAME:AEDT
DTSTART:20241005T160000
END:DAYLIGHT
BEGIN:STANDARD
TZOFFSETFROM:+1100
TZOFFSETTO:+1000
TZNAME:AEST
DTSTART:20250405T160000
END:STANDARD
BEGIN:DAYLIGHT
TZOFFSETFROM:+1000
TZOFFSETTO:+1100
TZNAME:AEDT
DTSTART:20251004T160000
END:DAYLIGHT
END:VTIMEZONE
BEGIN:VEVENT
DTSTART;TZID=Australia/Sydney:20240402T193000
DTEND;TZID=Australia/Sydney:20240402T210000
DTSTAMP:20260421T132248
CREATED:20240319T234004Z
LAST-MODIFIED:20240319T234004Z
UID:24015-1712086200-1712091600@www.pittwatermotorclub.org.au
SUMMARY:General Meeting - Pittwater RSL
DESCRIPTION:Tonight's General Meeting will feature our special Guest Speaker Andrew Taurins from AMHF. \nBroadly\, a 30 min Powerpoint will be presented\, followed by a short Q&A afterwards. \nWho and Where are we (the AMHF) and what are our goals? \n\nWhat have AMHF got available to look at\, either in person or on-line and the cost?\nHow can PMEA members can benefit in their homes digitally or by visiting AMHF for access to data?\nWhat AMHF is looking for at present in terms of research material to be donated by PMEA members?\nWhen/How can PMEA members interact further and future with AMHF?\n\nBe sure to check out below the Australian Motor Heritage Foundation website before the meeting\, there is lots of interesting content to spend many an hour reading.  \nAMHF Link \nThis will prove to be a very interesting meeting - so don't miss it!! \nJoin us for complimentary sausage rolls and party pies (one per person please)  and a chat all things motoring after the General Meeting in 'Wok O'Clock' bar area. \nMembers may also purchase beverages at the main bar at very reasonable club prices. \n 
URL:https://www.pittwatermotorclub.org.au/event/general-meeting-pittwater-rsl-22/
LOCATION:Pittwater RSL\, 82 Mona Vale Rd\, Mona Vale\, NSW\, 2103\, Australia
ATTACH;FMTTYPE=image/jpeg:https://www.pittwatermotorclub.org.au/wp-content/uploads/2023/04/Pittwater-RSL-Aerial.jpeg
ORGANIZER;CN="President and Events - David Cawthorn":MAILTO:president2022pmea@gmail.com
END:VEVENT
BEGIN:VEVENT
DTSTART;TZID=Australia/Sydney:20240403T130000
DTEND;TZID=Australia/Sydney:20240403T150000
DTSTAMP:20260421T132248
CREATED:20240319T225628Z
LAST-MODIFIED:20240319T225628Z
UID:23985-1712149200-1712156400@www.pittwatermotorclub.org.au
SUMMARY:Mid-Week Run to Club Belrose or Terrey Hills Tavern
DESCRIPTION:Tonight's General Meeting will feature our special Guest Speaker Andrew Taurins from AMHF. \nBroadly\, a 30 min Powerpoint will be presented\, followed by a short Q&A afterwards. \nWho and Where are we (the AMHF) and what are our goals? \n\nWhat have AMHF got available to look at\, either in person or on-line and the cost?\nHow can PMEA members can benefit in their homes digitally or by visiting AMHF for access to data?\nWhat AMHF is looking for at present in terms of research material to be donated by PMEA members?\nWhen/How can PMEA members interact further and future with AMHF?\n\nBe sure to check out below the Australian Motor Heritage Foundation website before the meeting\, there is lots of interesting content to spend many an hour reading.  \nAMHF Link \nThis will prove to be a very interesting meeting - so don't miss it!! \nJoin us for complimentary sausage rolls and party pies (one per person please)  and a chat all things motoring after the General Meeting in 'Wok O'Clock' bar area. \nMembers may also purchase beverages at the main bar at very reasonable club prices. \n 
URL:https://www.pittwatermotorclub.org.au/event/mid-week-run-to-club-belrose-or-terrey-hills-tavern-108/
LOCATION:Club Belrose\, 146 Forest Way\, Belrose\, New South Wales\, Australia
ATTACH;FMTTYPE=image/jpeg:https://www.pittwatermotorclub.org.au/wp-content/uploads/2021/03/belrose2-1.jpg
END:VEVENT
BEGIN:VEVENT
DTSTART;TZID=Australia/Sydney:20240407T070000
DTEND;TZID=Australia/Sydney:20240407T110000
DTSTAMP:20260421T132248
CREATED:20240117T035413Z
LAST-MODIFIED:20240307T225653Z
UID:23525-1712473200-1712487600@www.pittwatermotorclub.org.au
SUMMARY:AutoBrunch\, St Ives Showground
DESCRIPTION:Tonight's General Meeting will feature our special Guest Speaker Andrew Taurins from AMHF. \nBroadly\, a 30 min Powerpoint will be presented\, followed by a short Q&A afterwards. \nWho and Where are we (the AMHF) and what are our goals? \n\nWhat have AMHF got available to look at\, either in person or on-line and the cost?\nHow can PMEA members can benefit in their homes digitally or by visiting AMHF for access to data?\nWhat AMHF is looking for at present in terms of research material to be donated by PMEA members?\nWhen/How can PMEA members interact further and future with AMHF?\n\nBe sure to check out below the Australian Motor Heritage Foundation website before the meeting\, there is lots of interesting content to spend many an hour reading.  \nAMHF Link \nThis will prove to be a very interesting meeting - so don't miss it!! \nJoin us for complimentary sausage rolls and party pies (one per person please)  and a chat all things motoring after the General Meeting in 'Wok O'Clock' bar area. \nMembers may also purchase beverages at the main bar at very reasonable club prices. \n 
URL:https://www.pittwatermotorclub.org.au/event/autobrunch-st-ives-showground-10/
LOCATION:AutoBrunch\, St Ives Showground\, 450 Mona Vale Rd\, St Ives\, NSW\, 2075\, Australia
CATEGORIES:Display Day
ATTACH;FMTTYPE=image/jpeg:https://www.pittwatermotorclub.org.au/wp-content/uploads/2024/01/IMG_7416.jpg
END:VEVENT
BEGIN:VEVENT
DTSTART;TZID=Australia/Sydney:20240407T073000
DTEND;TZID=Australia/Sydney:20240407T110000
DTSTAMP:20260421T132248
CREATED:20240206T025833Z
LAST-MODIFIED:20240403T230312Z
UID:23712-1712475000-1712487600@www.pittwatermotorclub.org.au
SUMMARY:Waterfall Cafe\, Mt Penang Parklands\, Somersby/Kariong **Convertibles Day Out**
DESCRIPTION:Tonight's General Meeting will feature our special Guest Speaker Andrew Taurins from AMHF. \nBroadly\, a 30 min Powerpoint will be presented\, followed by a short Q&A afterwards. \nWho and Where are we (the AMHF) and what are our goals? \n\nWhat have AMHF got available to look at\, either in person or on-line and the cost?\nHow can PMEA members can benefit in their homes digitally or by visiting AMHF for access to data?\nWhat AMHF is looking for at present in terms of research material to be donated by PMEA members?\nWhen/How can PMEA members interact further and future with AMHF?\n\nBe sure to check out below the Australian Motor Heritage Foundation website before the meeting\, there is lots of interesting content to spend many an hour reading.  \nAMHF Link \nThis will prove to be a very interesting meeting - so don't miss it!! \nJoin us for complimentary sausage rolls and party pies (one per person please)  and a chat all things motoring after the General Meeting in 'Wok O'Clock' bar area. \nMembers may also purchase beverages at the main bar at very reasonable club prices. \n 
URL:https://www.pittwatermotorclub.org.au/event/waterfall-cafe-mt-penang-parklands-somersby-kariong-convertibles-day-out/
LOCATION:Waterfall Cafe\, Mt Penang Parklands\, 49 Parklands Rd\, Somersby\, NSW\, 2250\, Australia
CATEGORIES:Cafe or Restaurant
ATTACH;FMTTYPE=image/jpeg:https://www.pittwatermotorclub.org.au/wp-content/uploads/2022/01/Waterfall-Cafe-Mt-Penang-Gardens-1.jpg
ORGANIZER;CN="President and Events - David Cawthorn":MAILTO:president2022pmea@gmail.com
END:VEVENT
BEGIN:VEVENT
DTSTART;TZID=Australia/Sydney:20240410T130000
DTEND;TZID=Australia/Sydney:20240410T150000
DTSTAMP:20260421T132248
CREATED:20240319T225740Z
LAST-MODIFIED:20240319T225740Z
UID:23987-1712754000-1712761200@www.pittwatermotorclub.org.au
SUMMARY:Mid-Week Run to Club Belrose or Terrey Hills Tavern
DESCRIPTION:Tonight's General Meeting will feature our special Guest Speaker Andrew Taurins from AMHF. \nBroadly\, a 30 min Powerpoint will be presented\, followed by a short Q&A afterwards. \nWho and Where are we (the AMHF) and what are our goals? \n\nWhat have AMHF got available to look at\, either in person or on-line and the cost?\nHow can PMEA members can benefit in their homes digitally or by visiting AMHF for access to data?\nWhat AMHF is looking for at present in terms of research material to be donated by PMEA members?\nWhen/How can PMEA members interact further and future with AMHF?\n\nBe sure to check out below the Australian Motor Heritage Foundation website before the meeting\, there is lots of interesting content to spend many an hour reading.  \nAMHF Link \nThis will prove to be a very interesting meeting - so don't miss it!! \nJoin us for complimentary sausage rolls and party pies (one per person please)  and a chat all things motoring after the General Meeting in 'Wok O'Clock' bar area. \nMembers may also purchase beverages at the main bar at very reasonable club prices. \n 
URL:https://www.pittwatermotorclub.org.au/event/mid-week-run-to-club-belrose-or-terrey-hills-tavern-109/
LOCATION:Club Belrose\, 146 Forest Way\, Belrose\, New South Wales\, Australia
ATTACH;FMTTYPE=image/jpeg:https://www.pittwatermotorclub.org.au/wp-content/uploads/2021/03/belrose2-1.jpg
END:VEVENT
BEGIN:VEVENT
DTSTART;TZID=Australia/Sydney:20240416T193000
DTEND;TZID=Australia/Sydney:20240416T210000
DTSTAMP:20260421T132248
CREATED:20231111T062125Z
LAST-MODIFIED:20240409T063009Z
UID:21709-1713295800-1713301200@www.pittwatermotorclub.org.au
SUMMARY:General Meeting with Special Interview\, PMEA Member Adrian Beer- Pittwater RSL
DESCRIPTION:Tonight's General Meeting will feature our special Guest Speaker Andrew Taurins from AMHF. \nBroadly\, a 30 min Powerpoint will be presented\, followed by a short Q&A afterwards. \nWho and Where are we (the AMHF) and what are our goals? \n\nWhat have AMHF got available to look at\, either in person or on-line and the cost?\nHow can PMEA members can benefit in their homes digitally or by visiting AMHF for access to data?\nWhat AMHF is looking for at present in terms of research material to be donated by PMEA members?\nWhen/How can PMEA members interact further and future with AMHF?\n\nBe sure to check out below the Australian Motor Heritage Foundation website before the meeting\, there is lots of interesting content to spend many an hour reading.  \nAMHF Link \nThis will prove to be a very interesting meeting - so don't miss it!! \nJoin us for complimentary sausage rolls and party pies (one per person please)  and a chat all things motoring after the General Meeting in 'Wok O'Clock' bar area. \nMembers may also purchase beverages at the main bar at very reasonable club prices. \n 
URL:https://www.pittwatermotorclub.org.au/event/general-meeting-pittwater-rsl-13/
LOCATION:Pittwater RSL\, 82 Mona Vale Rd\, Mona Vale\, NSW\, 2103\, Australia
ATTACH;FMTTYPE=image/jpeg:https://www.pittwatermotorclub.org.au/wp-content/uploads/2023/04/Pittwater-RSL-Aerial.jpeg
ORGANIZER;CN="President and Events - David Cawthorn":MAILTO:president2022pmea@gmail.com
END:VEVENT
BEGIN:VEVENT
DTSTART;TZID=Australia/Sydney:20240417T130000
DTEND;TZID=Australia/Sydney:20240417T150000
DTSTAMP:20260421T132248
CREATED:20240319T225939Z
LAST-MODIFIED:20240319T225940Z
UID:23989-1713358800-1713366000@www.pittwatermotorclub.org.au
SUMMARY:Mid-Week Run to Club Belrose or Terrey Hills Tavern
DESCRIPTION:Tonight's General Meeting will feature our special Guest Speaker Andrew Taurins from AMHF. \nBroadly\, a 30 min Powerpoint will be presented\, followed by a short Q&A afterwards. \nWho and Where are we (the AMHF) and what are our goals? \n\nWhat have AMHF got available to look at\, either in person or on-line and the cost?\nHow can PMEA members can benefit in their homes digitally or by visiting AMHF for access to data?\nWhat AMHF is looking for at present in terms of research material to be donated by PMEA members?\nWhen/How can PMEA members interact further and future with AMHF?\n\nBe sure to check out below the Australian Motor Heritage Foundation website before the meeting\, there is lots of interesting content to spend many an hour reading.  \nAMHF Link \nThis will prove to be a very interesting meeting - so don't miss it!! \nJoin us for complimentary sausage rolls and party pies (one per person please)  and a chat all things motoring after the General Meeting in 'Wok O'Clock' bar area. \nMembers may also purchase beverages at the main bar at very reasonable club prices. \n 
URL:https://www.pittwatermotorclub.org.au/event/mid-week-run-to-club-belrose-or-terrey-hills-tavern-110/
LOCATION:Club Belrose\, 146 Forest Way\, Belrose\, New South Wales\, Australia
ATTACH;FMTTYPE=image/jpeg:https://www.pittwatermotorclub.org.au/wp-content/uploads/2021/03/belrose2-1.jpg
END:VEVENT
BEGIN:VEVENT
DTSTART;TZID=Australia/Sydney:20240421T080000
DTEND;TZID=Australia/Sydney:20240421T110000
DTSTAMP:20260421T132248
CREATED:20240206T022336Z
LAST-MODIFIED:20240418T010639Z
UID:23717-1713686400-1713697200@www.pittwatermotorclub.org.au
SUMMARY:American Vehicles - Big Day Out BBQ
DESCRIPTION:Tonight's General Meeting will feature our special Guest Speaker Andrew Taurins from AMHF. \nBroadly\, a 30 min Powerpoint will be presented\, followed by a short Q&A afterwards. \nWho and Where are we (the AMHF) and what are our goals? \n\nWhat have AMHF got available to look at\, either in person or on-line and the cost?\nHow can PMEA members can benefit in their homes digitally or by visiting AMHF for access to data?\nWhat AMHF is looking for at present in terms of research material to be donated by PMEA members?\nWhen/How can PMEA members interact further and future with AMHF?\n\nBe sure to check out below the Australian Motor Heritage Foundation website before the meeting\, there is lots of interesting content to spend many an hour reading.  \nAMHF Link \nThis will prove to be a very interesting meeting - so don't miss it!! \nJoin us for complimentary sausage rolls and party pies (one per person please)  and a chat all things motoring after the General Meeting in 'Wok O'Clock' bar area. \nMembers may also purchase beverages at the main bar at very reasonable club prices. \n 
URL:https://www.pittwatermotorclub.org.au/event/american-vehicles-big-day-out-bbq-3/
LOCATION:McCarrs Creek Reserve\, McCarrs Creek Reserve\, Church Point\, New South Wales\, Australia
CATEGORIES:BBQ or Picnic,Display Day
ATTACH;FMTTYPE=image/jpeg:https://www.pittwatermotorclub.org.au/wp-content/uploads/2021/08/THE-GOOD-OLD-DAYS.jpg
ORGANIZER;CN="President & Events - David Cawthorn":MAILTO:president2022pmea@gmail.com
END:VEVENT
BEGIN:VEVENT
DTSTART;TZID=Australia/Sydney:20240424T130000
DTEND;TZID=Australia/Sydney:20240424T150000
DTSTAMP:20260421T132248
CREATED:20240319T230025Z
LAST-MODIFIED:20240319T230025Z
UID:23991-1713963600-1713970800@www.pittwatermotorclub.org.au
SUMMARY:Mid-Week Run to Club Belrose or Terrey Hills Tavern
DESCRIPTION:Tonight's General Meeting will feature our special Guest Speaker Andrew Taurins from AMHF. \nBroadly\, a 30 min Powerpoint will be presented\, followed by a short Q&A afterwards. \nWho and Where are we (the AMHF) and what are our goals? \n\nWhat have AMHF got available to look at\, either in person or on-line and the cost?\nHow can PMEA members can benefit in their homes digitally or by visiting AMHF for access to data?\nWhat AMHF is looking for at present in terms of research material to be donated by PMEA members?\nWhen/How can PMEA members interact further and future with AMHF?\n\nBe sure to check out below the Australian Motor Heritage Foundation website before the meeting\, there is lots of interesting content to spend many an hour reading.  \nAMHF Link \nThis will prove to be a very interesting meeting - so don't miss it!! \nJoin us for complimentary sausage rolls and party pies (one per person please)  and a chat all things motoring after the General Meeting in 'Wok O'Clock' bar area. \nMembers may also purchase beverages at the main bar at very reasonable club prices. \n 
URL:https://www.pittwatermotorclub.org.au/event/mid-week-run-to-club-belrose-or-terrey-hills-tavern-111/
LOCATION:Club Belrose\, 146 Forest Way\, Belrose\, New South Wales\, Australia
ATTACH;FMTTYPE=image/jpeg:https://www.pittwatermotorclub.org.au/wp-content/uploads/2021/03/belrose2-1.jpg
END:VEVENT
BEGIN:VEVENT
DTSTART;TZID=Australia/Sydney:20240430T193000
DTEND;TZID=Australia/Sydney:20240430T210000
DTSTAMP:20260421T132248
CREATED:20231111T062213Z
LAST-MODIFIED:20240403T033730Z
UID:21711-1714505400-1714510800@www.pittwatermotorclub.org.au
SUMMARY:General Meeting - Pittwater RSL
DESCRIPTION:Tonight's General Meeting will feature our special Guest Speaker Andrew Taurins from AMHF. \nBroadly\, a 30 min Powerpoint will be presented\, followed by a short Q&A afterwards. \nWho and Where are we (the AMHF) and what are our goals? \n\nWhat have AMHF got available to look at\, either in person or on-line and the cost?\nHow can PMEA members can benefit in their homes digitally or by visiting AMHF for access to data?\nWhat AMHF is looking for at present in terms of research material to be donated by PMEA members?\nWhen/How can PMEA members interact further and future with AMHF?\n\nBe sure to check out below the Australian Motor Heritage Foundation website before the meeting\, there is lots of interesting content to spend many an hour reading.  \nAMHF Link \nThis will prove to be a very interesting meeting - so don't miss it!! \nJoin us for complimentary sausage rolls and party pies (one per person please)  and a chat all things motoring after the General Meeting in 'Wok O'Clock' bar area. \nMembers may also purchase beverages at the main bar at very reasonable club prices. \n 
URL:https://www.pittwatermotorclub.org.au/event/general-meeting-pittwater-rsl-14/
LOCATION:Pittwater RSL\, 82 Mona Vale Rd\, Mona Vale\, NSW\, 2103\, Australia
ATTACH;FMTTYPE=image/jpeg:https://www.pittwatermotorclub.org.au/wp-content/uploads/2023/04/Pittwater-RSL-Aerial.jpeg
ORGANIZER;CN="President and Events - David Cawthorn":MAILTO:president2022pmea@gmail.com
END:VEVENT
END:VCALENDAR