BEGIN:VCALENDAR
VERSION:2.0
PRODID:-//Pittwater Motor Enthusiasts Association - ECPv6.15.15//NONSGML v1.0//EN
CALSCALE:GREGORIAN
METHOD:PUBLISH
X-WR-CALNAME:Pittwater Motor Enthusiasts Association
X-ORIGINAL-URL:https://www.pittwatermotorclub.org.au
X-WR-CALDESC:Events for Pittwater Motor Enthusiasts Association
REFRESH-INTERVAL;VALUE=DURATION:PT1H
X-Robots-Tag:noindex
X-PUBLISHED-TTL:PT1H
BEGIN:VTIMEZONE
TZID:Australia/Sydney
BEGIN:STANDARD
TZOFFSETFROM:+1100
TZOFFSETTO:+1000
TZNAME:AEST
DTSTART:20230401T160000
END:STANDARD
BEGIN:DAYLIGHT
TZOFFSETFROM:+1000
TZOFFSETTO:+1100
TZNAME:AEDT
DTSTART:20230930T160000
END:DAYLIGHT
BEGIN:STANDARD
TZOFFSETFROM:+1100
TZOFFSETTO:+1000
TZNAME:AEST
DTSTART:20240406T160000
END:STANDARD
BEGIN:DAYLIGHT
TZOFFSETFROM:+1000
TZOFFSETTO:+1100
TZNAME:AEDT
DTSTART:20241005T160000
END:DAYLIGHT
BEGIN:STANDARD
TZOFFSETFROM:+1100
TZOFFSETTO:+1000
TZNAME:AEST
DTSTART:20250405T160000
END:STANDARD
BEGIN:DAYLIGHT
TZOFFSETFROM:+1000
TZOFFSETTO:+1100
TZNAME:AEDT
DTSTART:20251004T160000
END:DAYLIGHT
END:VTIMEZONE
BEGIN:VEVENT
DTSTART;TZID=Australia/Sydney:20240501T093000
DTEND;TZID=Australia/Sydney:20240501T140000
DTSTAMP:20260421T050332
CREATED:20240319T230120Z
LAST-MODIFIED:20240430T032348Z
UID:23993-1714555800-1714572000@www.pittwatermotorclub.org.au
SUMMARY:Mid-Week *LONG* Run - Pie In The Sky Cafe\, Cowan **CANCELLED DUE WET WEATHER**
DESCRIPTION:Tonight's General Meeting will feature our special Guest Speaker Andrew Taurins from AMHF. \nBroadly\, a 30 min Powerpoint will be presented\, followed by a short Q&A afterwards. \nWho and Where are we (the AMHF) and what are our goals? \n\nWhat have AMHF got available to look at\, either in person or on-line and the cost?\nHow can PMEA members can benefit in their homes digitally or by visiting AMHF for access to data?\nWhat AMHF is looking for at present in terms of research material to be donated by PMEA members?\nWhen/How can PMEA members interact further and future with AMHF?\n\nBe sure to check out below the Australian Motor Heritage Foundation website before the meeting\, there is lots of interesting content to spend many an hour reading.  \nAMHF Link \nThis will prove to be a very interesting meeting - so don't miss it!! \nJoin us for complimentary sausage rolls and party pies (one per person please)  and a chat all things motoring after the General Meeting in 'Wok O'Clock' bar area. \nMembers may also purchase beverages at the main bar at very reasonable club prices. \n 
URL:https://www.pittwatermotorclub.org.au/event/mid-week-long-run-pie-in-the-sky-cafe-cowan/
LOCATION:Pie In The Sky\, Cowan\, 1296 Pacific Hwy\, Cowan\, NSW\, 2081\, Australia
CATEGORIES:Monthly Long Run
ATTACH;FMTTYPE=image/jpeg:https://www.pittwatermotorclub.org.au/wp-content/uploads/2024/04/Cowan-Meeting-Place.jpg
END:VEVENT
BEGIN:VEVENT
DTSTART;TZID=Australia/Sydney:20240505T073000
DTEND;TZID=Australia/Sydney:20240505T110000
DTSTAMP:20260421T050332
CREATED:20240409T064020Z
LAST-MODIFIED:20240502T235337Z
UID:24156-1714894200-1714906800@www.pittwatermotorclub.org.au
SUMMARY:AutoBrunch & BYO Picnic\, St Ives Showground ***CANCELLED DUE WET WEATHER***
DESCRIPTION:Tonight's General Meeting will feature our special Guest Speaker Andrew Taurins from AMHF. \nBroadly\, a 30 min Powerpoint will be presented\, followed by a short Q&A afterwards. \nWho and Where are we (the AMHF) and what are our goals? \n\nWhat have AMHF got available to look at\, either in person or on-line and the cost?\nHow can PMEA members can benefit in their homes digitally or by visiting AMHF for access to data?\nWhat AMHF is looking for at present in terms of research material to be donated by PMEA members?\nWhen/How can PMEA members interact further and future with AMHF?\n\nBe sure to check out below the Australian Motor Heritage Foundation website before the meeting\, there is lots of interesting content to spend many an hour reading.  \nAMHF Link \nThis will prove to be a very interesting meeting - so don't miss it!! \nJoin us for complimentary sausage rolls and party pies (one per person please)  and a chat all things motoring after the General Meeting in 'Wok O'Clock' bar area. \nMembers may also purchase beverages at the main bar at very reasonable club prices. \n 
URL:https://www.pittwatermotorclub.org.au/event/autobrunch-byo-picnic-st-ives-showground-2/
LOCATION:AutoBrunch\, St Ives Showground\, 450 Mona Vale Rd\, St Ives\, NSW\, 2075\, Australia
CATEGORIES:BBQ or Picnic,Display Day
ATTACH;FMTTYPE=image/jpeg:https://www.pittwatermotorclub.org.au/wp-content/uploads/2023/06/Picnic-Spot-St-Ives-1.jpg
ORGANIZER;CN="President and Events - David Cawthorn":MAILTO:president2022pmea@gmail.com
END:VEVENT
BEGIN:VEVENT
DTSTART;TZID=Australia/Sydney:20240508T130000
DTEND;TZID=Australia/Sydney:20240508T150000
DTSTAMP:20260421T050332
CREATED:20240319T230202Z
LAST-MODIFIED:20240319T230205Z
UID:23995-1715173200-1715180400@www.pittwatermotorclub.org.au
SUMMARY:Mid-Week Run to Club Belrose or Terrey Hills Tavern
DESCRIPTION:Tonight's General Meeting will feature our special Guest Speaker Andrew Taurins from AMHF. \nBroadly\, a 30 min Powerpoint will be presented\, followed by a short Q&A afterwards. \nWho and Where are we (the AMHF) and what are our goals? \n\nWhat have AMHF got available to look at\, either in person or on-line and the cost?\nHow can PMEA members can benefit in their homes digitally or by visiting AMHF for access to data?\nWhat AMHF is looking for at present in terms of research material to be donated by PMEA members?\nWhen/How can PMEA members interact further and future with AMHF?\n\nBe sure to check out below the Australian Motor Heritage Foundation website before the meeting\, there is lots of interesting content to spend many an hour reading.  \nAMHF Link \nThis will prove to be a very interesting meeting - so don't miss it!! \nJoin us for complimentary sausage rolls and party pies (one per person please)  and a chat all things motoring after the General Meeting in 'Wok O'Clock' bar area. \nMembers may also purchase beverages at the main bar at very reasonable club prices. \n 
URL:https://www.pittwatermotorclub.org.au/event/mid-week-run-to-club-belrose-or-terrey-hills-tavern-113/
LOCATION:Club Belrose\, 146 Forest Way\, Belrose\, New South Wales\, Australia
ATTACH;FMTTYPE=image/jpeg:https://www.pittwatermotorclub.org.au/wp-content/uploads/2021/03/belrose2-1.jpg
END:VEVENT
BEGIN:VEVENT
DTSTART;TZID=Australia/Sydney:20240514T193000
DTEND;TZID=Australia/Sydney:20240514T210000
DTSTAMP:20260421T050332
CREATED:20231111T062304Z
LAST-MODIFIED:20240509T022541Z
UID:21713-1715715000-1715720400@www.pittwatermotorclub.org.au
SUMMARY:General Meeting & **Special Interview**- Pittwater RSL
DESCRIPTION:Tonight's General Meeting will feature our special Guest Speaker Andrew Taurins from AMHF. \nBroadly\, a 30 min Powerpoint will be presented\, followed by a short Q&A afterwards. \nWho and Where are we (the AMHF) and what are our goals? \n\nWhat have AMHF got available to look at\, either in person or on-line and the cost?\nHow can PMEA members can benefit in their homes digitally or by visiting AMHF for access to data?\nWhat AMHF is looking for at present in terms of research material to be donated by PMEA members?\nWhen/How can PMEA members interact further and future with AMHF?\n\nBe sure to check out below the Australian Motor Heritage Foundation website before the meeting\, there is lots of interesting content to spend many an hour reading.  \nAMHF Link \nThis will prove to be a very interesting meeting - so don't miss it!! \nJoin us for complimentary sausage rolls and party pies (one per person please)  and a chat all things motoring after the General Meeting in 'Wok O'Clock' bar area. \nMembers may also purchase beverages at the main bar at very reasonable club prices. \n 
URL:https://www.pittwatermotorclub.org.au/event/general-meeting-regalia-pittwater-rsl-11/
LOCATION:Pittwater RSL\, 82 Mona Vale Rd\, Mona Vale\, NSW\, 2103\, Australia
CATEGORIES:Interview
ATTACH;FMTTYPE=image/jpeg:https://www.pittwatermotorclub.org.au/wp-content/uploads/2023/04/Pittwater-RSL-Aerial.jpeg
ORGANIZER;CN="President and Events - David Cawthorn":MAILTO:president2022pmea@gmail.com
END:VEVENT
BEGIN:VEVENT
DTSTART;TZID=Australia/Sydney:20240515T130000
DTEND;TZID=Australia/Sydney:20240515T150000
DTSTAMP:20260421T050332
CREATED:20240319T230338Z
LAST-MODIFIED:20240319T230338Z
UID:23997-1715778000-1715785200@www.pittwatermotorclub.org.au
SUMMARY:Mid-Week Run to Club Belrose or Terrey Hills Tavern
DESCRIPTION:Tonight's General Meeting will feature our special Guest Speaker Andrew Taurins from AMHF. \nBroadly\, a 30 min Powerpoint will be presented\, followed by a short Q&A afterwards. \nWho and Where are we (the AMHF) and what are our goals? \n\nWhat have AMHF got available to look at\, either in person or on-line and the cost?\nHow can PMEA members can benefit in their homes digitally or by visiting AMHF for access to data?\nWhat AMHF is looking for at present in terms of research material to be donated by PMEA members?\nWhen/How can PMEA members interact further and future with AMHF?\n\nBe sure to check out below the Australian Motor Heritage Foundation website before the meeting\, there is lots of interesting content to spend many an hour reading.  \nAMHF Link \nThis will prove to be a very interesting meeting - so don't miss it!! \nJoin us for complimentary sausage rolls and party pies (one per person please)  and a chat all things motoring after the General Meeting in 'Wok O'Clock' bar area. \nMembers may also purchase beverages at the main bar at very reasonable club prices. \n 
URL:https://www.pittwatermotorclub.org.au/event/mid-week-run-to-club-belrose-or-terrey-hills-tavern-114/
LOCATION:Club Belrose\, 146 Forest Way\, Belrose\, New South Wales\, Australia
ATTACH;FMTTYPE=image/jpeg:https://www.pittwatermotorclub.org.au/wp-content/uploads/2021/03/belrose2-1.jpg
END:VEVENT
BEGIN:VEVENT
DTSTART;TZID=Australia/Sydney:20240517T080000
DTEND;TZID=Australia/Sydney:20240520T170000
DTSTAMP:20260421T050332
CREATED:20230808T034410Z
LAST-MODIFIED:20240514T014905Z
UID:13506-1715932800-1716224400@www.pittwatermotorclub.org.au
SUMMARY:PMEA Regional NSW Discovery Tour-Berry and Surrounds
DESCRIPTION:Tonight's General Meeting will feature our special Guest Speaker Andrew Taurins from AMHF. \nBroadly\, a 30 min Powerpoint will be presented\, followed by a short Q&A afterwards. \nWho and Where are we (the AMHF) and what are our goals? \n\nWhat have AMHF got available to look at\, either in person or on-line and the cost?\nHow can PMEA members can benefit in their homes digitally or by visiting AMHF for access to data?\nWhat AMHF is looking for at present in terms of research material to be donated by PMEA members?\nWhen/How can PMEA members interact further and future with AMHF?\n\nBe sure to check out below the Australian Motor Heritage Foundation website before the meeting\, there is lots of interesting content to spend many an hour reading.  \nAMHF Link \nThis will prove to be a very interesting meeting - so don't miss it!! \nJoin us for complimentary sausage rolls and party pies (one per person please)  and a chat all things motoring after the General Meeting in 'Wok O'Clock' bar area. \nMembers may also purchase beverages at the main bar at very reasonable club prices. \n 
URL:https://www.pittwatermotorclub.org.au/event/pmea-regional-nsw-discovery-tour-berry-and-surrounds/
LOCATION:NSW
CATEGORIES:Display Day,Regional NSW PMEA Trip,Special Event
ORGANIZER;CN="President and Events - David Cawthorn":MAILTO:president2022pmea@gmail.com
END:VEVENT
BEGIN:VEVENT
DTSTART;TZID=Australia/Sydney:20240522T130000
DTEND;TZID=Australia/Sydney:20240522T150000
DTSTAMP:20260421T050332
CREATED:20240319T230649Z
LAST-MODIFIED:20240319T230650Z
UID:23999-1716382800-1716390000@www.pittwatermotorclub.org.au
SUMMARY:Mid-Week Run to Club Belrose or Terrey Hills Tavern
DESCRIPTION:Tonight's General Meeting will feature our special Guest Speaker Andrew Taurins from AMHF. \nBroadly\, a 30 min Powerpoint will be presented\, followed by a short Q&A afterwards. \nWho and Where are we (the AMHF) and what are our goals? \n\nWhat have AMHF got available to look at\, either in person or on-line and the cost?\nHow can PMEA members can benefit in their homes digitally or by visiting AMHF for access to data?\nWhat AMHF is looking for at present in terms of research material to be donated by PMEA members?\nWhen/How can PMEA members interact further and future with AMHF?\n\nBe sure to check out below the Australian Motor Heritage Foundation website before the meeting\, there is lots of interesting content to spend many an hour reading.  \nAMHF Link \nThis will prove to be a very interesting meeting - so don't miss it!! \nJoin us for complimentary sausage rolls and party pies (one per person please)  and a chat all things motoring after the General Meeting in 'Wok O'Clock' bar area. \nMembers may also purchase beverages at the main bar at very reasonable club prices. \n 
URL:https://www.pittwatermotorclub.org.au/event/mid-week-run-to-club-belrose-or-terrey-hills-tavern-115/
LOCATION:Club Belrose\, 146 Forest Way\, Belrose\, New South Wales\, Australia
ATTACH;FMTTYPE=image/jpeg:https://www.pittwatermotorclub.org.au/wp-content/uploads/2021/03/belrose2-1.jpg
END:VEVENT
BEGIN:VEVENT
DTSTART;TZID=Australia/Sydney:20240528T193000
DTEND;TZID=Australia/Sydney:20240528T210000
DTSTAMP:20260421T050332
CREATED:20231111T062602Z
LAST-MODIFIED:20240403T033957Z
UID:21715-1716924600-1716930000@www.pittwatermotorclub.org.au
SUMMARY:General Meeting - Pittwater RSL
DESCRIPTION:Tonight's General Meeting will feature our special Guest Speaker Andrew Taurins from AMHF. \nBroadly\, a 30 min Powerpoint will be presented\, followed by a short Q&A afterwards. \nWho and Where are we (the AMHF) and what are our goals? \n\nWhat have AMHF got available to look at\, either in person or on-line and the cost?\nHow can PMEA members can benefit in their homes digitally or by visiting AMHF for access to data?\nWhat AMHF is looking for at present in terms of research material to be donated by PMEA members?\nWhen/How can PMEA members interact further and future with AMHF?\n\nBe sure to check out below the Australian Motor Heritage Foundation website before the meeting\, there is lots of interesting content to spend many an hour reading.  \nAMHF Link \nThis will prove to be a very interesting meeting - so don't miss it!! \nJoin us for complimentary sausage rolls and party pies (one per person please)  and a chat all things motoring after the General Meeting in 'Wok O'Clock' bar area. \nMembers may also purchase beverages at the main bar at very reasonable club prices. \n 
URL:https://www.pittwatermotorclub.org.au/event/general-meeting-pittwater-rsl-15/
LOCATION:Pittwater RSL\, 82 Mona Vale Rd\, Mona Vale\, NSW\, 2103\, Australia
ATTACH;FMTTYPE=image/jpeg:https://www.pittwatermotorclub.org.au/wp-content/uploads/2023/04/Pittwater-RSL-Aerial.jpeg
ORGANIZER;CN="President and Events - David Cawthorn":MAILTO:president2022pmea@gmail.com
END:VEVENT
BEGIN:VEVENT
DTSTART;TZID=Australia/Sydney:20240529T130000
DTEND;TZID=Australia/Sydney:20240529T150000
DTSTAMP:20260421T050332
CREATED:20240319T230747Z
LAST-MODIFIED:20240319T230747Z
UID:24001-1716987600-1716994800@www.pittwatermotorclub.org.au
SUMMARY:Mid-Week Run to Club Belrose or Terrey Hills Tavern
DESCRIPTION:Tonight's General Meeting will feature our special Guest Speaker Andrew Taurins from AMHF. \nBroadly\, a 30 min Powerpoint will be presented\, followed by a short Q&A afterwards. \nWho and Where are we (the AMHF) and what are our goals? \n\nWhat have AMHF got available to look at\, either in person or on-line and the cost?\nHow can PMEA members can benefit in their homes digitally or by visiting AMHF for access to data?\nWhat AMHF is looking for at present in terms of research material to be donated by PMEA members?\nWhen/How can PMEA members interact further and future with AMHF?\n\nBe sure to check out below the Australian Motor Heritage Foundation website before the meeting\, there is lots of interesting content to spend many an hour reading.  \nAMHF Link \nThis will prove to be a very interesting meeting - so don't miss it!! \nJoin us for complimentary sausage rolls and party pies (one per person please)  and a chat all things motoring after the General Meeting in 'Wok O'Clock' bar area. \nMembers may also purchase beverages at the main bar at very reasonable club prices. \n 
URL:https://www.pittwatermotorclub.org.au/event/mid-week-run-to-club-belrose-or-terrey-hills-tavern-116/
LOCATION:Club Belrose\, 146 Forest Way\, Belrose\, New South Wales\, Australia
ATTACH;FMTTYPE=image/jpeg:https://www.pittwatermotorclub.org.au/wp-content/uploads/2021/03/belrose2-1.jpg
END:VEVENT
END:VCALENDAR