BEGIN:VCALENDAR
VERSION:2.0
PRODID:-//Pittwater Motor Enthusiasts Association - ECPv6.15.15//NONSGML v1.0//EN
CALSCALE:GREGORIAN
METHOD:PUBLISH
X-WR-CALNAME:Pittwater Motor Enthusiasts Association
X-ORIGINAL-URL:https://www.pittwatermotorclub.org.au
X-WR-CALDESC:Events for Pittwater Motor Enthusiasts Association
REFRESH-INTERVAL;VALUE=DURATION:PT1H
X-Robots-Tag:noindex
X-PUBLISHED-TTL:PT1H
BEGIN:VTIMEZONE
TZID:Australia/Sydney
BEGIN:STANDARD
TZOFFSETFROM:+1100
TZOFFSETTO:+1000
TZNAME:AEST
DTSTART:20240406T160000
END:STANDARD
BEGIN:DAYLIGHT
TZOFFSETFROM:+1000
TZOFFSETTO:+1100
TZNAME:AEDT
DTSTART:20241005T160000
END:DAYLIGHT
BEGIN:STANDARD
TZOFFSETFROM:+1100
TZOFFSETTO:+1000
TZNAME:AEST
DTSTART:20250405T160000
END:STANDARD
BEGIN:DAYLIGHT
TZOFFSETFROM:+1000
TZOFFSETTO:+1100
TZNAME:AEDT
DTSTART:20251004T160000
END:DAYLIGHT
BEGIN:STANDARD
TZOFFSETFROM:+1100
TZOFFSETTO:+1000
TZNAME:AEST
DTSTART:20260404T160000
END:STANDARD
BEGIN:DAYLIGHT
TZOFFSETFROM:+1000
TZOFFSETTO:+1100
TZNAME:AEDT
DTSTART:20261003T160000
END:DAYLIGHT
END:VTIMEZONE
BEGIN:VEVENT
DTSTART;TZID=Australia/Sydney:20250601T070000
DTEND;TZID=Australia/Sydney:20250601T110000
DTSTAMP:20260420T004619
CREATED:20250102T032006Z
LAST-MODIFIED:20250530T010803Z
UID:26004-1748761200-1748775600@www.pittwatermotorclub.org.au
SUMMARY:AutoBrunch\, St Ives Showground - CANCELLED FOR 1st JUNE 2025
DESCRIPTION:Tonight's General Meeting will feature our special Guest Speaker Andrew Taurins from AMHF. \nBroadly\, a 30 min Powerpoint will be presented\, followed by a short Q&A afterwards. \nWho and Where are we (the AMHF) and what are our goals? \n\nWhat have AMHF got available to look at\, either in person or on-line and the cost?\nHow can PMEA members can benefit in their homes digitally or by visiting AMHF for access to data?\nWhat AMHF is looking for at present in terms of research material to be donated by PMEA members?\nWhen/How can PMEA members interact further and future with AMHF?\n\nBe sure to check out below the Australian Motor Heritage Foundation website before the meeting\, there is lots of interesting content to spend many an hour reading.  \nAMHF Link \nThis will prove to be a very interesting meeting - so don't miss it!! \nJoin us for complimentary sausage rolls and party pies (one per person please)  and a chat all things motoring after the General Meeting in 'Wok O'Clock' bar area. \nMembers may also purchase beverages at the main bar at very reasonable club prices. \n 
URL:https://www.pittwatermotorclub.org.au/event/autobrunch-st-ives-showground-20/
LOCATION:AutoBrunch\, St Ives Showground\, 450 Mona Vale Rd\, St Ives\, NSW\, 2075\, Australia
CATEGORIES:Display Day
ATTACH;FMTTYPE=image/jpeg:https://www.pittwatermotorclub.org.au/wp-content/uploads/2024/01/IMG_7416.jpg
END:VEVENT
BEGIN:VEVENT
DTSTART;TZID=Australia/Sydney:20250603T193000
DTEND;TZID=Australia/Sydney:20250603T210000
DTSTAMP:20260420T004619
CREATED:20241111T062338Z
LAST-MODIFIED:20241111T062338Z
UID:25482-1748979000-1748984400@www.pittwatermotorclub.org.au
SUMMARY:General Meeting -Pittwater RSL
DESCRIPTION:Tonight's General Meeting will feature our special Guest Speaker Andrew Taurins from AMHF. \nBroadly\, a 30 min Powerpoint will be presented\, followed by a short Q&A afterwards. \nWho and Where are we (the AMHF) and what are our goals? \n\nWhat have AMHF got available to look at\, either in person or on-line and the cost?\nHow can PMEA members can benefit in their homes digitally or by visiting AMHF for access to data?\nWhat AMHF is looking for at present in terms of research material to be donated by PMEA members?\nWhen/How can PMEA members interact further and future with AMHF?\n\nBe sure to check out below the Australian Motor Heritage Foundation website before the meeting\, there is lots of interesting content to spend many an hour reading.  \nAMHF Link \nThis will prove to be a very interesting meeting - so don't miss it!! \nJoin us for complimentary sausage rolls and party pies (one per person please)  and a chat all things motoring after the General Meeting in 'Wok O'Clock' bar area. \nMembers may also purchase beverages at the main bar at very reasonable club prices. \n 
URL:https://www.pittwatermotorclub.org.au/event/general-meeting-pittwater-rsl-34/
LOCATION:Pittwater RSL\, 82 Mona Vale Rd\, Mona Vale\, NSW\, 2103\, Australia
ATTACH;FMTTYPE=image/jpeg:https://www.pittwatermotorclub.org.au/wp-content/uploads/2023/04/Pittwater-RSL-Aerial.jpeg
ORGANIZER;CN="President and Events - David Cawthorn":MAILTO:president2022pmea@gmail.com
END:VEVENT
BEGIN:VEVENT
DTSTART;TZID=Australia/Sydney:20250604T100000
DTEND;TZID=Australia/Sydney:20250604T140000
DTSTAMP:20260420T004619
CREATED:20241124T051509Z
LAST-MODIFIED:20250102T023026Z
UID:25853-1749031200-1749045600@www.pittwatermotorclub.org.au
SUMMARY:47 Oaks Cafe\, Peats Ridge Village
DESCRIPTION:Tonight's General Meeting will feature our special Guest Speaker Andrew Taurins from AMHF. \nBroadly\, a 30 min Powerpoint will be presented\, followed by a short Q&A afterwards. \nWho and Where are we (the AMHF) and what are our goals? \n\nWhat have AMHF got available to look at\, either in person or on-line and the cost?\nHow can PMEA members can benefit in their homes digitally or by visiting AMHF for access to data?\nWhat AMHF is looking for at present in terms of research material to be donated by PMEA members?\nWhen/How can PMEA members interact further and future with AMHF?\n\nBe sure to check out below the Australian Motor Heritage Foundation website before the meeting\, there is lots of interesting content to spend many an hour reading.  \nAMHF Link \nThis will prove to be a very interesting meeting - so don't miss it!! \nJoin us for complimentary sausage rolls and party pies (one per person please)  and a chat all things motoring after the General Meeting in 'Wok O'Clock' bar area. \nMembers may also purchase beverages at the main bar at very reasonable club prices. \n 
URL:https://www.pittwatermotorclub.org.au/event/47-oaks-cafe-peats-ridge-village-4/
LOCATION:47 Oaks Cafe\, Peats Ridge Village\, 780 Peats Ridge Rd\, Peats Ridge\, NSW\, 2250\, Australia
CATEGORIES:Cafe or Restaurant,Monthly Long Run
ATTACH;FMTTYPE=image/jpeg:https://www.pittwatermotorclub.org.au/wp-content/uploads/2024/11/Peats-Ridge-1.jpg
END:VEVENT
BEGIN:VEVENT
DTSTART;TZID=Australia/Sydney:20250608T080000
DTEND;TZID=Australia/Sydney:20250608T110000
DTSTAMP:20260420T004619
CREATED:20250102T043625Z
LAST-MODIFIED:20250520T234742Z
UID:26029-1749369600-1749380400@www.pittwatermotorclub.org.au
SUMMARY:American Vehicles - Big Day Out BBQ and launch of our new     ROSS HALLIWELL MEMORIAL BBQ TRAILER
DESCRIPTION:Tonight's General Meeting will feature our special Guest Speaker Andrew Taurins from AMHF. \nBroadly\, a 30 min Powerpoint will be presented\, followed by a short Q&A afterwards. \nWho and Where are we (the AMHF) and what are our goals? \n\nWhat have AMHF got available to look at\, either in person or on-line and the cost?\nHow can PMEA members can benefit in their homes digitally or by visiting AMHF for access to data?\nWhat AMHF is looking for at present in terms of research material to be donated by PMEA members?\nWhen/How can PMEA members interact further and future with AMHF?\n\nBe sure to check out below the Australian Motor Heritage Foundation website before the meeting\, there is lots of interesting content to spend many an hour reading.  \nAMHF Link \nThis will prove to be a very interesting meeting - so don't miss it!! \nJoin us for complimentary sausage rolls and party pies (one per person please)  and a chat all things motoring after the General Meeting in 'Wok O'Clock' bar area. \nMembers may also purchase beverages at the main bar at very reasonable club prices. \n 
URL:https://www.pittwatermotorclub.org.au/event/american-vehicles-big-day-out-bbq-4/
LOCATION:McCarrs Creek Reserve\, McCarrs Creek Reserve\, Church Point\, New South Wales\, Australia
CATEGORIES:BBQ or Picnic,Display Day
ATTACH;FMTTYPE=image/jpeg:https://www.pittwatermotorclub.org.au/wp-content/uploads/2025/01/IMG_3290.jpeg
ORGANIZER;CN="President & Events - David Cawthorn":MAILTO:president2022pmea@gmail.com
END:VEVENT
BEGIN:VEVENT
DTSTART;TZID=Australia/Sydney:20250611T130000
DTEND;TZID=Australia/Sydney:20250611T150000
DTSTAMP:20260420T004619
CREATED:20241112T054816Z
LAST-MODIFIED:20241112T054816Z
UID:25631-1749646800-1749654000@www.pittwatermotorclub.org.au
SUMMARY:Mid-Week Run to Club Belrose or Terrey Hills Tavern
DESCRIPTION:Tonight's General Meeting will feature our special Guest Speaker Andrew Taurins from AMHF. \nBroadly\, a 30 min Powerpoint will be presented\, followed by a short Q&A afterwards. \nWho and Where are we (the AMHF) and what are our goals? \n\nWhat have AMHF got available to look at\, either in person or on-line and the cost?\nHow can PMEA members can benefit in their homes digitally or by visiting AMHF for access to data?\nWhat AMHF is looking for at present in terms of research material to be donated by PMEA members?\nWhen/How can PMEA members interact further and future with AMHF?\n\nBe sure to check out below the Australian Motor Heritage Foundation website before the meeting\, there is lots of interesting content to spend many an hour reading.  \nAMHF Link \nThis will prove to be a very interesting meeting - so don't miss it!! \nJoin us for complimentary sausage rolls and party pies (one per person please)  and a chat all things motoring after the General Meeting in 'Wok O'Clock' bar area. \nMembers may also purchase beverages at the main bar at very reasonable club prices. \n 
URL:https://www.pittwatermotorclub.org.au/event/mid-week-run-to-club-belrose-or-terrey-hills-tavern-151/
LOCATION:Club Belrose\, 146 Forest Way\, Belrose\, New South Wales\, Australia
ATTACH;FMTTYPE=image/jpeg:https://www.pittwatermotorclub.org.au/wp-content/uploads/2021/03/belrose2-1.jpg
END:VEVENT
BEGIN:VEVENT
DTSTART;TZID=Australia/Sydney:20250617T193000
DTEND;TZID=Australia/Sydney:20250617T210000
DTSTAMP:20260420T004619
CREATED:20241111T062446Z
LAST-MODIFIED:20241111T062446Z
UID:25484-1750188600-1750194000@www.pittwatermotorclub.org.au
SUMMARY:General Meeting -Pittwater RSL
DESCRIPTION:Tonight's General Meeting will feature our special Guest Speaker Andrew Taurins from AMHF. \nBroadly\, a 30 min Powerpoint will be presented\, followed by a short Q&A afterwards. \nWho and Where are we (the AMHF) and what are our goals? \n\nWhat have AMHF got available to look at\, either in person or on-line and the cost?\nHow can PMEA members can benefit in their homes digitally or by visiting AMHF for access to data?\nWhat AMHF is looking for at present in terms of research material to be donated by PMEA members?\nWhen/How can PMEA members interact further and future with AMHF?\n\nBe sure to check out below the Australian Motor Heritage Foundation website before the meeting\, there is lots of interesting content to spend many an hour reading.  \nAMHF Link \nThis will prove to be a very interesting meeting - so don't miss it!! \nJoin us for complimentary sausage rolls and party pies (one per person please)  and a chat all things motoring after the General Meeting in 'Wok O'Clock' bar area. \nMembers may also purchase beverages at the main bar at very reasonable club prices. \n 
URL:https://www.pittwatermotorclub.org.au/event/general-meeting-pittwater-rsl-35/
LOCATION:Pittwater RSL\, 82 Mona Vale Rd\, Mona Vale\, NSW\, 2103\, Australia
ATTACH;FMTTYPE=image/jpeg:https://www.pittwatermotorclub.org.au/wp-content/uploads/2023/04/Pittwater-RSL-Aerial.jpeg
ORGANIZER;CN="President and Events - David Cawthorn":MAILTO:president2022pmea@gmail.com
END:VEVENT
BEGIN:VEVENT
DTSTART;TZID=Australia/Sydney:20250618T130000
DTEND;TZID=Australia/Sydney:20250618T150000
DTSTAMP:20260420T004619
CREATED:20241112T054922Z
LAST-MODIFIED:20241112T054922Z
UID:25633-1750251600-1750258800@www.pittwatermotorclub.org.au
SUMMARY:Mid-Week Run to Club Belrose or Terrey Hills Tavern
DESCRIPTION:Tonight's General Meeting will feature our special Guest Speaker Andrew Taurins from AMHF. \nBroadly\, a 30 min Powerpoint will be presented\, followed by a short Q&A afterwards. \nWho and Where are we (the AMHF) and what are our goals? \n\nWhat have AMHF got available to look at\, either in person or on-line and the cost?\nHow can PMEA members can benefit in their homes digitally or by visiting AMHF for access to data?\nWhat AMHF is looking for at present in terms of research material to be donated by PMEA members?\nWhen/How can PMEA members interact further and future with AMHF?\n\nBe sure to check out below the Australian Motor Heritage Foundation website before the meeting\, there is lots of interesting content to spend many an hour reading.  \nAMHF Link \nThis will prove to be a very interesting meeting - so don't miss it!! \nJoin us for complimentary sausage rolls and party pies (one per person please)  and a chat all things motoring after the General Meeting in 'Wok O'Clock' bar area. \nMembers may also purchase beverages at the main bar at very reasonable club prices. \n 
URL:https://www.pittwatermotorclub.org.au/event/mid-week-run-to-club-belrose-or-terrey-hills-tavern-152/
LOCATION:Club Belrose\, 146 Forest Way\, Belrose\, New South Wales\, Australia
ATTACH;FMTTYPE=image/jpeg:https://www.pittwatermotorclub.org.au/wp-content/uploads/2021/03/belrose2-1.jpg
END:VEVENT
BEGIN:VEVENT
DTSTART;TZID=Australia/Sydney:20250622T080000
DTEND;TZID=Australia/Sydney:20250622T110000
DTSTAMP:20260420T004619
CREATED:20250505T010734Z
LAST-MODIFIED:20250505T010734Z
UID:26824-1750579200-1750590000@www.pittwatermotorclub.org.au
SUMMARY:Tastebuds Cafe at Hills Marketplace\, Terrey Hills
DESCRIPTION:Tonight's General Meeting will feature our special Guest Speaker Andrew Taurins from AMHF. \nBroadly\, a 30 min Powerpoint will be presented\, followed by a short Q&A afterwards. \nWho and Where are we (the AMHF) and what are our goals? \n\nWhat have AMHF got available to look at\, either in person or on-line and the cost?\nHow can PMEA members can benefit in their homes digitally or by visiting AMHF for access to data?\nWhat AMHF is looking for at present in terms of research material to be donated by PMEA members?\nWhen/How can PMEA members interact further and future with AMHF?\n\nBe sure to check out below the Australian Motor Heritage Foundation website before the meeting\, there is lots of interesting content to spend many an hour reading.  \nAMHF Link \nThis will prove to be a very interesting meeting - so don't miss it!! \nJoin us for complimentary sausage rolls and party pies (one per person please)  and a chat all things motoring after the General Meeting in 'Wok O'Clock' bar area. \nMembers may also purchase beverages at the main bar at very reasonable club prices. \n 
URL:https://www.pittwatermotorclub.org.au/event/tastebuds-cafe-at-hills-marketplace-terrey-hills-4/
LOCATION:Tastebuds Cafe at Hills Marketplace\, Terrey Hills\, 287 Mona Vale Rd\, Terrey Hills\, NSW\, 2084\, Australia
CATEGORIES:Cafe or Restaurant
ATTACH;FMTTYPE=image/jpeg:https://www.pittwatermotorclub.org.au/wp-content/uploads/2023/04/tastebuds.jpeg
ORGANIZER;CN="President & Events - David Cawthorn":MAILTO:president2022pmea@gmail.com
END:VEVENT
BEGIN:VEVENT
DTSTART;TZID=Australia/Sydney:20250625T130000
DTEND;TZID=Australia/Sydney:20250625T150000
DTSTAMP:20260420T004619
CREATED:20241112T054954Z
LAST-MODIFIED:20241112T054954Z
UID:25635-1750856400-1750863600@www.pittwatermotorclub.org.au
SUMMARY:Mid-Week Run to Club Belrose or Terrey Hills Tavern
DESCRIPTION:Tonight's General Meeting will feature our special Guest Speaker Andrew Taurins from AMHF. \nBroadly\, a 30 min Powerpoint will be presented\, followed by a short Q&A afterwards. \nWho and Where are we (the AMHF) and what are our goals? \n\nWhat have AMHF got available to look at\, either in person or on-line and the cost?\nHow can PMEA members can benefit in their homes digitally or by visiting AMHF for access to data?\nWhat AMHF is looking for at present in terms of research material to be donated by PMEA members?\nWhen/How can PMEA members interact further and future with AMHF?\n\nBe sure to check out below the Australian Motor Heritage Foundation website before the meeting\, there is lots of interesting content to spend many an hour reading.  \nAMHF Link \nThis will prove to be a very interesting meeting - so don't miss it!! \nJoin us for complimentary sausage rolls and party pies (one per person please)  and a chat all things motoring after the General Meeting in 'Wok O'Clock' bar area. \nMembers may also purchase beverages at the main bar at very reasonable club prices. \n 
URL:https://www.pittwatermotorclub.org.au/event/mid-week-run-to-club-belrose-or-terrey-hills-tavern-153/
LOCATION:Club Belrose\, 146 Forest Way\, Belrose\, New South Wales\, Australia
ATTACH;FMTTYPE=image/jpeg:https://www.pittwatermotorclub.org.au/wp-content/uploads/2021/03/belrose2-1.jpg
END:VEVENT
BEGIN:VEVENT
DTSTART;TZID=Australia/Sydney:20250628T090000
DTEND;TZID=Australia/Sydney:20250628T130000
DTSTAMP:20260420T004619
CREATED:20250508T234706Z
LAST-MODIFIED:20250513T222114Z
UID:26697-1751101200-1751115600@www.pittwatermotorclub.org.au
SUMMARY:Northern Beaches 2025 Car & Bike Show
DESCRIPTION:Tonight's General Meeting will feature our special Guest Speaker Andrew Taurins from AMHF. \nBroadly\, a 30 min Powerpoint will be presented\, followed by a short Q&A afterwards. \nWho and Where are we (the AMHF) and what are our goals? \n\nWhat have AMHF got available to look at\, either in person or on-line and the cost?\nHow can PMEA members can benefit in their homes digitally or by visiting AMHF for access to data?\nWhat AMHF is looking for at present in terms of research material to be donated by PMEA members?\nWhen/How can PMEA members interact further and future with AMHF?\n\nBe sure to check out below the Australian Motor Heritage Foundation website before the meeting\, there is lots of interesting content to spend many an hour reading.  \nAMHF Link \nThis will prove to be a very interesting meeting - so don't miss it!! \nJoin us for complimentary sausage rolls and party pies (one per person please)  and a chat all things motoring after the General Meeting in 'Wok O'Clock' bar area. \nMembers may also purchase beverages at the main bar at very reasonable club prices. \n 
URL:https://www.pittwatermotorclub.org.au/event/northern-beaches-2025-car-bike-show-draught/
LOCATION:Pittwater RSL\, 82 Mona Vale Rd\, Mona Vale\, NSW\, 2103\, Australia
CATEGORIES:Display Day,Special Event
ORGANIZER;CN="President and Events - David Cawthorn":MAILTO:president2022pmea@gmail.com
END:VEVENT
END:VCALENDAR