BEGIN:VCALENDAR
VERSION:2.0
PRODID:-//Pittwater Motor Enthusiasts Association - ECPv6.15.15//NONSGML v1.0//EN
CALSCALE:GREGORIAN
METHOD:PUBLISH
X-WR-CALNAME:Pittwater Motor Enthusiasts Association
X-ORIGINAL-URL:https://www.pittwatermotorclub.org.au
X-WR-CALDESC:Events for Pittwater Motor Enthusiasts Association
REFRESH-INTERVAL;VALUE=DURATION:PT1H
X-Robots-Tag:noindex
X-PUBLISHED-TTL:PT1H
BEGIN:VTIMEZONE
TZID:Australia/Sydney
BEGIN:STANDARD
TZOFFSETFROM:+1100
TZOFFSETTO:+1000
TZNAME:AEST
DTSTART:20240406T160000
END:STANDARD
BEGIN:DAYLIGHT
TZOFFSETFROM:+1000
TZOFFSETTO:+1100
TZNAME:AEDT
DTSTART:20241005T160000
END:DAYLIGHT
BEGIN:STANDARD
TZOFFSETFROM:+1100
TZOFFSETTO:+1000
TZNAME:AEST
DTSTART:20250405T160000
END:STANDARD
BEGIN:DAYLIGHT
TZOFFSETFROM:+1000
TZOFFSETTO:+1100
TZNAME:AEDT
DTSTART:20251004T160000
END:DAYLIGHT
BEGIN:STANDARD
TZOFFSETFROM:+1100
TZOFFSETTO:+1000
TZNAME:AEST
DTSTART:20260404T160000
END:STANDARD
BEGIN:DAYLIGHT
TZOFFSETFROM:+1000
TZOFFSETTO:+1100
TZNAME:AEDT
DTSTART:20261003T160000
END:DAYLIGHT
END:VTIMEZONE
BEGIN:VEVENT
DTSTART;TZID=Australia/Sydney:20250903T100000
DTEND;TZID=Australia/Sydney:20250903T140000
DTSTAMP:20260419T232749
CREATED:20250702T010810Z
LAST-MODIFIED:20250702T011800Z
UID:28713-1756893600-1756908000@www.pittwatermotorclub.org.au
SUMMARY:Mid-Week *LONG* Run-Waterfall Cafe\, Mt Penang Parklands\, Somersby/Kariong
DESCRIPTION:Tonight's General Meeting will feature our special Guest Speaker Andrew Taurins from AMHF. \nBroadly\, a 30 min Powerpoint will be presented\, followed by a short Q&A afterwards. \nWho and Where are we (the AMHF) and what are our goals? \n\nWhat have AMHF got available to look at\, either in person or on-line and the cost?\nHow can PMEA members can benefit in their homes digitally or by visiting AMHF for access to data?\nWhat AMHF is looking for at present in terms of research material to be donated by PMEA members?\nWhen/How can PMEA members interact further and future with AMHF?\n\nBe sure to check out below the Australian Motor Heritage Foundation website before the meeting\, there is lots of interesting content to spend many an hour reading.  \nAMHF Link \nThis will prove to be a very interesting meeting - so don't miss it!! \nJoin us for complimentary sausage rolls and party pies (one per person please)  and a chat all things motoring after the General Meeting in 'Wok O'Clock' bar area. \nMembers may also purchase beverages at the main bar at very reasonable club prices. \n 
URL:https://www.pittwatermotorclub.org.au/event/mid-week-long-run-waterfall-cafe-mt-penang-parklands-somersby-kariong/
LOCATION:Waterfall Cafe\, Mt Penang Parklands\, 49 Parklands Rd\, Somersby\, NSW\, 2250\, Australia
CATEGORIES:Cafe or Restaurant,Monthly Long Run
ATTACH;FMTTYPE=image/jpeg:https://www.pittwatermotorclub.org.au/wp-content/uploads/2022/01/Waterfall-Cafe-Mt-Penang-Gardens-1.jpg
END:VEVENT
BEGIN:VEVENT
DTSTART;TZID=Australia/Sydney:20250907T070000
DTEND;TZID=Australia/Sydney:20250907T110000
DTSTAMP:20260419T232749
CREATED:20250102T032951Z
LAST-MODIFIED:20250102T032951Z
UID:26010-1757228400-1757242800@www.pittwatermotorclub.org.au
SUMMARY:AutoBrunch\, St Ives Showground
DESCRIPTION:Tonight's General Meeting will feature our special Guest Speaker Andrew Taurins from AMHF. \nBroadly\, a 30 min Powerpoint will be presented\, followed by a short Q&A afterwards. \nWho and Where are we (the AMHF) and what are our goals? \n\nWhat have AMHF got available to look at\, either in person or on-line and the cost?\nHow can PMEA members can benefit in their homes digitally or by visiting AMHF for access to data?\nWhat AMHF is looking for at present in terms of research material to be donated by PMEA members?\nWhen/How can PMEA members interact further and future with AMHF?\n\nBe sure to check out below the Australian Motor Heritage Foundation website before the meeting\, there is lots of interesting content to spend many an hour reading.  \nAMHF Link \nThis will prove to be a very interesting meeting - so don't miss it!! \nJoin us for complimentary sausage rolls and party pies (one per person please)  and a chat all things motoring after the General Meeting in 'Wok O'Clock' bar area. \nMembers may also purchase beverages at the main bar at very reasonable club prices. \n 
URL:https://www.pittwatermotorclub.org.au/event/autobrunch-st-ives-showground-23/
LOCATION:AutoBrunch\, St Ives Showground\, 450 Mona Vale Rd\, St Ives\, NSW\, 2075\, Australia
CATEGORIES:Display Day
ATTACH;FMTTYPE=image/jpeg:https://www.pittwatermotorclub.org.au/wp-content/uploads/2024/01/IMG_7416.jpg
END:VEVENT
BEGIN:VEVENT
DTSTART;TZID=Australia/Sydney:20250909T193000
DTEND;TZID=Australia/Sydney:20250909T210000
DTSTAMP:20260419T232749
CREATED:20241111T063027Z
LAST-MODIFIED:20241111T063027Z
UID:25494-1757446200-1757451600@www.pittwatermotorclub.org.au
SUMMARY:General Meeting -Pittwater RSL
DESCRIPTION:Tonight's General Meeting will feature our special Guest Speaker Andrew Taurins from AMHF. \nBroadly\, a 30 min Powerpoint will be presented\, followed by a short Q&A afterwards. \nWho and Where are we (the AMHF) and what are our goals? \n\nWhat have AMHF got available to look at\, either in person or on-line and the cost?\nHow can PMEA members can benefit in their homes digitally or by visiting AMHF for access to data?\nWhat AMHF is looking for at present in terms of research material to be donated by PMEA members?\nWhen/How can PMEA members interact further and future with AMHF?\n\nBe sure to check out below the Australian Motor Heritage Foundation website before the meeting\, there is lots of interesting content to spend many an hour reading.  \nAMHF Link \nThis will prove to be a very interesting meeting - so don't miss it!! \nJoin us for complimentary sausage rolls and party pies (one per person please)  and a chat all things motoring after the General Meeting in 'Wok O'Clock' bar area. \nMembers may also purchase beverages at the main bar at very reasonable club prices. \n 
URL:https://www.pittwatermotorclub.org.au/event/general-meeting-pittwater-rsl-40/
LOCATION:Pittwater RSL\, 82 Mona Vale Rd\, Mona Vale\, NSW\, 2103\, Australia
ATTACH;FMTTYPE=image/jpeg:https://www.pittwatermotorclub.org.au/wp-content/uploads/2023/04/Pittwater-RSL-Aerial.jpeg
ORGANIZER;CN="President and Events - David Cawthorn":MAILTO:president2022pmea@gmail.com
END:VEVENT
BEGIN:VEVENT
DTSTART;TZID=Australia/Sydney:20250910T130000
DTEND;TZID=Australia/Sydney:20250910T150000
DTSTAMP:20260419T232749
CREATED:20241112T060251Z
LAST-MODIFIED:20241112T060251Z
UID:25667-1757509200-1757516400@www.pittwatermotorclub.org.au
SUMMARY:Mid-Week Run to Club Belrose or Terrey Hills Tavern
DESCRIPTION:Tonight's General Meeting will feature our special Guest Speaker Andrew Taurins from AMHF. \nBroadly\, a 30 min Powerpoint will be presented\, followed by a short Q&A afterwards. \nWho and Where are we (the AMHF) and what are our goals? \n\nWhat have AMHF got available to look at\, either in person or on-line and the cost?\nHow can PMEA members can benefit in their homes digitally or by visiting AMHF for access to data?\nWhat AMHF is looking for at present in terms of research material to be donated by PMEA members?\nWhen/How can PMEA members interact further and future with AMHF?\n\nBe sure to check out below the Australian Motor Heritage Foundation website before the meeting\, there is lots of interesting content to spend many an hour reading.  \nAMHF Link \nThis will prove to be a very interesting meeting - so don't miss it!! \nJoin us for complimentary sausage rolls and party pies (one per person please)  and a chat all things motoring after the General Meeting in 'Wok O'Clock' bar area. \nMembers may also purchase beverages at the main bar at very reasonable club prices. \n 
URL:https://www.pittwatermotorclub.org.au/event/mid-week-run-to-club-belrose-or-terrey-hills-tavern-161/
LOCATION:Club Belrose\, 146 Forest Way\, Belrose\, New South Wales\, Australia
ATTACH;FMTTYPE=image/jpeg:https://www.pittwatermotorclub.org.au/wp-content/uploads/2021/03/belrose2-1.jpg
END:VEVENT
BEGIN:VEVENT
DTSTART;TZID=Australia/Sydney:20250914T083000
DTEND;TZID=Australia/Sydney:20250914T150000
DTSTAMP:20260419T232749
CREATED:20250107T033952Z
LAST-MODIFIED:20250806T002750Z
UID:26134-1757838600-1757862000@www.pittwatermotorclub.org.au
SUMMARY:All British Day Show and Shine 2025\, Hawkesbury Showground\, Clarendon
DESCRIPTION:Tonight's General Meeting will feature our special Guest Speaker Andrew Taurins from AMHF. \nBroadly\, a 30 min Powerpoint will be presented\, followed by a short Q&A afterwards. \nWho and Where are we (the AMHF) and what are our goals? \n\nWhat have AMHF got available to look at\, either in person or on-line and the cost?\nHow can PMEA members can benefit in their homes digitally or by visiting AMHF for access to data?\nWhat AMHF is looking for at present in terms of research material to be donated by PMEA members?\nWhen/How can PMEA members interact further and future with AMHF?\n\nBe sure to check out below the Australian Motor Heritage Foundation website before the meeting\, there is lots of interesting content to spend many an hour reading.  \nAMHF Link \nThis will prove to be a very interesting meeting - so don't miss it!! \nJoin us for complimentary sausage rolls and party pies (one per person please)  and a chat all things motoring after the General Meeting in 'Wok O'Clock' bar area. \nMembers may also purchase beverages at the main bar at very reasonable club prices. \n 
URL:https://www.pittwatermotorclub.org.au/event/all-british-day-show-and-shine-2025-hawkesbury-showground-clarendon/
LOCATION:Hawkesbury Showground\, Clarendon\, Racecourse Rd\, Clarendon\, NSW\, 2756\, Australia
CATEGORIES:BBQ or Picnic,Display Day
ATTACH;FMTTYPE=image/jpeg:https://www.pittwatermotorclub.org.au/wp-content/uploads/2025/01/IMG_0097.jpg
END:VEVENT
BEGIN:VEVENT
DTSTART;TZID=Australia/Sydney:20250917T130000
DTEND;TZID=Australia/Sydney:20250917T150000
DTSTAMP:20260419T232749
CREATED:20241112T060315Z
LAST-MODIFIED:20241112T060315Z
UID:25669-1758114000-1758121200@www.pittwatermotorclub.org.au
SUMMARY:Mid-Week Run to Club Belrose or Terrey Hills Tavern
DESCRIPTION:Tonight's General Meeting will feature our special Guest Speaker Andrew Taurins from AMHF. \nBroadly\, a 30 min Powerpoint will be presented\, followed by a short Q&A afterwards. \nWho and Where are we (the AMHF) and what are our goals? \n\nWhat have AMHF got available to look at\, either in person or on-line and the cost?\nHow can PMEA members can benefit in their homes digitally or by visiting AMHF for access to data?\nWhat AMHF is looking for at present in terms of research material to be donated by PMEA members?\nWhen/How can PMEA members interact further and future with AMHF?\n\nBe sure to check out below the Australian Motor Heritage Foundation website before the meeting\, there is lots of interesting content to spend many an hour reading.  \nAMHF Link \nThis will prove to be a very interesting meeting - so don't miss it!! \nJoin us for complimentary sausage rolls and party pies (one per person please)  and a chat all things motoring after the General Meeting in 'Wok O'Clock' bar area. \nMembers may also purchase beverages at the main bar at very reasonable club prices. \n 
URL:https://www.pittwatermotorclub.org.au/event/mid-week-run-to-club-belrose-or-terrey-hills-tavern-162/
LOCATION:Club Belrose\, 146 Forest Way\, Belrose\, New South Wales\, Australia
ATTACH;FMTTYPE=image/jpeg:https://www.pittwatermotorclub.org.au/wp-content/uploads/2021/03/belrose2-1.jpg
END:VEVENT
BEGIN:VEVENT
DTSTART;TZID=Australia/Sydney:20250923T193000
DTEND;TZID=Australia/Sydney:20250923T210000
DTSTAMP:20260419T232749
CREATED:20250102T033409Z
LAST-MODIFIED:20250102T033409Z
UID:25498-1758655800-1758661200@www.pittwatermotorclub.org.au
SUMMARY:General Meeting -Pittwater RSL
DESCRIPTION:Tonight's General Meeting will feature our special Guest Speaker Andrew Taurins from AMHF. \nBroadly\, a 30 min Powerpoint will be presented\, followed by a short Q&A afterwards. \nWho and Where are we (the AMHF) and what are our goals? \n\nWhat have AMHF got available to look at\, either in person or on-line and the cost?\nHow can PMEA members can benefit in their homes digitally or by visiting AMHF for access to data?\nWhat AMHF is looking for at present in terms of research material to be donated by PMEA members?\nWhen/How can PMEA members interact further and future with AMHF?\n\nBe sure to check out below the Australian Motor Heritage Foundation website before the meeting\, there is lots of interesting content to spend many an hour reading.  \nAMHF Link \nThis will prove to be a very interesting meeting - so don't miss it!! \nJoin us for complimentary sausage rolls and party pies (one per person please)  and a chat all things motoring after the General Meeting in 'Wok O'Clock' bar area. \nMembers may also purchase beverages at the main bar at very reasonable club prices. \n 
URL:https://www.pittwatermotorclub.org.au/event/general-meeting-pittwater-rsl-16/
LOCATION:Pittwater RSL\, 82 Mona Vale Rd\, Mona Vale\, NSW\, 2103\, Australia
ATTACH;FMTTYPE=image/jpeg:https://www.pittwatermotorclub.org.au/wp-content/uploads/2023/04/Pittwater-RSL-Aerial.jpeg
ORGANIZER;CN="President and Events - David Cawthorn":MAILTO:president2022pmea@gmail.com
END:VEVENT
BEGIN:VEVENT
DTSTART;TZID=Australia/Sydney:20250924T130000
DTEND;TZID=Australia/Sydney:20250924T150000
DTSTAMP:20260419T232749
CREATED:20241112T060342Z
LAST-MODIFIED:20241112T060342Z
UID:25671-1758718800-1758726000@www.pittwatermotorclub.org.au
SUMMARY:Mid-Week Run to Club Belrose or Terrey Hills Tavern
DESCRIPTION:Tonight's General Meeting will feature our special Guest Speaker Andrew Taurins from AMHF. \nBroadly\, a 30 min Powerpoint will be presented\, followed by a short Q&A afterwards. \nWho and Where are we (the AMHF) and what are our goals? \n\nWhat have AMHF got available to look at\, either in person or on-line and the cost?\nHow can PMEA members can benefit in their homes digitally or by visiting AMHF for access to data?\nWhat AMHF is looking for at present in terms of research material to be donated by PMEA members?\nWhen/How can PMEA members interact further and future with AMHF?\n\nBe sure to check out below the Australian Motor Heritage Foundation website before the meeting\, there is lots of interesting content to spend many an hour reading.  \nAMHF Link \nThis will prove to be a very interesting meeting - so don't miss it!! \nJoin us for complimentary sausage rolls and party pies (one per person please)  and a chat all things motoring after the General Meeting in 'Wok O'Clock' bar area. \nMembers may also purchase beverages at the main bar at very reasonable club prices. \n 
URL:https://www.pittwatermotorclub.org.au/event/mid-week-run-to-club-belrose-or-terrey-hills-tavern-163/
LOCATION:Club Belrose\, 146 Forest Way\, Belrose\, New South Wales\, Australia
ATTACH;FMTTYPE=image/jpeg:https://www.pittwatermotorclub.org.au/wp-content/uploads/2021/03/belrose2-1.jpg
END:VEVENT
BEGIN:VEVENT
DTSTART;TZID=Australia/Sydney:20250928T080000
DTEND;TZID=Australia/Sydney:20250928T110000
DTSTAMP:20260419T232749
CREATED:20250102T044807Z
LAST-MODIFIED:20250918T020022Z
UID:26027-1759046400-1759057200@www.pittwatermotorclub.org.au
SUMMARY:European and Japanese-Big Day Out BBQ
DESCRIPTION:Tonight's General Meeting will feature our special Guest Speaker Andrew Taurins from AMHF. \nBroadly\, a 30 min Powerpoint will be presented\, followed by a short Q&A afterwards. \nWho and Where are we (the AMHF) and what are our goals? \n\nWhat have AMHF got available to look at\, either in person or on-line and the cost?\nHow can PMEA members can benefit in their homes digitally or by visiting AMHF for access to data?\nWhat AMHF is looking for at present in terms of research material to be donated by PMEA members?\nWhen/How can PMEA members interact further and future with AMHF?\n\nBe sure to check out below the Australian Motor Heritage Foundation website before the meeting\, there is lots of interesting content to spend many an hour reading.  \nAMHF Link \nThis will prove to be a very interesting meeting - so don't miss it!! \nJoin us for complimentary sausage rolls and party pies (one per person please)  and a chat all things motoring after the General Meeting in 'Wok O'Clock' bar area. \nMembers may also purchase beverages at the main bar at very reasonable club prices. \n 
URL:https://www.pittwatermotorclub.org.au/event/european-japanese-and-motorbikes-big-day-out-bbq-2/
LOCATION:McCarrs Creek Reserve\, McCarrs Creek Reserve\, Church Point\, New South Wales\, Australia
CATEGORIES:BBQ or Picnic,Display Day
ATTACH;FMTTYPE=image/jpeg:https://www.pittwatermotorclub.org.au/wp-content/uploads/2023/12/IMG_7014.jpg
ORGANIZER;CN="President & Events - David Cawthorn":MAILTO:president2022pmea@gmail.com
END:VEVENT
END:VCALENDAR