BEGIN:VCALENDAR
VERSION:2.0
PRODID:-//Pittwater Motor Enthusiasts Association - ECPv6.15.15//NONSGML v1.0//EN
CALSCALE:GREGORIAN
METHOD:PUBLISH
X-WR-CALNAME:Pittwater Motor Enthusiasts Association
X-ORIGINAL-URL:https://www.pittwatermotorclub.org.au
X-WR-CALDESC:Events for Pittwater Motor Enthusiasts Association
REFRESH-INTERVAL;VALUE=DURATION:PT1H
X-Robots-Tag:noindex
X-PUBLISHED-TTL:PT1H
BEGIN:VTIMEZONE
TZID:Australia/Sydney
BEGIN:STANDARD
TZOFFSETFROM:+1100
TZOFFSETTO:+1000
TZNAME:AEST
DTSTART:20240406T160000
END:STANDARD
BEGIN:DAYLIGHT
TZOFFSETFROM:+1000
TZOFFSETTO:+1100
TZNAME:AEDT
DTSTART:20241005T160000
END:DAYLIGHT
BEGIN:STANDARD
TZOFFSETFROM:+1100
TZOFFSETTO:+1000
TZNAME:AEST
DTSTART:20250405T160000
END:STANDARD
BEGIN:DAYLIGHT
TZOFFSETFROM:+1000
TZOFFSETTO:+1100
TZNAME:AEDT
DTSTART:20251004T160000
END:DAYLIGHT
BEGIN:STANDARD
TZOFFSETFROM:+1100
TZOFFSETTO:+1000
TZNAME:AEST
DTSTART:20260404T160000
END:STANDARD
BEGIN:DAYLIGHT
TZOFFSETFROM:+1000
TZOFFSETTO:+1100
TZNAME:AEDT
DTSTART:20261003T160000
END:DAYLIGHT
END:VTIMEZONE
BEGIN:VEVENT
DTSTART;TZID=Australia/Sydney:20251102T070000
DTEND;TZID=Australia/Sydney:20251102T110000
DTSTAMP:20260420T020321
CREATED:20250102T034213Z
LAST-MODIFIED:20250102T034213Z
UID:26017-1762066800-1762081200@www.pittwatermotorclub.org.au
SUMMARY:AutoBrunch\, St Ives Showground
DESCRIPTION:Tonight's General Meeting will feature our special Guest Speaker Andrew Taurins from AMHF. \nBroadly\, a 30 min Powerpoint will be presented\, followed by a short Q&A afterwards. \nWho and Where are we (the AMHF) and what are our goals? \n\nWhat have AMHF got available to look at\, either in person or on-line and the cost?\nHow can PMEA members can benefit in their homes digitally or by visiting AMHF for access to data?\nWhat AMHF is looking for at present in terms of research material to be donated by PMEA members?\nWhen/How can PMEA members interact further and future with AMHF?\n\nBe sure to check out below the Australian Motor Heritage Foundation website before the meeting\, there is lots of interesting content to spend many an hour reading.  \nAMHF Link \nThis will prove to be a very interesting meeting - so don't miss it!! \nJoin us for complimentary sausage rolls and party pies (one per person please)  and a chat all things motoring after the General Meeting in 'Wok O'Clock' bar area. \nMembers may also purchase beverages at the main bar at very reasonable club prices. \n 
URL:https://www.pittwatermotorclub.org.au/event/autobrunch-st-ives-showground-25/
LOCATION:AutoBrunch\, St Ives Showground\, 450 Mona Vale Rd\, St Ives\, NSW\, 2075\, Australia
CATEGORIES:Display Day
ATTACH;FMTTYPE=image/jpeg:https://www.pittwatermotorclub.org.au/wp-content/uploads/2024/01/IMG_7416.jpg
END:VEVENT
BEGIN:VEVENT
DTSTART;TZID=Australia/Sydney:20251104T193000
DTEND;TZID=Australia/Sydney:20251104T210000
DTSTAMP:20260420T020321
CREATED:20241111T063341Z
LAST-MODIFIED:20241111T063341Z
UID:25502-1762284600-1762290000@www.pittwatermotorclub.org.au
SUMMARY:General Meeting -Pittwater RSL
DESCRIPTION:Tonight's General Meeting will feature our special Guest Speaker Andrew Taurins from AMHF. \nBroadly\, a 30 min Powerpoint will be presented\, followed by a short Q&A afterwards. \nWho and Where are we (the AMHF) and what are our goals? \n\nWhat have AMHF got available to look at\, either in person or on-line and the cost?\nHow can PMEA members can benefit in their homes digitally or by visiting AMHF for access to data?\nWhat AMHF is looking for at present in terms of research material to be donated by PMEA members?\nWhen/How can PMEA members interact further and future with AMHF?\n\nBe sure to check out below the Australian Motor Heritage Foundation website before the meeting\, there is lots of interesting content to spend many an hour reading.  \nAMHF Link \nThis will prove to be a very interesting meeting - so don't miss it!! \nJoin us for complimentary sausage rolls and party pies (one per person please)  and a chat all things motoring after the General Meeting in 'Wok O'Clock' bar area. \nMembers may also purchase beverages at the main bar at very reasonable club prices. \n 
URL:https://www.pittwatermotorclub.org.au/event/general-meeting-pittwater-rsl-43/
LOCATION:Pittwater RSL\, 82 Mona Vale Rd\, Mona Vale\, NSW\, 2103\, Australia
ATTACH;FMTTYPE=image/jpeg:https://www.pittwatermotorclub.org.au/wp-content/uploads/2023/04/Pittwater-RSL-Aerial.jpeg
ORGANIZER;CN="President and Events - David Cawthorn":MAILTO:president2022pmea@gmail.com
END:VEVENT
BEGIN:VEVENT
DTSTART;TZID=Australia/Sydney:20251105T100000
DTEND;TZID=Australia/Sydney:20251105T140000
DTSTAMP:20260420T020321
CREATED:20250923T045156Z
LAST-MODIFIED:20250923T045157Z
UID:29409-1762336800-1762351200@www.pittwatermotorclub.org.au
SUMMARY:Mid-Week *LONG* Run - Pie In The Sky Cafe\, Cowan
DESCRIPTION:Tonight's General Meeting will feature our special Guest Speaker Andrew Taurins from AMHF. \nBroadly\, a 30 min Powerpoint will be presented\, followed by a short Q&A afterwards. \nWho and Where are we (the AMHF) and what are our goals? \n\nWhat have AMHF got available to look at\, either in person or on-line and the cost?\nHow can PMEA members can benefit in their homes digitally or by visiting AMHF for access to data?\nWhat AMHF is looking for at present in terms of research material to be donated by PMEA members?\nWhen/How can PMEA members interact further and future with AMHF?\n\nBe sure to check out below the Australian Motor Heritage Foundation website before the meeting\, there is lots of interesting content to spend many an hour reading.  \nAMHF Link \nThis will prove to be a very interesting meeting - so don't miss it!! \nJoin us for complimentary sausage rolls and party pies (one per person please)  and a chat all things motoring after the General Meeting in 'Wok O'Clock' bar area. \nMembers may also purchase beverages at the main bar at very reasonable club prices. \n 
URL:https://www.pittwatermotorclub.org.au/event/mid-week-long-run-pie-in-the-sky-cafe-cowan-13/
LOCATION:Pie In The Sky\, Cowan\, 1296 Pacific Hwy\, Cowan\, NSW\, 2081\, Australia
CATEGORIES:Cafe or Restaurant,Monthly Long Run
ATTACH;FMTTYPE=image/jpeg:https://www.pittwatermotorclub.org.au/wp-content/uploads/2024/09/IMG_9184.jpg
END:VEVENT
BEGIN:VEVENT
DTSTART;TZID=Australia/Sydney:20251109T080000
DTEND;TZID=Australia/Sydney:20251109T110000
DTSTAMP:20260420T020321
CREATED:20251015T011102Z
LAST-MODIFIED:20251112T004216Z
UID:29621-1762675200-1762686000@www.pittwatermotorclub.org.au
SUMMARY:European & American Vehicles Run & BYO Picnic-Roseville Park\, Roseville
DESCRIPTION:Tonight's General Meeting will feature our special Guest Speaker Andrew Taurins from AMHF. \nBroadly\, a 30 min Powerpoint will be presented\, followed by a short Q&A afterwards. \nWho and Where are we (the AMHF) and what are our goals? \n\nWhat have AMHF got available to look at\, either in person or on-line and the cost?\nHow can PMEA members can benefit in their homes digitally or by visiting AMHF for access to data?\nWhat AMHF is looking for at present in terms of research material to be donated by PMEA members?\nWhen/How can PMEA members interact further and future with AMHF?\n\nBe sure to check out below the Australian Motor Heritage Foundation website before the meeting\, there is lots of interesting content to spend many an hour reading.  \nAMHF Link \nThis will prove to be a very interesting meeting - so don't miss it!! \nJoin us for complimentary sausage rolls and party pies (one per person please)  and a chat all things motoring after the General Meeting in 'Wok O'Clock' bar area. \nMembers may also purchase beverages at the main bar at very reasonable club prices. \n 
URL:https://www.pittwatermotorclub.org.au/event/european-american-vehicles-run-byo-picnic-roseville-park-roseville/
LOCATION:Roseville Park Picnic Grounds\, Clanville Rd\, Roseville\, NSW\, 2069\, Australia
CATEGORIES:BBQ or Picnic
ATTACH;FMTTYPE=image/jpeg:https://www.pittwatermotorclub.org.au/wp-content/uploads/2025/10/IMG_0751.jpg
ORGANIZER;CN="President and Events - David Cawthorn":MAILTO:president2022pmea@gmail.com
END:VEVENT
BEGIN:VEVENT
DTSTART;TZID=Australia/Sydney:20251110T090000
DTEND;TZID=Australia/Sydney:20251113T170000
DTSTAMP:20260420T020321
CREATED:20250923T032612Z
LAST-MODIFIED:20251102T001759Z
UID:29361-1762765200-1763053200@www.pittwatermotorclub.org.au
SUMMARY:Canberra and Surrounds Discovery Tour- 4days/3 nights
DESCRIPTION:Tonight's General Meeting will feature our special Guest Speaker Andrew Taurins from AMHF. \nBroadly\, a 30 min Powerpoint will be presented\, followed by a short Q&A afterwards. \nWho and Where are we (the AMHF) and what are our goals? \n\nWhat have AMHF got available to look at\, either in person or on-line and the cost?\nHow can PMEA members can benefit in their homes digitally or by visiting AMHF for access to data?\nWhat AMHF is looking for at present in terms of research material to be donated by PMEA members?\nWhen/How can PMEA members interact further and future with AMHF?\n\nBe sure to check out below the Australian Motor Heritage Foundation website before the meeting\, there is lots of interesting content to spend many an hour reading.  \nAMHF Link \nThis will prove to be a very interesting meeting - so don't miss it!! \nJoin us for complimentary sausage rolls and party pies (one per person please)  and a chat all things motoring after the General Meeting in 'Wok O'Clock' bar area. \nMembers may also purchase beverages at the main bar at very reasonable club prices. \n 
URL:https://www.pittwatermotorclub.org.au/event/canberra-and-surrounds-discovery-tour-4days-3-nights/
LOCATION:Best Western Hotel\, Narrabundah ACT\, 55 Jerrabomberra Ave\, Narrabundah\, ACT\, 2604\, Australia
CATEGORIES:Regional NSW PMEA Trip,Special Event
ORGANIZER;CN="PMEA Secretary - Gavin Rea":MAILTO:secretarypmea@outlook.com.au
END:VEVENT
BEGIN:VEVENT
DTSTART;TZID=Australia/Sydney:20251112T130000
DTEND;TZID=Australia/Sydney:20251112T150000
DTSTAMP:20260420T020321
CREATED:20241112T060740Z
LAST-MODIFIED:20241112T060741Z
UID:25681-1762952400-1762959600@www.pittwatermotorclub.org.au
SUMMARY:Mid-Week Run to Club Belrose or Terrey Hills Tavern
DESCRIPTION:Tonight's General Meeting will feature our special Guest Speaker Andrew Taurins from AMHF. \nBroadly\, a 30 min Powerpoint will be presented\, followed by a short Q&A afterwards. \nWho and Where are we (the AMHF) and what are our goals? \n\nWhat have AMHF got available to look at\, either in person or on-line and the cost?\nHow can PMEA members can benefit in their homes digitally or by visiting AMHF for access to data?\nWhat AMHF is looking for at present in terms of research material to be donated by PMEA members?\nWhen/How can PMEA members interact further and future with AMHF?\n\nBe sure to check out below the Australian Motor Heritage Foundation website before the meeting\, there is lots of interesting content to spend many an hour reading.  \nAMHF Link \nThis will prove to be a very interesting meeting - so don't miss it!! \nJoin us for complimentary sausage rolls and party pies (one per person please)  and a chat all things motoring after the General Meeting in 'Wok O'Clock' bar area. \nMembers may also purchase beverages at the main bar at very reasonable club prices. \n 
URL:https://www.pittwatermotorclub.org.au/event/mid-week-run-to-club-belrose-or-terrey-hills-tavern-168/
LOCATION:Club Belrose\, 146 Forest Way\, Belrose\, New South Wales\, Australia
ATTACH;FMTTYPE=image/jpeg:https://www.pittwatermotorclub.org.au/wp-content/uploads/2021/03/belrose2-1.jpg
END:VEVENT
BEGIN:VEVENT
DTSTART;TZID=Australia/Sydney:20251118T193000
DTEND;TZID=Australia/Sydney:20251118T210000
DTSTAMP:20260420T020321
CREATED:20241111T063419Z
LAST-MODIFIED:20241111T063419Z
UID:25506-1763494200-1763499600@www.pittwatermotorclub.org.au
SUMMARY:General Meeting -Pittwater RSL
DESCRIPTION:Tonight's General Meeting will feature our special Guest Speaker Andrew Taurins from AMHF. \nBroadly\, a 30 min Powerpoint will be presented\, followed by a short Q&A afterwards. \nWho and Where are we (the AMHF) and what are our goals? \n\nWhat have AMHF got available to look at\, either in person or on-line and the cost?\nHow can PMEA members can benefit in their homes digitally or by visiting AMHF for access to data?\nWhat AMHF is looking for at present in terms of research material to be donated by PMEA members?\nWhen/How can PMEA members interact further and future with AMHF?\n\nBe sure to check out below the Australian Motor Heritage Foundation website before the meeting\, there is lots of interesting content to spend many an hour reading.  \nAMHF Link \nThis will prove to be a very interesting meeting - so don't miss it!! \nJoin us for complimentary sausage rolls and party pies (one per person please)  and a chat all things motoring after the General Meeting in 'Wok O'Clock' bar area. \nMembers may also purchase beverages at the main bar at very reasonable club prices. \n 
URL:https://www.pittwatermotorclub.org.au/event/general-meeting-pittwater-rsl-44/
LOCATION:Pittwater RSL\, 82 Mona Vale Rd\, Mona Vale\, NSW\, 2103\, Australia
ATTACH;FMTTYPE=image/jpeg:https://www.pittwatermotorclub.org.au/wp-content/uploads/2023/04/Pittwater-RSL-Aerial.jpeg
ORGANIZER;CN="President and Events - David Cawthorn":MAILTO:president2022pmea@gmail.com
END:VEVENT
BEGIN:VEVENT
DTSTART;TZID=Australia/Sydney:20251119T130000
DTEND;TZID=Australia/Sydney:20251119T150000
DTSTAMP:20260420T020321
CREATED:20241112T060805Z
LAST-MODIFIED:20241112T060805Z
UID:25683-1763557200-1763564400@www.pittwatermotorclub.org.au
SUMMARY:Mid-Week Run to Club Belrose or Terrey Hills Tavern
DESCRIPTION:Tonight's General Meeting will feature our special Guest Speaker Andrew Taurins from AMHF. \nBroadly\, a 30 min Powerpoint will be presented\, followed by a short Q&A afterwards. \nWho and Where are we (the AMHF) and what are our goals? \n\nWhat have AMHF got available to look at\, either in person or on-line and the cost?\nHow can PMEA members can benefit in their homes digitally or by visiting AMHF for access to data?\nWhat AMHF is looking for at present in terms of research material to be donated by PMEA members?\nWhen/How can PMEA members interact further and future with AMHF?\n\nBe sure to check out below the Australian Motor Heritage Foundation website before the meeting\, there is lots of interesting content to spend many an hour reading.  \nAMHF Link \nThis will prove to be a very interesting meeting - so don't miss it!! \nJoin us for complimentary sausage rolls and party pies (one per person please)  and a chat all things motoring after the General Meeting in 'Wok O'Clock' bar area. \nMembers may also purchase beverages at the main bar at very reasonable club prices. \n 
URL:https://www.pittwatermotorclub.org.au/event/mid-week-run-to-club-belrose-or-terrey-hills-tavern-169/
LOCATION:Club Belrose\, 146 Forest Way\, Belrose\, New South Wales\, Australia
ATTACH;FMTTYPE=image/jpeg:https://www.pittwatermotorclub.org.au/wp-content/uploads/2021/03/belrose2-1.jpg
END:VEVENT
BEGIN:VEVENT
DTSTART;TZID=Australia/Sydney:20251126T130000
DTEND;TZID=Australia/Sydney:20251126T150000
DTSTAMP:20260420T020321
CREATED:20241112T060834Z
LAST-MODIFIED:20241112T060834Z
UID:25685-1764162000-1764169200@www.pittwatermotorclub.org.au
SUMMARY:Mid-Week Run to Club Belrose or Terrey Hills Tavern
DESCRIPTION:Tonight's General Meeting will feature our special Guest Speaker Andrew Taurins from AMHF. \nBroadly\, a 30 min Powerpoint will be presented\, followed by a short Q&A afterwards. \nWho and Where are we (the AMHF) and what are our goals? \n\nWhat have AMHF got available to look at\, either in person or on-line and the cost?\nHow can PMEA members can benefit in their homes digitally or by visiting AMHF for access to data?\nWhat AMHF is looking for at present in terms of research material to be donated by PMEA members?\nWhen/How can PMEA members interact further and future with AMHF?\n\nBe sure to check out below the Australian Motor Heritage Foundation website before the meeting\, there is lots of interesting content to spend many an hour reading.  \nAMHF Link \nThis will prove to be a very interesting meeting - so don't miss it!! \nJoin us for complimentary sausage rolls and party pies (one per person please)  and a chat all things motoring after the General Meeting in 'Wok O'Clock' bar area. \nMembers may also purchase beverages at the main bar at very reasonable club prices. \n 
URL:https://www.pittwatermotorclub.org.au/event/mid-week-run-to-club-belrose-or-terrey-hills-tavern-170/
LOCATION:Club Belrose\, 146 Forest Way\, Belrose\, New South Wales\, Australia
ATTACH;FMTTYPE=image/jpeg:https://www.pittwatermotorclub.org.au/wp-content/uploads/2021/03/belrose2-1.jpg
END:VEVENT
BEGIN:VEVENT
DTSTART;TZID=Australia/Sydney:20251130T080000
DTEND;TZID=Australia/Sydney:20251130T110000
DTSTAMP:20260420T020321
CREATED:20250102T042052Z
LAST-MODIFIED:20251127T045159Z
UID:26022-1764489600-1764500400@www.pittwatermotorclub.org.au
SUMMARY:British and Motorbikes-Big Day Out BBQ
DESCRIPTION:Tonight's General Meeting will feature our special Guest Speaker Andrew Taurins from AMHF. \nBroadly\, a 30 min Powerpoint will be presented\, followed by a short Q&A afterwards. \nWho and Where are we (the AMHF) and what are our goals? \n\nWhat have AMHF got available to look at\, either in person or on-line and the cost?\nHow can PMEA members can benefit in their homes digitally or by visiting AMHF for access to data?\nWhat AMHF is looking for at present in terms of research material to be donated by PMEA members?\nWhen/How can PMEA members interact further and future with AMHF?\n\nBe sure to check out below the Australian Motor Heritage Foundation website before the meeting\, there is lots of interesting content to spend many an hour reading.  \nAMHF Link \nThis will prove to be a very interesting meeting - so don't miss it!! \nJoin us for complimentary sausage rolls and party pies (one per person please)  and a chat all things motoring after the General Meeting in 'Wok O'Clock' bar area. \nMembers may also purchase beverages at the main bar at very reasonable club prices. \n 
URL:https://www.pittwatermotorclub.org.au/event/british-vehicles-big-day-out-bbq-5/
LOCATION:McCarrs Creek Reserve\, McCarrs Creek Reserve\, Church Point\, New South Wales\, Australia
CATEGORIES:BBQ or Picnic
ATTACH;FMTTYPE=image/jpeg:https://www.pittwatermotorclub.org.au/wp-content/uploads/2024/06/IMG_9464.jpg
ORGANIZER;CN="President and Events - David Cawthorn":MAILTO:president2022pmea@gmail.com
END:VEVENT
END:VCALENDAR